BEGIN:VCALENDAR
VERSION:2.0
PRODID:-//LCA  - ECPv6.15.20//NONSGML v1.0//EN
CALSCALE:GREGORIAN
METHOD:PUBLISH
X-ORIGINAL-URL:https://www.lcaviagens.com.br
X-WR-CALDESC:Eventos para LCA 
REFRESH-INTERVAL;VALUE=DURATION:PT1H
X-Robots-Tag:noindex
X-PUBLISHED-TTL:PT1H
BEGIN:VTIMEZONE
TZID:UTC
BEGIN:STANDARD
TZOFFSETFROM:+0000
TZOFFSETTO:+0000
TZNAME:UTC
DTSTART:20250101T000000
END:STANDARD
END:VTIMEZONE
BEGIN:VEVENT
DTSTART;TZID=UTC:20260611T000000
DTEND;TZID=UTC:20260612T000000
DTSTAMP:20260423T052912
CREATED:20260417T222258Z
LAST-MODIFIED:20260422T004034Z
UID:998648-1781136000-1781222400@www.lcaviagens.com.br
SUMMARY:Payroll Summit 2026
DESCRIPTION:Gestão Empresarial e Recursos Humanos
URL:https://www.lcaviagens.com.br/eventos/payroll-summit-2026/
LOCATION:Hotel Meliá Paulista\, São Paulo\, SP
CATEGORIES:Gestão Empresarial e Recursos Humanos
END:VEVENT
BEGIN:VEVENT
DTSTART;TZID=UTC:20260615T000000
DTEND;TZID=UTC:20260619T000000
DTSTAMP:20260423T052912
CREATED:20260417T222310Z
LAST-MODIFIED:20260422T004104Z
UID:998659-1781481600-1781827200@www.lcaviagens.com.br
SUMMARY:CONEXIDADES - Encontro Nacional de Parceiros Públicos e Privados
DESCRIPTION:Gestão Empresarial e Recursos Humanos
URL:https://www.lcaviagens.com.br/eventos/conexidades-encontro-nacional-de-parceiros-publicos-e-privados/
LOCATION:Campos do Jordão\, Campos do Jordão\, SP
CATEGORIES:Gestão Empresarial e Recursos Humanos
END:VEVENT
BEGIN:VEVENT
DTSTART;TZID=UTC:20260616T000000
DTEND;TZID=UTC:20260617T000000
DTSTAMP:20260423T052912
CREATED:20260417T222333Z
LAST-MODIFIED:20260422T004205Z
UID:998678-1781568000-1781654400@www.lcaviagens.com.br
SUMMARY:Corporate Treasury Summit 2026
DESCRIPTION:Gestão Empresarial e Recursos Humanos
URL:https://www.lcaviagens.com.br/eventos/corporate-treasury-summit-2026/
LOCATION:Hotel Meliá Paulista\, São Paulo\, SP
CATEGORIES:Gestão Empresarial e Recursos Humanos
END:VEVENT
BEGIN:VEVENT
DTSTART;TZID=UTC:20260622T000000
DTEND;TZID=UTC:20260623T000000
DTSTAMP:20260423T052912
CREATED:20260417T222412Z
LAST-MODIFIED:20260422T004349Z
UID:998723-1782086400-1782172800@www.lcaviagens.com.br
SUMMARY:Production Planning & Control 2026
DESCRIPTION:Gestão Empresarial e Recursos Humanos
URL:https://www.lcaviagens.com.br/eventos/production-planning-control-2026/
LOCATION:Hotel Intercontinental\, São Paulo\, SP
CATEGORIES:Gestão Empresarial e Recursos Humanos
END:VEVENT
BEGIN:VEVENT
DTSTART;TZID=UTC:20260623T000000
DTEND;TZID=UTC:20260625T000000
DTSTAMP:20260423T052912
CREATED:20260417T222412Z
LAST-MODIFIED:20260422T004349Z
UID:998725-1782172800-1782345600@www.lcaviagens.com.br
SUMMARY:Summit Cidades 2026
DESCRIPTION:Gestão Empresarial e Recursos Humanos
URL:https://www.lcaviagens.com.br/eventos/summit-cidades-2026/
LOCATION:Centrosul – Centro de Convenções de Florianópolis\, Ribeirão Preto\, SP
CATEGORIES:Gestão Empresarial e Recursos Humanos
END:VEVENT
BEGIN:VEVENT
DTSTART;TZID=UTC:20260625T000000
DTEND;TZID=UTC:20260626T000000
DTSTAMP:20260423T052912
CREATED:20260417T222448Z
LAST-MODIFIED:20260422T004449Z
UID:998752-1782345600-1782432000@www.lcaviagens.com.br
SUMMARY:VMO Starters Summit 2026
DESCRIPTION:Gestão Empresarial e Recursos Humanos
URL:https://www.lcaviagens.com.br/eventos/vmo-starters-summit-2026/
LOCATION:Hotel Meliá Paulista\, São Paulo\, SP
CATEGORIES:Gestão Empresarial e Recursos Humanos
END:VEVENT
BEGIN:VEVENT
DTSTART;TZID=UTC:20260629T000000
DTEND;TZID=UTC:20260630T000000
DTSTAMP:20260423T052912
CREATED:20260417T222510Z
LAST-MODIFIED:20260422T004549Z
UID:998775-1782691200-1782777600@www.lcaviagens.com.br
SUMMARY:Fórum B2B
DESCRIPTION:Gestão Empresarial e Recursos Humanos
URL:https://www.lcaviagens.com.br/eventos/forum-b2b/
LOCATION:Grand Mercure São Paulo Vila Olimpia\, Sao Paulo\, SP
CATEGORIES:Gestão Empresarial e Recursos Humanos
END:VEVENT
BEGIN:VEVENT
DTSTART;TZID=UTC:20260630T000000
DTEND;TZID=UTC:20260701T000000
DTSTAMP:20260423T052912
CREATED:20260418T032026Z
LAST-MODIFIED:20260422T004604Z
UID:1001274-1782777600-1782864000@www.lcaviagens.com.br
SUMMARY:People Analytics Summit 2026
DESCRIPTION:Gestão Empresarial e Recursos Humanos
URL:https://www.lcaviagens.com.br/eventos/people-analytics-summit-2026/
LOCATION:Hotel Meliá Paulista\, São Paulo\, SP
CATEGORIES:Gestão Empresarial e Recursos Humanos
END:VEVENT
BEGIN:VEVENT
DTSTART;TZID=UTC:20260701T000000
DTEND;TZID=UTC:20260701T000000
DTSTAMP:20260423T052912
CREATED:20260417T222628Z
LAST-MODIFIED:20260422T004919Z
UID:998875-1782864000-1782864000@www.lcaviagens.com.br
SUMMARY:Pricing Day
DESCRIPTION:Gestão Empresarial e Recursos Humanos
URL:https://www.lcaviagens.com.br/eventos/pricing-day/
LOCATION:Grand Mercure São Paulo Vila Olimpia\, Sao Paulo\, SP
CATEGORIES:Gestão Empresarial e Recursos Humanos
END:VEVENT
BEGIN:VEVENT
DTSTART;TZID=UTC:20260709T000000
DTEND;TZID=UTC:20260710T000000
DTSTAMP:20260423T052912
CREATED:20260417T222723Z
LAST-MODIFIED:20260422T005119Z
UID:998914-1783555200-1783641600@www.lcaviagens.com.br
SUMMARY:CONCARH 2026 - Congresso Catarinense sobre Gestão de Pessoas
DESCRIPTION:Gestão Empresarial e Recursos Humanos
URL:https://www.lcaviagens.com.br/eventos/concarh-2026-congresso-catarinense-sobre-gestao-de-pessoas/
LOCATION:Centrosul – Centro de Convenções de Florianópolis\, Ribeirão Preto\, SP
CATEGORIES:Gestão Empresarial e Recursos Humanos
END:VEVENT
BEGIN:VEVENT
DTSTART;TZID=UTC:20260709T000000
DTEND;TZID=UTC:20260710T000000
DTSTAMP:20260423T052912
CREATED:20260418T035411Z
LAST-MODIFIED:20260422T012109Z
UID:1001947-1783555200-1783641600@www.lcaviagens.com.br
SUMMARY:EXPOCARH - Exposição Catarinense de Recursos Humanos
DESCRIPTION:Gestão Empresarial e Recursos Humanos
URL:https://www.lcaviagens.com.br/eventos/expocarh-exposicao-catarinense-de-recursos-humanos/
LOCATION:Centrosul – Centro de Convenções de Florianópolis\, Ribeirão Preto\, SP
CATEGORIES:Gestão Empresarial e Recursos Humanos
END:VEVENT
BEGIN:VEVENT
DTSTART;TZID=UTC:20260715T000000
DTEND;TZID=UTC:20260715T000000
DTSTAMP:20260423T052912
CREATED:20260417T222747Z
LAST-MODIFIED:20260422T005219Z
UID:998934-1784073600-1784073600@www.lcaviagens.com.br
SUMMARY:Speed Meeting - Marketing & Vendas (São Paulo) (Julho)
DESCRIPTION:Gestão Empresarial e Recursos Humanos
URL:https://www.lcaviagens.com.br/eventos/speed-meeting-marketing-vendas-sao-paulo-julho/
LOCATION:São Paulo\, São Paulo\, SP
CATEGORIES:Gestão Empresarial e Recursos Humanos
END:VEVENT
BEGIN:VEVENT
DTSTART;TZID=UTC:20260715T000000
DTEND;TZID=UTC:20260715T000000
DTSTAMP:20260423T052912
CREATED:20260417T222747Z
LAST-MODIFIED:20260422T005219Z
UID:998935-1784073600-1784073600@www.lcaviagens.com.br
SUMMARY:Speed Meeting - RH Benefícios (São Paulo) (Julho)
DESCRIPTION:Gestão Empresarial e Recursos Humanos
URL:https://www.lcaviagens.com.br/eventos/speed-meeting-rh-beneficios-sao-paulo-julho/
LOCATION:São Paulo\, São Paulo\, SP
CATEGORIES:Gestão Empresarial e Recursos Humanos
END:VEVENT
BEGIN:VEVENT
DTSTART;TZID=UTC:20260811T000000
DTEND;TZID=UTC:20260811T000000
DTSTAMP:20260423T052912
CREATED:20260417T223139Z
LAST-MODIFIED:20260422T010234Z
UID:999245-1786406400-1786406400@www.lcaviagens.com.br
SUMMARY:Speed Meeting - MICE (Recife) (Agosto)
DESCRIPTION:Gestão Empresarial e Recursos Humanos
URL:https://www.lcaviagens.com.br/eventos/speed-meeting-mice-recife-agosto/
LOCATION:Recife Expo Center\, Recife\, PE
CATEGORIES:Gestão Empresarial e Recursos Humanos
END:VEVENT
BEGIN:VEVENT
DTSTART;TZID=UTC:20260811T000000
DTEND;TZID=UTC:20260812T000000
DTSTAMP:20260423T052912
CREATED:20260417T223139Z
LAST-MODIFIED:20260422T010234Z
UID:999247-1786406400-1786492800@www.lcaviagens.com.br
SUMMARY:Fórum de Práticas em S&OP e IBP
DESCRIPTION:Gestão Empresarial e Recursos Humanos
URL:https://www.lcaviagens.com.br/eventos/forum-de-praticas-em-sop-e-ibp/
LOCATION:Hotel Blue Tree Morumbi\, São Paulo\, SP
CATEGORIES:Gestão Empresarial e Recursos Humanos
END:VEVENT
BEGIN:VEVENT
DTSTART;TZID=UTC:20260818T000000
DTEND;TZID=UTC:20260820T000000
DTSTAMP:20260423T052912
CREATED:20260417T223218Z
LAST-MODIFIED:20260422T010404Z
UID:999305-1787011200-1787184000@www.lcaviagens.com.br
SUMMARY:CONARH 2026 - Congresso Nacional de Gestão de Pessoas
DESCRIPTION:Gestão Empresarial e Recursos Humanos
URL:https://www.lcaviagens.com.br/eventos/conarh-2026-congresso-nacional-de-gestao-de-pessoas/
LOCATION:São Paulo Expo Exhibition & Convention Center\, São Paulo\, SP
CATEGORIES:Gestão Empresarial e Recursos Humanos
END:VEVENT
BEGIN:VEVENT
DTSTART;TZID=UTC:20260825T000000
DTEND;TZID=UTC:20260825T000000
DTSTAMP:20260423T052912
CREATED:20260417T223255Z
LAST-MODIFIED:20260422T010549Z
UID:999376-1787616000-1787616000@www.lcaviagens.com.br
SUMMARY:Speed Meeting - MICE (Campinas) (Agosto)
DESCRIPTION:Gestão Empresarial e Recursos Humanos
URL:https://www.lcaviagens.com.br/eventos/speed-meeting-mice-campinas-agosto/
LOCATION:Royal Palm Hall\, Campinas\, SP
CATEGORIES:Gestão Empresarial e Recursos Humanos
END:VEVENT
BEGIN:VEVENT
DTSTART;TZID=UTC:20260825T000000
DTEND;TZID=UTC:20260826T000000
DTSTAMP:20260423T052912
CREATED:20260417T223303Z
LAST-MODIFIED:20260422T010604Z
UID:999384-1787616000-1787702400@www.lcaviagens.com.br
SUMMARY:Fórum de Inovação em Procurement
DESCRIPTION:Gestão Empresarial e Recursos Humanos
URL:https://www.lcaviagens.com.br/eventos/forum-de-inovacao-em-procurement/
LOCATION:Hotel Blue Tree Morumbi\, São Paulo\, SP
CATEGORIES:Gestão Empresarial e Recursos Humanos
END:VEVENT
BEGIN:VEVENT
DTSTART;TZID=UTC:20260826T000000
DTEND;TZID=UTC:20260828T000000
DTSTAMP:20260423T052912
CREATED:20260417T223307Z
LAST-MODIFIED:20260422T010619Z
UID:999393-1787702400-1787875200@www.lcaviagens.com.br
SUMMARY:CONEX 2026 - Congresso de Excelência em Contratações Púbicas
DESCRIPTION:Gestão Empresarial e Recursos Humanos
URL:https://www.lcaviagens.com.br/eventos/conex-2026-congresso-de-excelencia-em-contratacoes-pubicas/
LOCATION:Goiânia\, Goiânia\, GO
CATEGORIES:Gestão Empresarial e Recursos Humanos
END:VEVENT
BEGIN:VEVENT
DTSTART;TZID=UTC:20260901T000000
DTEND;TZID=UTC:20260901T000000
DTSTAMP:20260423T052912
CREATED:20260418T034426Z
LAST-MODIFIED:20260422T011034Z
UID:1001750-1788220800-1788220800@www.lcaviagens.com.br
SUMMARY:COMPRAR - Fórum e Expo 2026 (Fórum Comprar) (Fórum Nacional de Compras)
DESCRIPTION:Gestão Empresarial e Recursos Humanos
URL:https://www.lcaviagens.com.br/eventos/comprar-forum-e-expo-2026-forum-comprar-forum-nacional-de-compras/
LOCATION:Centro de Convenções Frei Caneca\, São Paulo\, SP
CATEGORIES:Gestão Empresarial e Recursos Humanos
END:VEVENT
BEGIN:VEVENT
DTSTART;TZID=UTC:20260908T000000
DTEND;TZID=UTC:20260908T000000
DTSTAMP:20260423T052912
CREATED:20260418T034626Z
LAST-MODIFIED:20260422T011234Z
UID:1001789-1788825600-1788825600@www.lcaviagens.com.br
SUMMARY:Brasil ESG Summit 2026
DESCRIPTION:Gestão Empresarial e Recursos Humanos
URL:https://www.lcaviagens.com.br/eventos/brasil-esg-summit-2026/
LOCATION:Alphaville\, Barueri\, SP
CATEGORIES:Gestão Empresarial e Recursos Humanos
END:VEVENT
BEGIN:VEVENT
DTSTART;TZID=UTC:20260917T000000
DTEND;TZID=UTC:20260917T000000
DTSTAMP:20260423T052912
CREATED:20260418T034812Z
LAST-MODIFIED:20260422T011437Z
UID:1001827-1789603200-1789603200@www.lcaviagens.com.br
SUMMARY:Speed Meeting - MICE (Curitiba) (Setembro)
DESCRIPTION:Gestão Empresarial e Recursos Humanos
URL:https://www.lcaviagens.com.br/eventos/speed-meeting-mice-curitiba-setembro/
LOCATION:Pestana Curitiba\, Curitiba\, PR
CATEGORIES:Gestão Empresarial e Recursos Humanos
END:VEVENT
BEGIN:VEVENT
DTSTART;TZID=UTC:20260922T000000
DTEND;TZID=UTC:20260922T000000
DTSTAMP:20260423T052912
CREATED:20260418T034911Z
LAST-MODIFIED:20260422T011608Z
UID:1001844-1790035200-1790035200@www.lcaviagens.com.br
SUMMARY:Brasil Fintech & Finance Summit 2026
DESCRIPTION:Gestão Empresarial e Recursos Humanos
URL:https://www.lcaviagens.com.br/eventos/brasil-fintech-finance-summit-2026/
LOCATION:Alphaville\, Barueri\, SP
CATEGORIES:Gestão Empresarial e Recursos Humanos
END:VEVENT
BEGIN:VEVENT
DTSTART;TZID=UTC:20260922T000000
DTEND;TZID=UTC:20260923T000000
DTSTAMP:20260423T052912
CREATED:20260418T034911Z
LAST-MODIFIED:20260422T011608Z
UID:1001846-1790035200-1790121600@www.lcaviagens.com.br
SUMMARY:Congresso de Gestão de Contratos
DESCRIPTION:Gestão Empresarial e Recursos Humanos
URL:https://www.lcaviagens.com.br/eventos/congresso-de-gestao-de-contratos/
LOCATION:Novotel Center Norte\, São Paulo\, SP
CATEGORIES:Gestão Empresarial e Recursos Humanos
END:VEVENT
BEGIN:VEVENT
DTSTART;TZID=UTC:20260923T000000
DTEND;TZID=UTC:20260924T000000
DTSTAMP:20260423T052912
CREATED:20260418T034941Z
LAST-MODIFIED:20260422T011638Z
UID:1001853-1790121600-1790208000@www.lcaviagens.com.br
SUMMARY:A Era do Diálogo
DESCRIPTION:Gestão Empresarial e Recursos Humanos
URL:https://www.lcaviagens.com.br/eventos/a-era-do-dialogo/
LOCATION:Transamérica Expo Center\, São Paulo\, SP
CATEGORIES:Gestão Empresarial e Recursos Humanos
END:VEVENT
BEGIN:VEVENT
DTSTART;TZID=UTC:20260930T000000
DTEND;TZID=UTC:20261002T000000
DTSTAMP:20260423T052912
CREATED:20260418T035112Z
LAST-MODIFIED:20260422T011809Z
UID:1001887-1790726400-1790899200@www.lcaviagens.com.br
SUMMARY:CONGREGARH - Congresso de Gestão de Pessoas ABRH-RS
DESCRIPTION:Gestão Empresarial e Recursos Humanos
URL:https://www.lcaviagens.com.br/eventos/congregarh-congresso-de-gestao-de-pessoas-abrh-rs/
LOCATION:Centro de Eventos PUCRS\, Porto Alegre\, RS
CATEGORIES:Gestão Empresarial e Recursos Humanos
END:VEVENT
BEGIN:VEVENT
DTSTART;TZID=UTC:20260930T000000
DTEND;TZID=UTC:20261002T000000
DTSTAMP:20260423T052912
CREATED:20260418T035126Z
LAST-MODIFIED:20260422T011823Z
UID:1001888-1790726400-1790899200@www.lcaviagens.com.br
SUMMARY:EXPOCONGREGARH
DESCRIPTION:Gestão Empresarial e Recursos Humanos
URL:https://www.lcaviagens.com.br/eventos/expocongregarh/
LOCATION:Centro de Eventos PUCRS\, Porto Alegre\, RS
CATEGORIES:Gestão Empresarial e Recursos Humanos
END:VEVENT
BEGIN:VEVENT
DTSTART;TZID=UTC:20261006T000000
DTEND;TZID=UTC:20261006T000000
DTSTAMP:20260423T052912
CREATED:20260418T035327Z
LAST-MODIFIED:20260422T012023Z
UID:1001932-1791244800-1791244800@www.lcaviagens.com.br
SUMMARY:W6 Brasil HR Summit 2026
DESCRIPTION:Gestão Empresarial e Recursos Humanos
URL:https://www.lcaviagens.com.br/eventos/w6-brasil-hr-summit-2026/
LOCATION:Alphaville\, Barueri\, SP
CATEGORIES:Gestão Empresarial e Recursos Humanos
END:VEVENT
BEGIN:VEVENT
DTSTART;TZID=UTC:20261021T000000
DTEND;TZID=UTC:20261021T000000
DTSTAMP:20260423T052912
CREATED:20260418T035642Z
LAST-MODIFIED:20260422T012339Z
UID:1001995-1792540800-1792540800@www.lcaviagens.com.br
SUMMARY:Speed Meeting - MICE (Brasília) (Outubro)
DESCRIPTION:Gestão Empresarial e Recursos Humanos
URL:https://www.lcaviagens.com.br/eventos/speed-meeting-mice-brasilia-outubro/
LOCATION:Windsor Brasília Hotel\, Brasília\, DF
CATEGORIES:Gestão Empresarial e Recursos Humanos
END:VEVENT
BEGIN:VEVENT
DTSTART;TZID=UTC:20261027T000000
DTEND;TZID=UTC:20261029T000000
DTSTAMP:20260423T052912
CREATED:20260418T035726Z
LAST-MODIFIED:20260422T012423Z
UID:1002010-1793059200-1793232000@www.lcaviagens.com.br
SUMMARY:FENALAW - Exposição e Congressos para o Mercado Jurídico
DESCRIPTION:Gestão Empresarial e Recursos Humanos
URL:https://www.lcaviagens.com.br/eventos/fenalaw-exposicao-e-congressos-para-o-mercado-juridico/
LOCATION:Centro de Convenções Frei Caneca\, São Paulo\, SP
CATEGORIES:Gestão Empresarial e Recursos Humanos
END:VEVENT
END:VCALENDAR