BEGIN:VCALENDAR
VERSION:2.0
PRODID:-//LCA  - ECPv6.15.20//NONSGML v1.0//EN
CALSCALE:GREGORIAN
METHOD:PUBLISH
X-ORIGINAL-URL:https://www.lcaviagens.com.br
X-WR-CALDESC:Eventos para LCA 
REFRESH-INTERVAL;VALUE=DURATION:PT1H
X-Robots-Tag:noindex
X-PUBLISHED-TTL:PT1H
BEGIN:VTIMEZONE
TZID:UTC
BEGIN:STANDARD
TZOFFSETFROM:+0000
TZOFFSETTO:+0000
TZNAME:UTC
DTSTART:20250101T000000
END:STANDARD
END:VTIMEZONE
BEGIN:VEVENT
DTSTART;TZID=UTC:20260424T000000
DTEND;TZID=UTC:20260424T000000
DTSTAMP:20260423T011602
CREATED:20260417T155736Z
LAST-MODIFIED:20260422T001519Z
UID:996921-1776988800-1776988800@www.lcaviagens.com.br
SUMMARY:Expo Gestão & RH Jaguariúna 2026
DESCRIPTION:Gestão Empresarial e Recursos Humanos
URL:https://www.lcaviagens.com.br/eventos/expo-gestao-rh-jaguariuna-2026/
LOCATION:Red Eventos\, Jaguariúna\, SP
CATEGORIES:Gestão Empresarial e Recursos Humanos
END:VEVENT
BEGIN:VEVENT
DTSTART;TZID=UTC:20260428T000000
DTEND;TZID=UTC:20260429T000000
DTSTAMP:20260423T011602
CREATED:20260417T155921Z
LAST-MODIFIED:20260422T001705Z
UID:996957-1777334400-1777420800@www.lcaviagens.com.br
SUMMARY:CDIC - Congresso de Diversidade\, Equidade e Inclusão Corporativa 2026
DESCRIPTION:Gestão Empresarial e Recursos Humanos
URL:https://www.lcaviagens.com.br/eventos/cdic-congresso-de-diversidade-equidade-e-inclusao-corporativa-2026/
LOCATION:Hotel Meliá Paulista\, São Paulo\, SP
CATEGORIES:Gestão Empresarial e Recursos Humanos
END:VEVENT
BEGIN:VEVENT
DTSTART;TZID=UTC:20260428T000000
DTEND;TZID=UTC:20260430T000000
DTSTAMP:20260423T011602
CREATED:20260417T155852Z
LAST-MODIFIED:20260422T001634Z
UID:996950-1777334400-1777507200@www.lcaviagens.com.br
SUMMARY:CBGPL 2026 - Congresso Brasileiro de Gestão\, Projetos e Liderança
DESCRIPTION:Gestão Empresarial e Recursos Humanos
URL:https://www.lcaviagens.com.br/eventos/cbgpl-2026-congresso-brasileiro-de-gestao-projetos-e-lideranca/
LOCATION:Wish Serrano Resort & Convention Gramado\, Gramado\, RS
CATEGORIES:Gestão Empresarial e Recursos Humanos
END:VEVENT
END:VCALENDAR