BEGIN:VCALENDAR
VERSION:2.0
PRODID:-//LCA  - ECPv6.15.20//NONSGML v1.0//EN
CALSCALE:GREGORIAN
METHOD:PUBLISH
X-ORIGINAL-URL:https://www.lcaviagens.com.br
X-WR-CALDESC:Eventos para LCA 
REFRESH-INTERVAL;VALUE=DURATION:PT1H
X-Robots-Tag:noindex
X-PUBLISHED-TTL:PT1H
BEGIN:VTIMEZONE
TZID:UTC
BEGIN:STANDARD
TZOFFSETFROM:+0000
TZOFFSETTO:+0000
TZNAME:UTC
DTSTART:20250101T000000
END:STANDARD
END:VTIMEZONE
BEGIN:VEVENT
DTSTART;TZID=UTC:20260331T000000
DTEND;TZID=UTC:20260401T000000
DTSTAMP:20260423T023639
CREATED:20260418T023304Z
LAST-MODIFIED:20260422T000534Z
UID:1000468-1774915200-1775001600@www.lcaviagens.com.br
SUMMARY:Tax Summit 2026
DESCRIPTION:Gestão Empresarial e Recursos Humanos
URL:https://www.lcaviagens.com.br/eventos/tax-summit-2026/
LOCATION:Centro de Convenções Frei Caneca\, São Paulo\, SP
CATEGORIES:Gestão Empresarial e Recursos Humanos
END:VEVENT
BEGIN:VEVENT
DTSTART;TZID=UTC:20260331T000000
DTEND;TZID=UTC:20260402T000000
DTSTAMP:20260423T023639
CREATED:20260417T154721Z
LAST-MODIFIED:20260422T000520Z
UID:996722-1774915200-1775088000@www.lcaviagens.com.br
SUMMARY:PMO Summit Latin America 2026
DESCRIPTION:Gestão Empresarial e Recursos Humanos
URL:https://www.lcaviagens.com.br/eventos/pmo-summit-latin-america-2026/
LOCATION:Hotel Windsor Barra\, Rio de Janeiro\, RJ
CATEGORIES:Gestão Empresarial e Recursos Humanos
END:VEVENT
END:VCALENDAR