BEGIN:VCALENDAR
VERSION:2.0
PRODID:-//LCA  - ECPv6.15.20//NONSGML v1.0//EN
CALSCALE:GREGORIAN
METHOD:PUBLISH
X-ORIGINAL-URL:https://www.lcaviagens.com.br
X-WR-CALDESC:Eventos para LCA 
REFRESH-INTERVAL;VALUE=DURATION:PT1H
X-Robots-Tag:noindex
X-PUBLISHED-TTL:PT1H
BEGIN:VTIMEZONE
TZID:UTC
BEGIN:STANDARD
TZOFFSETFROM:+0000
TZOFFSETTO:+0000
TZNAME:UTC
DTSTART:20250101T000000
END:STANDARD
END:VTIMEZONE
BEGIN:VEVENT
DTSTART;TZID=UTC:20260320T000000
DTEND;TZID=UTC:20260321T000000
DTSTAMP:20260423T023557
CREATED:20260417T153951Z
LAST-MODIFIED:20260421T235749Z
UID:996573-1773964800-1774051200@www.lcaviagens.com.br
SUMMARY:CONGERHI - Congresso de Gestão e Recursos Humanos do Interior
DESCRIPTION:Gestão Empresarial e Recursos Humanos
URL:https://www.lcaviagens.com.br/eventos/congerhi-congresso-de-gestao-e-recursos-humanos-do-interior/
LOCATION:Alameda Rodoserv Center\, Bauru\, SP
CATEGORIES:Gestão Empresarial e Recursos Humanos
END:VEVENT
END:VCALENDAR