BEGIN:VCALENDAR
VERSION:2.0
PRODID:-//LCA  - ECPv6.15.20//NONSGML v1.0//EN
CALSCALE:GREGORIAN
METHOD:PUBLISH
X-ORIGINAL-URL:https://www.lcaviagens.com.br
X-WR-CALDESC:Eventos para LCA 
REFRESH-INTERVAL;VALUE=DURATION:PT1H
X-Robots-Tag:noindex
X-PUBLISHED-TTL:PT1H
BEGIN:VTIMEZONE
TZID:UTC
BEGIN:STANDARD
TZOFFSETFROM:+0000
TZOFFSETTO:+0000
TZNAME:UTC
DTSTART:20250101T000000
END:STANDARD
END:VTIMEZONE
BEGIN:VEVENT
DTSTART;TZID=UTC:20260226T000000
DTEND;TZID=UTC:20260228T000000
DTSTAMP:20260423T023134
CREATED:20260417T152722Z
LAST-MODIFIED:20260421T234504Z
UID:996324-1772064000-1772236800@www.lcaviagens.com.br
SUMMARY:Método CIS (São Paulo) (Fevereiro)
DESCRIPTION:Gestão Empresarial e Recursos Humanos
URL:https://www.lcaviagens.com.br/eventos/metodo-cis-sao-paulo-fevereiro/
LOCATION:Distrito Anhembi\, São Paulo\, SP
CATEGORIES:Gestão Empresarial e Recursos Humanos
END:VEVENT
END:VCALENDAR