BEGIN:VCALENDAR
VERSION:2.0
PRODID:-//LCA  - ECPv6.15.20//NONSGML v1.0//EN
CALSCALE:GREGORIAN
METHOD:PUBLISH
X-ORIGINAL-URL:https://www.lcaviagens.com.br
X-WR-CALDESC:Eventos para LCA 
REFRESH-INTERVAL;VALUE=DURATION:PT1H
X-Robots-Tag:noindex
X-PUBLISHED-TTL:PT1H
BEGIN:VTIMEZONE
TZID:UTC
BEGIN:STANDARD
TZOFFSETFROM:+0000
TZOFFSETTO:+0000
TZNAME:UTC
DTSTART:20250101T000000
END:STANDARD
END:VTIMEZONE
BEGIN:VEVENT
DTSTART;TZID=UTC:20260331T000000
DTEND;TZID=UTC:20260401T000000
DTSTAMP:20260423T092032
CREATED:20260418T023249Z
LAST-MODIFIED:20260422T000520Z
UID:1000467-1774915200-1775001600@www.lcaviagens.com.br
SUMMARY:ExpoImage Brasil 2026 (Expo Image Brasil)
DESCRIPTION:Radio\,TV\, Música\, Cine\, Foto\, Imagem e Som
URL:https://www.lcaviagens.com.br/eventos/expoimage-brasil-2026-expo-image-brasil/
LOCATION:Shopping Frei Caneca\, São Paulo\, SP
CATEGORIES:Cine,Foto,Imagem e Som,Música,Radio,TV
END:VEVENT
END:VCALENDAR