BEGIN:VCALENDAR
VERSION:2.0
PRODID:-//LCA  - ECPv6.15.20//NONSGML v1.0//EN
CALSCALE:GREGORIAN
METHOD:PUBLISH
X-WR-CALNAME:LCA 
X-ORIGINAL-URL:https://www.lcaviagens.com.br
X-WR-CALDESC:Eventos para LCA 
REFRESH-INTERVAL;VALUE=DURATION:PT1H
X-Robots-Tag:noindex
X-PUBLISHED-TTL:PT1H
BEGIN:VTIMEZONE
TZID:UTC
BEGIN:STANDARD
TZOFFSETFROM:+0000
TZOFFSETTO:+0000
TZNAME:UTC
DTSTART:20250101T000000
END:STANDARD
END:VTIMEZONE
BEGIN:VEVENT
DTSTART;TZID=UTC:20260428T000000
DTEND;TZID=UTC:20260430T000000
DTSTAMP:20260423T093405
CREATED:20260417T155852Z
LAST-MODIFIED:20260422T001634Z
UID:996949-1777334400-1777507200@www.lcaviagens.com.br
SUMMARY:CONGRESSO FEHOSP 2026
DESCRIPTION:Saúde: Tecnologia\, Equipamentos e Pesquisa
URL:https://www.lcaviagens.com.br/eventos/congresso-fehosp-2026/
LOCATION:Royal Palm Plaza Resort\, Campinas\, SP
CATEGORIES:Equipamentos e Pesquisa,Saúde: Tecnologia
END:VEVENT
BEGIN:VEVENT
DTSTART;TZID=UTC:20260429T000000
DTEND;TZID=UTC:20260430T000000
DTSTAMP:20260423T093405
CREATED:20260417T155936Z
LAST-MODIFIED:20260422T001719Z
UID:996963-1777420800-1777507200@www.lcaviagens.com.br
SUMMARY:NEW MEAT BRAZIL - Salão Internacional de Carnes Cultivadas e Proteínas Alternativas
DESCRIPTION:Saúde: Tecnologia\, Equipamentos e Pesquisa
URL:https://www.lcaviagens.com.br/eventos/new-meat-brazil-salao-internacional-de-carnes-cultivadas-e-proteinas-alternativas/
LOCATION:Centro de Convenções Frei Caneca\, São Paulo\, SP
CATEGORIES:Equipamentos e Pesquisa,Saúde: Tecnologia
END:VEVENT
BEGIN:VEVENT
DTSTART;TZID=UTC:20260429T000000
DTEND;TZID=UTC:20260430T000000
DTSTAMP:20260423T093405
CREATED:20260417T155936Z
LAST-MODIFIED:20260422T001719Z
UID:996964-1777420800-1777507200@www.lcaviagens.com.br
SUMMARY:PLANT-BASED TECH - Salão de Tecnologia e Produtos Plant-Based
DESCRIPTION:Saúde: Tecnologia\, Equipamentos e Pesquisa
URL:https://www.lcaviagens.com.br/eventos/plant-based-tech-salao-de-tecnologia-e-produtos-plant-based/
LOCATION:Centro de Convenções Frei Caneca\, São Paulo\, SP
CATEGORIES:Equipamentos e Pesquisa,Saúde: Tecnologia
END:VEVENT
BEGIN:VEVENT
DTSTART;TZID=UTC:20260429T000000
DTEND;TZID=UTC:20260502T000000
DTSTAMP:20260423T093405
CREATED:20260417T154636Z
LAST-MODIFIED:20260422T000434Z
UID:996709-1777420800-1777680000@www.lcaviagens.com.br
SUMMARY:Congresso Brasileiro de Nefrologia Pediátrica
DESCRIPTION:Saúde: Tecnologia\, Equipamentos e Pesquisa
URL:https://www.lcaviagens.com.br/eventos/congresso-brasileiro-de-nefrologia-pediatrica/
LOCATION:Hotel Windsor Barra\, Rio de Janeiro\, RJ
CATEGORIES:Equipamentos e Pesquisa,Saúde: Tecnologia
END:VEVENT
END:VCALENDAR