BEGIN:VCALENDAR
VERSION:2.0
PRODID:-//LCA  - ECPv6.15.20//NONSGML v1.0//EN
CALSCALE:GREGORIAN
METHOD:PUBLISH
X-ORIGINAL-URL:https://www.lcaviagens.com.br
X-WR-CALDESC:Eventos para LCA 
REFRESH-INTERVAL;VALUE=DURATION:PT1H
X-Robots-Tag:noindex
X-PUBLISHED-TTL:PT1H
BEGIN:VTIMEZONE
TZID:UTC
BEGIN:STANDARD
TZOFFSETFROM:+0000
TZOFFSETTO:+0000
TZNAME:UTC
DTSTART:20250101T000000
END:STANDARD
END:VTIMEZONE
BEGIN:VEVENT
DTSTART;TZID=UTC:20260311T000000
DTEND;TZID=UTC:20260313T000000
DTSTAMP:20260423T120907
CREATED:20260417T153236Z
LAST-MODIFIED:20260421T235019Z
UID:996430-1773187200-1773360000@www.lcaviagens.com.br
SUMMARY:Congresso de Ginecologia e Obstetrícia de Ribeirão Preto
DESCRIPTION:Saúde: Tecnologia\, Equipamentos e Pesquisa
URL:https://www.lcaviagens.com.br/eventos/congresso-de-ginecologia-e-obstetricia-de-ribeirao-preto/
LOCATION:Espaço Multiplan Hall – Ribeirão Shopping\, Ribeirão Preto\, SP
CATEGORIES:Equipamentos e Pesquisa,Saúde: Tecnologia
END:VEVENT
BEGIN:VEVENT
DTSTART;TZID=UTC:20260312T000000
DTEND;TZID=UTC:20260314T000000
DTSTAMP:20260423T120907
CREATED:20260417T153336Z
LAST-MODIFIED:20260421T235149Z
UID:996450-1773273600-1773446400@www.lcaviagens.com.br
SUMMARY:Congresso Brasileiro de Tricologia\, Medicina e Cirurgia Capilar (Congressos Médicos ASIME)
DESCRIPTION:Saúde: Tecnologia\, Equipamentos e Pesquisa
URL:https://www.lcaviagens.com.br/eventos/congresso-brasileiro-de-tricologia-medicina-e-cirurgia-capilar-congressos-medicos-asime/
LOCATION:Centro de Convenções Frei Caneca\, São Paulo\, SP
CATEGORIES:Equipamentos e Pesquisa,Saúde: Tecnologia
END:VEVENT
BEGIN:VEVENT
DTSTART;TZID=UTC:20260312T000000
DTEND;TZID=UTC:20260314T000000
DTSTAMP:20260423T120907
CREATED:20260417T153351Z
LAST-MODIFIED:20260421T235153Z
UID:996451-1773273600-1773446400@www.lcaviagens.com.br
SUMMARY:Congresso de Medicina Integrativa (Congressos Médicos ASIME)
DESCRIPTION:Saúde: Tecnologia\, Equipamentos e Pesquisa
URL:https://www.lcaviagens.com.br/eventos/congresso-de-medicina-integrativa-congressos-medicos-asime/
LOCATION:Centro de Convenções Frei Caneca\, São Paulo\, SP
CATEGORIES:Equipamentos e Pesquisa,Saúde: Tecnologia
END:VEVENT
BEGIN:VEVENT
DTSTART;TZID=UTC:20260312T000000
DTEND;TZID=UTC:20260314T000000
DTSTAMP:20260423T120907
CREATED:20260417T153351Z
LAST-MODIFIED:20260421T235153Z
UID:996452-1773273600-1773446400@www.lcaviagens.com.br
SUMMARY:Congresso Mundial de Medicina Estética (Congressos Médicos ASIME)
DESCRIPTION:Saúde: Tecnologia\, Equipamentos e Pesquisa
URL:https://www.lcaviagens.com.br/eventos/congresso-mundial-de-medicina-estetica-congressos-medicos-asime/
LOCATION:Centro de Convenções Frei Caneca\, São Paulo\, SP
CATEGORIES:Equipamentos e Pesquisa,Saúde: Tecnologia
END:VEVENT
BEGIN:VEVENT
DTSTART;TZID=UTC:20260312T000000
DTEND;TZID=UTC:20260314T000000
DTSTAMP:20260423T120907
CREATED:20260417T153351Z
LAST-MODIFIED:20260421T235153Z
UID:996453-1773273600-1773446400@www.lcaviagens.com.br
SUMMARY:Congresso Nacional de Dermatologia da CBD (Congressos Médicos ASIME)
DESCRIPTION:Saúde: Tecnologia\, Equipamentos e Pesquisa
URL:https://www.lcaviagens.com.br/eventos/congresso-nacional-de-dermatologia-da-cbd-congressos-medicos-asime/
LOCATION:Centro de Convenções Frei Caneca\, São Paulo\, SP
CATEGORIES:Equipamentos e Pesquisa,Saúde: Tecnologia
END:VEVENT
BEGIN:VEVENT
DTSTART;TZID=UTC:20260312T000000
DTEND;TZID=UTC:20260314T000000
DTSTAMP:20260423T120907
CREATED:20260417T153352Z
LAST-MODIFIED:20260421T235153Z
UID:996454-1773273600-1773446400@www.lcaviagens.com.br
SUMMARY:Jornada de Técnicos e Auxiliares de Medicina Estética (Congressos Médicos ASIME)
DESCRIPTION:Saúde: Tecnologia\, Equipamentos e Pesquisa
URL:https://www.lcaviagens.com.br/eventos/jornada-de-tecnicos-e-auxiliares-de-medicina-estetica-congressos-medicos-asime/
LOCATION:Centro de Convenções Frei Caneca\, São Paulo\, SP
CATEGORIES:Equipamentos e Pesquisa,Saúde: Tecnologia
END:VEVENT
END:VCALENDAR