BEGIN:VCALENDAR
VERSION:2.0
PRODID:-//LCA  - ECPv6.15.20//NONSGML v1.0//EN
CALSCALE:GREGORIAN
METHOD:PUBLISH
X-WR-CALNAME:LCA 
X-ORIGINAL-URL:https://www.lcaviagens.com.br
X-WR-CALDESC:Eventos para LCA 
REFRESH-INTERVAL;VALUE=DURATION:PT1H
X-Robots-Tag:noindex
X-PUBLISHED-TTL:PT1H
BEGIN:VTIMEZONE
TZID:UTC
BEGIN:STANDARD
TZOFFSETFROM:+0000
TZOFFSETTO:+0000
TZNAME:UTC
DTSTART:20250101T000000
END:STANDARD
END:VTIMEZONE
BEGIN:VEVENT
DTSTART;TZID=UTC:20260702T000000
DTEND;TZID=UTC:20260704T000000
DTSTAMP:20260423T150314
CREATED:20260417T222634Z
LAST-MODIFIED:20260422T004934Z
UID:998879-1782950400-1783123200@www.lcaviagens.com.br
SUMMARY:DEIC 2026 - Congresso Brasileiro de Insuficiência Cardíaca
DESCRIPTION:Saúde: Tecnologia\, Equipamentos e Pesquisa
URL:https://www.lcaviagens.com.br/eventos/deic-2026-congresso-brasileiro-de-insuficiencia-cardiaca/
LOCATION:Centro de Eventos BarraShoppingSul (Barra Shopping Sul)\, Porto Alegre\, RS
CATEGORIES:Equipamentos e Pesquisa,Saúde: Tecnologia
END:VEVENT
BEGIN:VEVENT
DTSTART;TZID=UTC:20260723T000000
DTEND;TZID=UTC:20260725T000000
DTSTAMP:20260423T150314
CREATED:20260417T222826Z
LAST-MODIFIED:20260422T005405Z
UID:998980-1784764800-1784937600@www.lcaviagens.com.br
SUMMARY:Congresso / Imersão de Harmonização Corporal - Full Body 2026
DESCRIPTION:Saúde: Tecnologia\, Equipamentos e Pesquisa
URL:https://www.lcaviagens.com.br/eventos/congresso-imersao-de-harmonizacao-corporal-full-body-2026/
LOCATION:Distrito Anhembi\, São Paulo\, SP
CATEGORIES:Equipamentos e Pesquisa,Saúde: Tecnologia
END:VEVENT
BEGIN:VEVENT
DTSTART;TZID=UTC:20260726T000000
DTEND;TZID=UTC:20260731T000000
DTSTAMP:20260423T150314
CREATED:20260417T222851Z
LAST-MODIFIED:20260422T005504Z
UID:999005-1785024000-1785456000@www.lcaviagens.com.br
SUMMARY:International AIDS Conference (Conferência Internacional sobre a AIDS)
DESCRIPTION:Saúde: Tecnologia\, Equipamentos e Pesquisa
URL:https://www.lcaviagens.com.br/eventos/international-aids-conference-conferencia-internacional-sobre-a-aids/
LOCATION:Rio de Janeiro\, Rio de Janeiro\, RJ
CATEGORIES:Equipamentos e Pesquisa,Saúde: Tecnologia
END:VEVENT
BEGIN:VEVENT
DTSTART;TZID=UTC:20260729T000000
DTEND;TZID=UTC:20260731T000000
DTSTAMP:20260423T150314
CREATED:20260417T222904Z
LAST-MODIFIED:20260422T005534Z
UID:999017-1785283200-1785456000@www.lcaviagens.com.br
SUMMARY:Congresso SBHCI 2026
DESCRIPTION:Saúde: Tecnologia\, Equipamentos e Pesquisa
URL:https://www.lcaviagens.com.br/eventos/congresso-sbhci-2026/
LOCATION:WTC – World Trade Center São Paulo\, São Paulo\, SP
CATEGORIES:Equipamentos e Pesquisa,Saúde: Tecnologia
END:VEVENT
BEGIN:VEVENT
DTSTART;TZID=UTC:20260729T000000
DTEND;TZID=UTC:20260801T000000
DTSTAMP:20260423T150314
CREATED:20260417T222911Z
LAST-MODIFIED:20260422T005549Z
UID:999023-1785283200-1785542400@www.lcaviagens.com.br
SUMMARY:CONGRESSO SBRT - Congresso Brasileiro de Radioterapia
DESCRIPTION:Saúde: Tecnologia\, Equipamentos e Pesquisa
URL:https://www.lcaviagens.com.br/eventos/congresso-sbrt-congresso-brasileiro-de-radioterapia/
LOCATION:Hotel Royal Tulip Brasília Alvorada\, Brasília\, DF
CATEGORIES:Equipamentos e Pesquisa,Saúde: Tecnologia
END:VEVENT
BEGIN:VEVENT
DTSTART;TZID=UTC:20260730T000000
DTEND;TZID=UTC:20260801T000000
DTSTAMP:20260423T150314
CREATED:20260417T222918Z
LAST-MODIFIED:20260422T005605Z
UID:999029-1785369600-1785542400@www.lcaviagens.com.br
SUMMARY:CONGREHOF - Congresso de Harmonização Facial\, Corporal e Saúde Integrativa
DESCRIPTION:Saúde: Tecnologia\, Equipamentos e Pesquisa
URL:https://www.lcaviagens.com.br/eventos/congrehof-congresso-de-harmonizacao-facial-corporal-e-saude-integrativa/
LOCATION:Florianópolis\, Florianópolis\, SC
CATEGORIES:Equipamentos e Pesquisa,Saúde: Tecnologia
END:VEVENT
BEGIN:VEVENT
DTSTART;TZID=UTC:20260731T000000
DTEND;TZID=UTC:20260801T000000
DTSTAMP:20260423T150314
CREATED:20260417T222918Z
LAST-MODIFIED:20260422T005605Z
UID:999032-1785456000-1785542400@www.lcaviagens.com.br
SUMMARY:Congresso Paranaense de Cardiologia
DESCRIPTION:Saúde: Tecnologia\, Equipamentos e Pesquisa
URL:https://www.lcaviagens.com.br/eventos/congresso-paranaense-de-cardiologia/
LOCATION:Viasoft Experience\, Curitiba\, PR
CATEGORIES:Equipamentos e Pesquisa,Saúde: Tecnologia
END:VEVENT
END:VCALENDAR