BEGIN:VCALENDAR
VERSION:2.0
PRODID:-//LCA  - ECPv6.15.20//NONSGML v1.0//EN
CALSCALE:GREGORIAN
METHOD:PUBLISH
X-ORIGINAL-URL:https://www.lcaviagens.com.br
X-WR-CALDESC:Eventos para LCA 
REFRESH-INTERVAL;VALUE=DURATION:PT1H
X-Robots-Tag:noindex
X-PUBLISHED-TTL:PT1H
BEGIN:VTIMEZONE
TZID:UTC
BEGIN:STANDARD
TZOFFSETFROM:+0000
TZOFFSETTO:+0000
TZNAME:UTC
DTSTART:20250101T000000
END:STANDARD
END:VTIMEZONE
BEGIN:VEVENT
DTSTART;TZID=UTC:20261027T000000
DTEND;TZID=UTC:20261028T000000
DTSTAMP:20260425T125806
CREATED:20260418T035726Z
LAST-MODIFIED:20260422T012424Z
UID:1002012-1793059200-1793145600@www.lcaviagens.com.br
SUMMARY:Intersolar Summit Brasil Sul
DESCRIPTION:Energia
URL:https://www.lcaviagens.com.br/eventos/intersolar-summit-brasil-sul/
LOCATION:Centro de Eventos FIERGS\, Porto Alegre\, RS
CATEGORIES:Energia
END:VEVENT
BEGIN:VEVENT
DTSTART;TZID=UTC:20261027T000000
DTEND;TZID=UTC:20261029T000000
DTSTAMP:20260425T125806
CREATED:20260418T035726Z
LAST-MODIFIED:20260422T012424Z
UID:1002011-1793059200-1793232000@www.lcaviagens.com.br
SUMMARY:BWP - Brazil Windpower 2026
DESCRIPTION:Energia
URL:https://www.lcaviagens.com.br/eventos/bwp-brazil-windpower-2026/
LOCATION:São Paulo Expo Exhibition & Convention Center\, São Paulo\, SP
CATEGORIES:Energia
END:VEVENT
END:VCALENDAR