BEGIN:VCALENDAR
VERSION:2.0
PRODID:-//LCA  - ECPv6.15.20//NONSGML v1.0//EN
CALSCALE:GREGORIAN
METHOD:PUBLISH
X-ORIGINAL-URL:https://www.lcaviagens.com.br
X-WR-CALDESC:Eventos para LCA 
REFRESH-INTERVAL;VALUE=DURATION:PT1H
X-Robots-Tag:noindex
X-PUBLISHED-TTL:PT1H
BEGIN:VTIMEZONE
TZID:UTC
BEGIN:STANDARD
TZOFFSETFROM:+0000
TZOFFSETTO:+0000
TZNAME:UTC
DTSTART:20250101T000000
END:STANDARD
END:VTIMEZONE
BEGIN:VEVENT
DTSTART;TZID=UTC:20260701T000000
DTEND;TZID=UTC:20260702T000000
DTSTAMP:20260423T160244
CREATED:20260417T222628Z
LAST-MODIFIED:20260422T004919Z
UID:998877-1782864000-1782950400@www.lcaviagens.com.br
SUMMARY:Congresso Nacional da Bioenergia (Congresso Nacional de Bioenergia)
DESCRIPTION:Energia
URL:https://www.lcaviagens.com.br/eventos/congresso-nacional-da-bioenergia-congresso-nacional-de-bioenergia/
LOCATION:Universidade Paulista (UNIP) – Campus Araçatuba\, Araçatuba\, SP
CATEGORIES:Energia
END:VEVENT
END:VCALENDAR