BEGIN:VCALENDAR
VERSION:2.0
PRODID:-//LCA  - ECPv6.15.20//NONSGML v1.0//EN
CALSCALE:GREGORIAN
METHOD:PUBLISH
X-ORIGINAL-URL:https://www.lcaviagens.com.br
X-WR-CALDESC:Eventos para LCA 
REFRESH-INTERVAL;VALUE=DURATION:PT1H
X-Robots-Tag:noindex
X-PUBLISHED-TTL:PT1H
BEGIN:VTIMEZONE
TZID:UTC
BEGIN:STANDARD
TZOFFSETFROM:+0000
TZOFFSETTO:+0000
TZNAME:UTC
DTSTART:20250101T000000
END:STANDARD
END:VTIMEZONE
BEGIN:VEVENT
DTSTART;TZID=UTC:20260610T000000
DTEND;TZID=UTC:20260611T000000
DTSTAMP:20260423T113803
CREATED:20260417T222244Z
LAST-MODIFIED:20260422T004004Z
UID:998640-1781049600-1781136000@www.lcaviagens.com.br
SUMMARY:CIDE - Congresso de Inovação na Distribuição de Energia Elétrica (Cide Brasil)
DESCRIPTION:Energia
URL:https://www.lcaviagens.com.br/eventos/cide-congresso-de-inovacao-na-distribuicao-de-energia-eletrica-cide-brasil/
LOCATION:Transamérica Expo Center\, São Paulo\, SP
CATEGORIES:Energia
END:VEVENT
BEGIN:VEVENT
DTSTART;TZID=UTC:20260615T000000
DTEND;TZID=UTC:20260616T000000
DTSTAMP:20260423T113803
CREATED:20260417T222310Z
LAST-MODIFIED:20260422T004104Z
UID:998662-1781481600-1781568000@www.lcaviagens.com.br
SUMMARY:Fórum GD Nordeste - Fórum Regional de Geração Distribuída com Fontes Renováveis (Região Nordeste)
DESCRIPTION:Energia
URL:https://www.lcaviagens.com.br/eventos/forum-gd-nordeste-forum-regional-de-geracao-distribuida-com-fontes-renovaveis-regiao-nordeste/
LOCATION:São Luís\, São Luís\, MA
CATEGORIES:Energia
END:VEVENT
BEGIN:VEVENT
DTSTART;TZID=UTC:20260616T000000
DTEND;TZID=UTC:20260617T000000
DTSTAMP:20260423T113803
CREATED:20260417T222330Z
LAST-MODIFIED:20260422T004149Z
UID:998676-1781568000-1781654400@www.lcaviagens.com.br
SUMMARY:Hyvolution Brazil 2026
DESCRIPTION:Energia
URL:https://www.lcaviagens.com.br/eventos/hyvolution-brazil-2026/
LOCATION:Distrito Anhembi\, São Paulo\, SP
CATEGORIES:Energia
END:VEVENT
BEGIN:VEVENT
DTSTART;TZID=UTC:20260617T000000
DTEND;TZID=UTC:20260618T000000
DTSTAMP:20260423T113803
CREATED:20260417T222338Z
LAST-MODIFIED:20260422T004219Z
UID:998686-1781654400-1781740800@www.lcaviagens.com.br
SUMMARY:Fórum Energy Storage (São Paulo)
DESCRIPTION:Energia
URL:https://www.lcaviagens.com.br/eventos/forum-energy-storage-sao-paulo/
LOCATION:WeWork Sala Comercial & Coworking\, São Paulo\, SP
CATEGORIES:Energia
END:VEVENT
BEGIN:VEVENT
DTSTART;TZID=UTC:20260617T000000
DTEND;TZID=UTC:20260618T000000
DTSTAMP:20260423T113803
CREATED:20260417T222344Z
LAST-MODIFIED:20260422T004234Z
UID:998688-1781654400-1781740800@www.lcaviagens.com.br
SUMMARY:ENASE - Encontro Nacional de Agentes do Setor Elétrico
DESCRIPTION:Energia
URL:https://www.lcaviagens.com.br/eventos/enase-encontro-nacional-de-agentes-do-setor-eletrico/
LOCATION:Hotel Windsor Oceânico\, Rio de Janeiro\, RJ
CATEGORIES:Energia
END:VEVENT
BEGIN:VEVENT
DTSTART;TZID=UTC:20260623T000000
DTEND;TZID=UTC:20260625T000000
DTSTAMP:20260423T113803
CREATED:20260417T222412Z
LAST-MODIFIED:20260422T004349Z
UID:998726-1782172800-1782345600@www.lcaviagens.com.br
SUMMARY:Energy Summit 2026
DESCRIPTION:Energia
URL:https://www.lcaviagens.com.br/eventos/energy-summit-2026/
LOCATION:Marina da Glória\, Rio de Janeiro\, RJ
CATEGORIES:Energia
END:VEVENT
END:VCALENDAR