BEGIN:VCALENDAR
VERSION:2.0
PRODID:-//LCA  - ECPv6.15.20//NONSGML v1.0//EN
CALSCALE:GREGORIAN
METHOD:PUBLISH
X-ORIGINAL-URL:https://www.lcaviagens.com.br
X-WR-CALDESC:Eventos para LCA 
REFRESH-INTERVAL;VALUE=DURATION:PT1H
X-Robots-Tag:noindex
X-PUBLISHED-TTL:PT1H
BEGIN:VTIMEZONE
TZID:UTC
BEGIN:STANDARD
TZOFFSETFROM:+0000
TZOFFSETTO:+0000
TZNAME:UTC
DTSTART:20250101T000000
END:STANDARD
END:VTIMEZONE
BEGIN:VEVENT
DTSTART;TZID=UTC:20260504T000000
DTEND;TZID=UTC:20260506T000000
DTSTAMP:20260423T101400
CREATED:20260417T160236Z
LAST-MODIFIED:20260422T002019Z
UID:997022-1777852800-1778025600@www.lcaviagens.com.br
SUMMARY:OES 2026 - Operational Excellence Summit
DESCRIPTION:Energia
URL:https://www.lcaviagens.com.br/eventos/oes-2026-operational-excellence-summit/
LOCATION:São Paulo\, São Paulo\, SP
CATEGORIES:Energia
END:VEVENT
END:VCALENDAR