BEGIN:VCALENDAR
VERSION:2.0
PRODID:-//LCA  - ECPv6.15.20//NONSGML v1.0//EN
CALSCALE:GREGORIAN
METHOD:PUBLISH
X-WR-CALNAME:LCA 
X-ORIGINAL-URL:https://www.lcaviagens.com.br
X-WR-CALDESC:Eventos para LCA 
REFRESH-INTERVAL;VALUE=DURATION:PT1H
X-Robots-Tag:noindex
X-PUBLISHED-TTL:PT1H
BEGIN:VTIMEZONE
TZID:UTC
BEGIN:STANDARD
TZOFFSETFROM:+0000
TZOFFSETTO:+0000
TZNAME:UTC
DTSTART:20250101T000000
END:STANDARD
END:VTIMEZONE
BEGIN:VEVENT
DTSTART;TZID=UTC:20260316T000000
DTEND;TZID=UTC:20260322T000000
DTSTAMP:20260423T104236
CREATED:20260417T153622Z
LAST-MODIFIED:20260421T235419Z
UID:996502-1773619200-1774137600@www.lcaviagens.com.br
SUMMARY:GMW 2026 - Global Money Week
DESCRIPTION:Empreendedorismo\, Negócios e Franquias
URL:https://www.lcaviagens.com.br/eventos/gmw-2026-global-money-week/
LOCATION:Online\, São Paulo\, SP
CATEGORIES:Empreendedorismo,Negócios e Franquias
END:VEVENT
BEGIN:VEVENT
DTSTART;TZID=UTC:20260319T000000
DTEND;TZID=UTC:20260321T000000
DTSTAMP:20260423T104236
CREATED:20260417T153821Z
LAST-MODIFIED:20260421T235620Z
UID:996545-1773878400-1774051200@www.lcaviagens.com.br
SUMMARY:EFN - Expo Franquias Nordeste (Expofranquias Nordeste)
DESCRIPTION:Empreendedorismo\, Negócios e Franquias
URL:https://www.lcaviagens.com.br/eventos/efn-expo-franquias-nordeste-expofranquias-nordeste/
LOCATION:Recife Expo Center\, Recife\, PE
CATEGORIES:Empreendedorismo,Negócios e Franquias
END:VEVENT
END:VCALENDAR