BEGIN:VCALENDAR
VERSION:2.0
PRODID:-//LCA  - ECPv6.15.20//NONSGML v1.0//EN
CALSCALE:GREGORIAN
METHOD:PUBLISH
X-ORIGINAL-URL:https://www.lcaviagens.com.br
X-WR-CALDESC:Eventos para LCA 
REFRESH-INTERVAL;VALUE=DURATION:PT1H
X-Robots-Tag:noindex
X-PUBLISHED-TTL:PT1H
BEGIN:VTIMEZONE
TZID:UTC
BEGIN:STANDARD
TZOFFSETFROM:+0000
TZOFFSETTO:+0000
TZNAME:UTC
DTSTART:20250101T000000
END:STANDARD
END:VTIMEZONE
BEGIN:VEVENT
DTSTART;TZID=UTC:20260306T000000
DTEND;TZID=UTC:20260308T000000
DTSTAMP:20260423T093828
CREATED:20260417T153027Z
LAST-MODIFIED:20260421T234803Z
UID:996381-1772755200-1772928000@www.lcaviagens.com.br
SUMMARY:Inspira Mulher 2026
DESCRIPTION:Empreendedorismo\, Negócios e Franquias
URL:https://www.lcaviagens.com.br/eventos/inspira-mulher-2026/
LOCATION:Centro de Cultura e Eventos Plínio Arlindo de Nes\, Chapecó\, SC
CATEGORIES:Empreendedorismo,Negócios e Franquias
END:VEVENT
END:VCALENDAR