BEGIN:VCALENDAR
VERSION:2.0
PRODID:-//LCA  - ECPv6.15.20//NONSGML v1.0//EN
CALSCALE:GREGORIAN
METHOD:PUBLISH
X-WR-CALNAME:LCA 
X-ORIGINAL-URL:https://www.lcaviagens.com.br
X-WR-CALDESC:Eventos para LCA 
REFRESH-INTERVAL;VALUE=DURATION:PT1H
X-Robots-Tag:noindex
X-PUBLISHED-TTL:PT1H
BEGIN:VTIMEZONE
TZID:UTC
BEGIN:STANDARD
TZOFFSETFROM:+0000
TZOFFSETTO:+0000
TZNAME:UTC
DTSTART:20250101T000000
END:STANDARD
END:VTIMEZONE
BEGIN:VEVENT
DTSTART;TZID=UTC:20261203T000000
DTEND;TZID=UTC:20261203T000000
DTSTAMP:20260425T183421
CREATED:20260418T040426Z
LAST-MODIFIED:20260422T013132Z
UID:1002145-1796256000-1796256000@www.lcaviagens.com.br
SUMMARY:Franchise4U Campinas
DESCRIPTION:Empreendedorismo\, Negócios e Franquias
URL:https://www.lcaviagens.com.br/eventos/franchise4u-campinas/
LOCATION:Hotel Meliá Campinas\, Campinas\, SP
CATEGORIES:Empreendedorismo,Negócios e Franquias
END:VEVENT
BEGIN:VEVENT
DTSTART;TZID=UTC:20261210T000000
DTEND;TZID=UTC:20261210T000000
DTSTAMP:20260425T183421
CREATED:20260418T040442Z
LAST-MODIFIED:20260422T013147Z
UID:1002151-1796860800-1796860800@www.lcaviagens.com.br
SUMMARY:Franchise4U Porto Alegre
DESCRIPTION:Empreendedorismo\, Negócios e Franquias
URL:https://www.lcaviagens.com.br/eventos/franchise4u-porto-alegre/
LOCATION:Novotel Porto Alegre Três Figueiras\, Porto Alegre\, RS
CATEGORIES:Empreendedorismo,Negócios e Franquias
END:VEVENT
END:VCALENDAR