BEGIN:VCALENDAR
VERSION:2.0
PRODID:-//LCA  - ECPv6.15.20//NONSGML v1.0//EN
CALSCALE:GREGORIAN
METHOD:PUBLISH
X-ORIGINAL-URL:https://www.lcaviagens.com.br
X-WR-CALDESC:Eventos para LCA 
REFRESH-INTERVAL;VALUE=DURATION:PT1H
X-Robots-Tag:noindex
X-PUBLISHED-TTL:PT1H
BEGIN:VTIMEZONE
TZID:UTC
BEGIN:STANDARD
TZOFFSETFROM:+0000
TZOFFSETTO:+0000
TZNAME:UTC
DTSTART:20250101T000000
END:STANDARD
END:VTIMEZONE
BEGIN:VEVENT
DTSTART;TZID=UTC:20260716T000000
DTEND;TZID=UTC:20260802T000000
DTSTAMP:20260423T121102
CREATED:20260417T222754Z
LAST-MODIFIED:20260422T005234Z
UID:998947-1784160000-1785628800@www.lcaviagens.com.br
SUMMARY:Festival Internacional de Folclore (Nova Petrópolis)
DESCRIPTION:Cultura e Educação
URL:https://www.lcaviagens.com.br/eventos/festival-internacional-de-folclore-nova-petropolis/
LOCATION:Rua Coberta\, Nova Petrópolis\, RS
CATEGORIES:Cultura e Educação
END:VEVENT
END:VCALENDAR