BEGIN:VCALENDAR
VERSION:2.0
PRODID:-//LCA  - ECPv6.15.20//NONSGML v1.0//EN
CALSCALE:GREGORIAN
METHOD:PUBLISH
X-ORIGINAL-URL:https://www.lcaviagens.com.br
X-WR-CALDESC:Eventos para LCA 
REFRESH-INTERVAL;VALUE=DURATION:PT1H
X-Robots-Tag:noindex
X-PUBLISHED-TTL:PT1H
BEGIN:VTIMEZONE
TZID:UTC
BEGIN:STANDARD
TZOFFSETFROM:+0000
TZOFFSETTO:+0000
TZNAME:UTC
DTSTART:20250101T000000
END:STANDARD
END:VTIMEZONE
BEGIN:VEVENT
DTSTART;TZID=UTC:20260707T000000
DTEND;TZID=UTC:20260712T000000
DTSTAMP:20260423T121111
CREATED:20260417T222708Z
LAST-MODIFIED:20260422T005049Z
UID:998905-1783382400-1783814400@www.lcaviagens.com.br
SUMMARY:FLIB 2026 - Feira Literária de Bonito
DESCRIPTION:Cultura e Educação
URL:https://www.lcaviagens.com.br/eventos/flib-2026-feira-literaria-de-bonito/
LOCATION:Praça da Liberdade\, Bonito\, MS
CATEGORIES:Cultura e Educação
END:VEVENT
END:VCALENDAR