BEGIN:VCALENDAR
VERSION:2.0
PRODID:-//LCA  - ECPv6.15.20//NONSGML v1.0//EN
CALSCALE:GREGORIAN
METHOD:PUBLISH
X-ORIGINAL-URL:https://www.lcaviagens.com.br
X-WR-CALDESC:Eventos para LCA 
REFRESH-INTERVAL;VALUE=DURATION:PT1H
X-Robots-Tag:noindex
X-PUBLISHED-TTL:PT1H
BEGIN:VTIMEZONE
TZID:UTC
BEGIN:STANDARD
TZOFFSETFROM:+0000
TZOFFSETTO:+0000
TZNAME:UTC
DTSTART:20250101T000000
END:STANDARD
END:VTIMEZONE
BEGIN:VEVENT
DTSTART;TZID=UTC:20260617T000000
DTEND;TZID=UTC:20260619T000000
DTSTAMP:20260423T105121
CREATED:20260417T222333Z
LAST-MODIFIED:20260422T004205Z
UID:998681-1781654400-1781827200@www.lcaviagens.com.br
SUMMARY:Congresso Nacional de Educação de Poços de Caldas
DESCRIPTION:Cultura e Educação
URL:https://www.lcaviagens.com.br/eventos/congresso-nacional-de-educacao-de-pocos-de-caldas/
LOCATION:URCA / Biblioteca Centenário\, Poços de Caldas\, MG
CATEGORIES:Cultura e Educação
END:VEVENT
END:VCALENDAR