BEGIN:VCALENDAR
VERSION:2.0
PRODID:-//LCA  - ECPv6.15.20//NONSGML v1.0//EN
CALSCALE:GREGORIAN
METHOD:PUBLISH
X-WR-CALNAME:LCA 
X-ORIGINAL-URL:https://www.lcaviagens.com.br
X-WR-CALDESC:Eventos para LCA 
REFRESH-INTERVAL;VALUE=DURATION:PT1H
X-Robots-Tag:noindex
X-PUBLISHED-TTL:PT1H
BEGIN:VTIMEZONE
TZID:UTC
BEGIN:STANDARD
TZOFFSETFROM:+0000
TZOFFSETTO:+0000
TZNAME:UTC
DTSTART:20250101T000000
END:STANDARD
END:VTIMEZONE
BEGIN:VEVENT
DTSTART;TZID=UTC:20260521T000000
DTEND;TZID=UTC:20260523T000000
DTSTAMP:20260423T105750
CREATED:20260417T161038Z
LAST-MODIFIED:20260422T002819Z
UID:997182-1779321600-1779494400@www.lcaviagens.com.br
SUMMARY:CBESP - Congresso Brasileiro da Educação Superior Particular
DESCRIPTION:Cultura e Educação
URL:https://www.lcaviagens.com.br/eventos/cbesp-congresso-brasileiro-da-educacao-superior-particular/
LOCATION:Sheraton Grand Rio Hotel & Resort\, Rio de Janeiro\, RJ
CATEGORIES:Cultura e Educação
END:VEVENT
BEGIN:VEVENT
DTSTART;TZID=UTC:20260521T000000
DTEND;TZID=UTC:20260531T000000
DTSTAMP:20260423T105750
CREATED:20260417T161110Z
LAST-MODIFIED:20260422T002909Z
UID:997195-1779321600-1780185600@www.lcaviagens.com.br
SUMMARY:Feira do Livro de Joinville 2026
DESCRIPTION:Cultura e Educação
URL:https://www.lcaviagens.com.br/eventos/feira-do-livro-de-joinville-2026/
LOCATION:Centreventos Cau Hansen\, Joinville\, SC
CATEGORIES:Cultura e Educação
END:VEVENT
END:VCALENDAR