BEGIN:VCALENDAR
VERSION:2.0
PRODID:-//LCA  - ECPv6.15.20//NONSGML v1.0//EN
CALSCALE:GREGORIAN
METHOD:PUBLISH
X-WR-CALNAME:LCA 
X-ORIGINAL-URL:https://www.lcaviagens.com.br
X-WR-CALDESC:Eventos para LCA 
REFRESH-INTERVAL;VALUE=DURATION:PT1H
X-Robots-Tag:noindex
X-PUBLISHED-TTL:PT1H
BEGIN:VTIMEZONE
TZID:UTC
BEGIN:STANDARD
TZOFFSETFROM:+0000
TZOFFSETTO:+0000
TZNAME:UTC
DTSTART:20250101T000000
END:STANDARD
END:VTIMEZONE
BEGIN:VEVENT
DTSTART;TZID=UTC:20260316T000000
DTEND;TZID=UTC:20260319T000000
DTSTAMP:20260423T104935
CREATED:20260417T153606Z
LAST-MODIFIED:20260421T235405Z
UID:996499-1773619200-1773878400@www.lcaviagens.com.br
SUMMARY:Feira do Livro da UFMG (Festa do Livro UFMG)
DESCRIPTION:Cultura e Educação
URL:https://www.lcaviagens.com.br/eventos/feira-do-livro-da-ufmg-festa-do-livro-ufmg/
LOCATION:Universidade Federal de Minas Gerais (UFMG)\, Belo Horizonte\, MG
CATEGORIES:Cultura e Educação
END:VEVENT
END:VCALENDAR