BEGIN:VCALENDAR
VERSION:2.0
PRODID:-//LCA  - ECPv6.15.20//NONSGML v1.0//EN
CALSCALE:GREGORIAN
METHOD:PUBLISH
X-WR-CALNAME:LCA 
X-ORIGINAL-URL:https://www.lcaviagens.com.br
X-WR-CALDESC:Eventos para LCA 
REFRESH-INTERVAL;VALUE=DURATION:PT1H
X-Robots-Tag:noindex
X-PUBLISHED-TTL:PT1H
BEGIN:VTIMEZONE
TZID:UTC
BEGIN:STANDARD
TZOFFSETFROM:+0000
TZOFFSETTO:+0000
TZNAME:UTC
DTSTART:20250101T000000
END:STANDARD
END:VTIMEZONE
BEGIN:VEVENT
DTSTART;TZID=UTC:20260212T000000
DTEND;TZID=UTC:20260217T000000
DTSTAMP:20260423T104207
CREATED:20260417T152507Z
LAST-MODIFIED:20260421T234249Z
UID:996279-1770854400-1771286400@www.lcaviagens.com.br
SUMMARY:FELICC - Feira do Livro da Consciência Cristã
DESCRIPTION:Cultura e Educação
URL:https://www.lcaviagens.com.br/eventos/felicc-feira-do-livro-da-consciencia-crista/
LOCATION:Parque do Povo\, Campina Grande\, PB
CATEGORIES:Cultura e Educação
END:VEVENT
END:VCALENDAR