BEGIN:VCALENDAR
VERSION:2.0
PRODID:-//LCA  - ECPv6.15.20//NONSGML v1.0//EN
CALSCALE:GREGORIAN
METHOD:PUBLISH
X-ORIGINAL-URL:https://www.lcaviagens.com.br
X-WR-CALDESC:Eventos para LCA 
REFRESH-INTERVAL;VALUE=DURATION:PT1H
X-Robots-Tag:noindex
X-PUBLISHED-TTL:PT1H
BEGIN:VTIMEZONE
TZID:UTC
BEGIN:STANDARD
TZOFFSETFROM:+0000
TZOFFSETTO:+0000
TZNAME:UTC
DTSTART:20250101T000000
END:STANDARD
END:VTIMEZONE
BEGIN:VEVENT
DTSTART;TZID=UTC:20260616T000000
DTEND;TZID=UTC:20260619T000000
DTSTAMP:20260423T000744
CREATED:20260417T222325Z
LAST-MODIFIED:20260422T004134Z
UID:998671-1781568000-1781827200@www.lcaviagens.com.br
SUMMARY:FOCOS 2026 - Fórum Internacional da Construção Offsite
DESCRIPTION:Construção Civil
URL:https://www.lcaviagens.com.br/eventos/focos-2026-forum-internacional-da-construcao-offsite/
LOCATION:Sambódromo do Anhembi\, São Paulo\, SP
CATEGORIES:Construção Civil
END:VEVENT
BEGIN:VEVENT
DTSTART;TZID=UTC:20260701T000000
DTEND;TZID=UTC:20260702T000000
DTSTAMP:20260423T000744
CREATED:20260417T222628Z
LAST-MODIFIED:20260422T004919Z
UID:998876-1782864000-1782950400@www.lcaviagens.com.br
SUMMARY:Construsummit 2026 (Constru Summit) (Construsummit Sienge)
DESCRIPTION:Construção Civil
URL:https://www.lcaviagens.com.br/eventos/construsummit-2026-constru-summit-construsummit-sienge/
LOCATION:Centrosul – Centro de Convenções de Florianópolis\, Ribeirão Preto\, SP
CATEGORIES:Construção Civil
END:VEVENT
BEGIN:VEVENT
DTSTART;TZID=UTC:20260716T000000
DTEND;TZID=UTC:20260719T000000
DTSTAMP:20260423T000744
CREATED:20260417T222753Z
LAST-MODIFIED:20260422T005234Z
UID:998945-1784160000-1784419200@www.lcaviagens.com.br
SUMMARY:Expoconstruindo (Cascavel)
DESCRIPTION:Construção Civil
URL:https://www.lcaviagens.com.br/eventos/expoconstruindo-cascavel/
LOCATION:Centro de Convenções e Eventos de Cascavel\, Cascavel\, PR
CATEGORIES:Construção Civil
END:VEVENT
BEGIN:VEVENT
DTSTART;TZID=UTC:20260727T000000
DTEND;TZID=UTC:20260728T000000
DTSTAMP:20260423T000744
CREATED:20260417T222858Z
LAST-MODIFIED:20260422T005519Z
UID:999008-1785110400-1785196800@www.lcaviagens.com.br
SUMMARY:EXPOELÉTRICA - Expo & Fórum (Expo Elétrica)
DESCRIPTION:Construção Civil
URL:https://www.lcaviagens.com.br/eventos/expoeletrica-expo-forum-expo-eletrica/
LOCATION:Centro de Convenções Frei Caneca\, São Paulo\, SP
CATEGORIES:Construção Civil
END:VEVENT
BEGIN:VEVENT
DTSTART;TZID=UTC:20260804T000000
DTEND;TZID=UTC:20260807T000000
DTSTAMP:20260423T000744
CREATED:20260417T223053Z
LAST-MODIFIED:20260422T010019Z
UID:999164-1785801600-1786060800@www.lcaviagens.com.br
SUMMARY:BES 2026 - Brazil Equipo Show
DESCRIPTION:Construção Civil
URL:https://www.lcaviagens.com.br/eventos/bes-2026-brazil-equipo-show/
LOCATION:Red Eventos\, Jaguariúna\, SP
CATEGORIES:Construção Civil
END:VEVENT
BEGIN:VEVENT
DTSTART;TZID=UTC:20260804T000000
DTEND;TZID=UTC:20260807T000000
DTSTAMP:20260423T000744
CREATED:20260417T223053Z
LAST-MODIFIED:20260422T010019Z
UID:999165-1785801600-1786060800@www.lcaviagens.com.br
SUMMARY:CONSTRUSUL - Feira Internacional da Construção (Porto Alegre)
DESCRIPTION:Construção Civil
URL:https://www.lcaviagens.com.br/eventos/construsul-feira-internacional-da-construcao-porto-alegre/
LOCATION:Centro de Eventos FIERGS\, Porto Alegre\, RS
CATEGORIES:Construção Civil
END:VEVENT
BEGIN:VEVENT
DTSTART;TZID=UTC:20260811T000000
DTEND;TZID=UTC:20260814T000000
DTSTAMP:20260423T000744
CREATED:20260417T223135Z
LAST-MODIFIED:20260422T010220Z
UID:999234-1786406400-1786665600@www.lcaviagens.com.br
SUMMARY:ExpoConstruir 2026 (Expo Construir)
DESCRIPTION:Construção Civil
URL:https://www.lcaviagens.com.br/eventos/expoconstruir-2026-expo-construir/
LOCATION:Centro de Eventos do Ceará\, Fortaleza\, CE
CATEGORIES:Construção Civil
END:VEVENT
BEGIN:VEVENT
DTSTART;TZID=UTC:20260825T000000
DTEND;TZID=UTC:20260827T000000
DTSTAMP:20260423T000744
CREATED:20260417T223251Z
LAST-MODIFIED:20260422T010534Z
UID:999367-1787616000-1787788800@www.lcaviagens.com.br
SUMMARY:CACHOEIRO STONE FAIR - Feira Internacional do Mármore e Granito
DESCRIPTION:Construção Civil
URL:https://www.lcaviagens.com.br/eventos/cachoeiro-stone-fair-feira-internacional-do-marmore-e-granito/
LOCATION:Parque de Exposições Carlos Caiado Barbosa\, Cachoeiro de Itapemirim\, ES
CATEGORIES:Construção Civil
END:VEVENT
BEGIN:VEVENT
DTSTART;TZID=UTC:20260825T000000
DTEND;TZID=UTC:20260827T000000
DTSTAMP:20260423T000744
CREATED:20260417T223255Z
LAST-MODIFIED:20260422T010549Z
UID:999373-1787616000-1787788800@www.lcaviagens.com.br
SUMMARY:Concrete Show South America 2026
DESCRIPTION:Construção Civil
URL:https://www.lcaviagens.com.br/eventos/concrete-show-south-america-2026/
LOCATION:São Paulo Expo Exhibition & Convention Center\, São Paulo\, SP
CATEGORIES:Construção Civil
END:VEVENT
BEGIN:VEVENT
DTSTART;TZID=UTC:20260909T000000
DTEND;TZID=UTC:20260912T000000
DTSTAMP:20260423T000744
CREATED:20260418T034642Z
LAST-MODIFIED:20260422T011250Z
UID:1001794-1788912000-1789171200@www.lcaviagens.com.br
SUMMARY:FESQUA - Feira Internacional de Esquadrias\, Ferragens e Componentes
DESCRIPTION:Construção Civil
URL:https://www.lcaviagens.com.br/eventos/fesqua-feira-internacional-de-esquadrias-ferragens-e-componentes/
LOCATION:São Paulo Expo Exhibition & Convention Center\, São Paulo\, SP
CATEGORIES:Construção Civil
END:VEVENT
BEGIN:VEVENT
DTSTART;TZID=UTC:20260915T000000
DTEND;TZID=UTC:20260918T000000
DTSTAMP:20260423T000744
CREATED:20260418T034741Z
LAST-MODIFIED:20260422T011349Z
UID:1001813-1789430400-1789689600@www.lcaviagens.com.br
SUMMARY:EXPOLUX - Feira Internacional da Indústria da Iluminação
DESCRIPTION:Construção Civil
URL:https://www.lcaviagens.com.br/eventos/expolux-feira-internacional-da-industria-da-iluminacao/
LOCATION:Expo Center Norte\, São Paulo\, SP
CATEGORIES:Construção Civil
END:VEVENT
BEGIN:VEVENT
DTSTART;TZID=UTC:20260922T000000
DTEND;TZID=UTC:20260924T000000
DTSTAMP:20260423T000744
CREATED:20260418T034856Z
LAST-MODIFIED:20260422T011605Z
UID:1001840-1790035200-1790208000@www.lcaviagens.com.br
SUMMARY:Paving Expo & Conference
DESCRIPTION:Construção Civil
URL:https://www.lcaviagens.com.br/eventos/paving-expo-conference/
LOCATION:Distrito Anhembi\, São Paulo\, SP
CATEGORIES:Construção Civil
END:VEVENT
BEGIN:VEVENT
DTSTART;TZID=UTC:20260922T000000
DTEND;TZID=UTC:20260924T000000
DTSTAMP:20260423T000744
CREATED:20260418T034857Z
LAST-MODIFIED:20260422T011605Z
UID:1001841-1790035200-1790208000@www.lcaviagens.com.br
SUMMARY:Congresso Brasileiro de Infraestrutura e Construção
DESCRIPTION:Construção Civil
URL:https://www.lcaviagens.com.br/eventos/congresso-brasileiro-de-infraestrutura-e-construcao/
LOCATION:Distrito Anhembi\, São Paulo\, SP
CATEGORIES:Construção Civil
END:VEVENT
BEGIN:VEVENT
DTSTART;TZID=UTC:20260930T000000
DTEND;TZID=UTC:20261003T000000
DTSTAMP:20260423T000744
CREATED:20260418T035126Z
LAST-MODIFIED:20260422T011824Z
UID:1001889-1790726400-1790985600@www.lcaviagens.com.br
SUMMARY:FEIBRACON - Feira Brasileira das Construções em Concreto
DESCRIPTION:Construção Civil
URL:https://www.lcaviagens.com.br/eventos/feibracon-feira-brasileira-das-construcoes-em-concreto/
LOCATION:Natal\, Natal\, RN
CATEGORIES:Construção Civil
END:VEVENT
BEGIN:VEVENT
DTSTART;TZID=UTC:20260930T000000
DTEND;TZID=UTC:20261003T000000
DTSTAMP:20260423T000744
CREATED:20260418T035830Z
LAST-MODIFIED:20260422T012509Z
UID:1002027-1790726400-1790985600@www.lcaviagens.com.br
SUMMARY:CBC - Congresso Brasileiro de Concreto (Congresso Brasileiro do Concreto)
DESCRIPTION:Construção Civil
URL:https://www.lcaviagens.com.br/eventos/cbc-congresso-brasileiro-de-concreto-congresso-brasileiro-do-concreto/
LOCATION:Natal\, Natal\, RN
CATEGORIES:Construção Civil
END:VEVENT
BEGIN:VEVENT
DTSTART;TZID=UTC:20261015T000000
DTEND;TZID=UTC:20261016T000000
DTSTAMP:20260423T000744
CREATED:20260418T035527Z
LAST-MODIFIED:20260422T012223Z
UID:1001971-1792022400-1792108800@www.lcaviagens.com.br
SUMMARY:LC Summit - Convenção Nacional Lojacorr
DESCRIPTION:Construção Civil
URL:https://www.lcaviagens.com.br/eventos/lc-summit-convencao-nacional-lojacorr/
LOCATION:ExpoTrade Convention Center\, Pinhais\, PR
CATEGORIES:Construção Civil
END:VEVENT
END:VCALENDAR