BEGIN:VCALENDAR
VERSION:2.0
PRODID:-//LCA  - ECPv6.15.20//NONSGML v1.0//EN
CALSCALE:GREGORIAN
METHOD:PUBLISH
X-ORIGINAL-URL:https://www.lcaviagens.com.br
X-WR-CALDESC:Eventos para LCA 
REFRESH-INTERVAL;VALUE=DURATION:PT1H
X-Robots-Tag:noindex
X-PUBLISHED-TTL:PT1H
BEGIN:VTIMEZONE
TZID:UTC
BEGIN:STANDARD
TZOFFSETFROM:+0000
TZOFFSETTO:+0000
TZNAME:UTC
DTSTART:20250101T000000
END:STANDARD
END:VTIMEZONE
BEGIN:VEVENT
DTSTART;TZID=UTC:20260410T000000
DTEND;TZID=UTC:20260412T000000
DTSTAMP:20260423T040322
CREATED:20260417T155051Z
LAST-MODIFIED:20260422T000834Z
UID:996790-1775779200-1775952000@www.lcaviagens.com.br
SUMMARY:CONSTRU SÃO JOSÉ - Feira da Indústria da Construção do Vale do Paraíba
DESCRIPTION:Construção Civil
URL:https://www.lcaviagens.com.br/eventos/constru-sao-jose-feira-da-industria-da-construcao-do-vale-do-paraiba/
LOCATION:Vale Sul Shopping\, São José dos Campos\, SP
CATEGORIES:Construção Civil
END:VEVENT
END:VCALENDAR