BEGIN:VCALENDAR
VERSION:2.0
PRODID:-//LCA  - ECPv6.15.20//NONSGML v1.0//EN
CALSCALE:GREGORIAN
METHOD:PUBLISH
X-WR-CALNAME:LCA 
X-ORIGINAL-URL:https://www.lcaviagens.com.br
X-WR-CALDESC:Eventos para LCA 
REFRESH-INTERVAL;VALUE=DURATION:PT1H
X-Robots-Tag:noindex
X-PUBLISHED-TTL:PT1H
BEGIN:VTIMEZONE
TZID:UTC
BEGIN:STANDARD
TZOFFSETFROM:+0000
TZOFFSETTO:+0000
TZNAME:UTC
DTSTART:20250101T000000
END:STANDARD
END:VTIMEZONE
BEGIN:VEVENT
DTSTART;TZID=UTC:20260730T000000
DTEND;TZID=UTC:20260801T000000
DTSTAMP:20260423T160100
CREATED:20260417T222918Z
LAST-MODIFIED:20260422T005605Z
UID:999028-1785369600-1785542400@www.lcaviagens.com.br
SUMMARY:CONGRESSO DA ABRAJI - Congresso Internacional de Jornalismo Investigativo
DESCRIPTION:Comunicação Empresarial\, Feiras e Eventos
URL:https://www.lcaviagens.com.br/eventos/congresso-da-abraji-congresso-internacional-de-jornalismo-investigativo/
LOCATION:ESPM Tech\, São Paulo\, SP
CATEGORIES:Comunicação Empresarial,Feiras e Eventos
END:VEVENT
END:VCALENDAR