BEGIN:VCALENDAR
VERSION:2.0
PRODID:-//LCA  - ECPv6.15.20//NONSGML v1.0//EN
CALSCALE:GREGORIAN
METHOD:PUBLISH
X-WR-CALNAME:LCA 
X-ORIGINAL-URL:https://www.lcaviagens.com.br
X-WR-CALDESC:Eventos para LCA 
REFRESH-INTERVAL;VALUE=DURATION:PT1H
X-Robots-Tag:noindex
X-PUBLISHED-TTL:PT1H
BEGIN:VTIMEZONE
TZID:UTC
BEGIN:STANDARD
TZOFFSETFROM:+0000
TZOFFSETTO:+0000
TZNAME:UTC
DTSTART:20250101T000000
END:STANDARD
END:VTIMEZONE
BEGIN:VEVENT
DTSTART;TZID=UTC:20260817T000000
DTEND;TZID=UTC:20260820T000000
DTSTAMP:20260423T101327
CREATED:20260417T223217Z
LAST-MODIFIED:20260422T010404Z
UID:999303-1786924800-1787184000@www.lcaviagens.com.br
SUMMARY:Congresso SET Expo
DESCRIPTION:Radio\,TV\, Música\, Cine\, Foto\, Imagem e Som
URL:https://www.lcaviagens.com.br/eventos/congresso-set-expo/
LOCATION:Distrito Anhembi\, São Paulo\, SP
CATEGORIES:Cine,Foto,Imagem e Som,Música,Radio,TV
END:VEVENT
BEGIN:VEVENT
DTSTART;TZID=UTC:20260818T000000
DTEND;TZID=UTC:20260820T000000
DTSTAMP:20260423T101327
CREATED:20260417T223218Z
LAST-MODIFIED:20260422T010404Z
UID:999304-1787011200-1787184000@www.lcaviagens.com.br
SUMMARY:SET EXPO 2026 - Feira de Produtos e Serviços
DESCRIPTION:Radio\,TV\, Música\, Cine\, Foto\, Imagem e Som
URL:https://www.lcaviagens.com.br/eventos/set-expo-2026-feira-de-produtos-e-servicos/
LOCATION:Distrito Anhembi\, São Paulo\, SP
CATEGORIES:Cine,Foto,Imagem e Som,Música,Radio,TV
END:VEVENT
END:VCALENDAR