BEGIN:VCALENDAR
VERSION:2.0
PRODID:-//LCA  - ECPv6.15.20//NONSGML v1.0//EN
CALSCALE:GREGORIAN
METHOD:PUBLISH
X-WR-CALNAME:LCA 
X-ORIGINAL-URL:https://www.lcaviagens.com.br
X-WR-CALDESC:Eventos para LCA 
REFRESH-INTERVAL;VALUE=DURATION:PT1H
X-Robots-Tag:noindex
X-PUBLISHED-TTL:PT1H
BEGIN:VTIMEZONE
TZID:UTC
BEGIN:STANDARD
TZOFFSETFROM:+0000
TZOFFSETTO:+0000
TZNAME:UTC
DTSTART:20250101T000000
END:STANDARD
END:VTIMEZONE
BEGIN:VEVENT
DTSTART;TZID=UTC:20260723T000000
DTEND;TZID=UTC:20260726T000000
DTSTAMP:20260423T101343
CREATED:20260417T222831Z
LAST-MODIFIED:20260422T005419Z
UID:998985-1784764800-1785024000@www.lcaviagens.com.br
SUMMARY:EXPOCATÓLICA 2026 - Feira Internacional de Carismas\, Turismo\, Educação\, Livros e Artigos Religiosos (ExpoCatólica)
DESCRIPTION:Radio\,TV\, Música\, Cine\, Foto\, Imagem e Som
URL:https://www.lcaviagens.com.br/eventos/expocatolica-2026-feira-internacional-de-carismas-turismo-educacao-livros-e-artigos-religiosos-expocatolica/
LOCATION:Centro de Eventos Pro Magno\, São Paulo\, SP
CATEGORIES:Cine,Foto,Imagem e Som,Música,Radio,TV
END:VEVENT
END:VCALENDAR