BEGIN:VCALENDAR
VERSION:2.0
PRODID:-//LCA  - ECPv6.15.20//NONSGML v1.0//EN
CALSCALE:GREGORIAN
METHOD:PUBLISH
X-ORIGINAL-URL:https://www.lcaviagens.com.br
X-WR-CALDESC:Eventos para LCA 
REFRESH-INTERVAL;VALUE=DURATION:PT1H
X-Robots-Tag:noindex
X-PUBLISHED-TTL:PT1H
BEGIN:VTIMEZONE
TZID:UTC
BEGIN:STANDARD
TZOFFSETFROM:+0000
TZOFFSETTO:+0000
TZNAME:UTC
DTSTART:20250101T000000
END:STANDARD
END:VTIMEZONE
BEGIN:VEVENT
DTSTART;TZID=UTC:20260811T000000
DTEND;TZID=UTC:20260815T000000
DTSTAMP:20260423T070056
CREATED:20260417T223135Z
LAST-MODIFIED:20260422T010220Z
UID:999237-1786406400-1786752000@www.lcaviagens.com.br
SUMMARY:Goiâniacal Primavera/Verão (Goianiacal) (Agosto)
DESCRIPTION:Couro: Tecnologia\, Calçados e Artefatos
URL:https://www.lcaviagens.com.br/eventos/goianiacal-primavera-verao-goianiacal-agosto/
LOCATION:Centro de Convenções de Goiânia\, Goiânia\, GO
CATEGORIES:Calçados e Artefatos,Couro: Tecnologia
END:VEVENT
END:VCALENDAR