BEGIN:VCALENDAR
VERSION:2.0
PRODID:-//LCA  - ECPv6.15.20//NONSGML v1.0//EN
CALSCALE:GREGORIAN
METHOD:PUBLISH
X-ORIGINAL-URL:https://www.lcaviagens.com.br
X-WR-CALDESC:Eventos para LCA 
REFRESH-INTERVAL;VALUE=DURATION:PT1H
X-Robots-Tag:noindex
X-PUBLISHED-TTL:PT1H
BEGIN:VTIMEZONE
TZID:UTC
BEGIN:STANDARD
TZOFFSETFROM:+0000
TZOFFSETTO:+0000
TZNAME:UTC
DTSTART:20250101T000000
END:STANDARD
END:VTIMEZONE
BEGIN:VEVENT
DTSTART;TZID=UTC:20260623T000000
DTEND;TZID=UTC:20260625T000000
DTSTAMP:20260422T225559
CREATED:20260417T222418Z
LAST-MODIFIED:20260422T004404Z
UID:998729-1782172800-1782345600@www.lcaviagens.com.br
SUMMARY:CALCEMODA (Primavera/Verão)
DESCRIPTION:Couro: Tecnologia\, Calçados e Artefatos
URL:https://www.lcaviagens.com.br/eventos/calcemoda-primavera-verao/
LOCATION:Viasoft Experience\, Curitiba\, PR
CATEGORIES:Calçados e Artefatos,Couro: Tecnologia
END:VEVENT
END:VCALENDAR