BEGIN:VCALENDAR
VERSION:2.0
PRODID:-//LCA  - ECPv6.15.20//NONSGML v1.0//EN
CALSCALE:GREGORIAN
METHOD:PUBLISH
X-WR-CALNAME:LCA 
X-ORIGINAL-URL:https://www.lcaviagens.com.br
X-WR-CALDESC:Eventos para LCA 
REFRESH-INTERVAL;VALUE=DURATION:PT1H
X-Robots-Tag:noindex
X-PUBLISHED-TTL:PT1H
BEGIN:VTIMEZONE
TZID:UTC
BEGIN:STANDARD
TZOFFSETFROM:+0000
TZOFFSETTO:+0000
TZNAME:UTC
DTSTART:20250101T000000
END:STANDARD
END:VTIMEZONE
BEGIN:VEVENT
DTSTART;TZID=UTC:20260524T000000
DTEND;TZID=UTC:20260526T000000
DTSTAMP:20260422T225451
CREATED:20260417T161224Z
LAST-MODIFIED:20260422T003019Z
UID:997219-1779580800-1779753600@www.lcaviagens.com.br
SUMMARY:Goiâniacal Preview (Goianiacal) (Maio)
DESCRIPTION:Couro: Tecnologia\, Calçados e Artefatos
URL:https://www.lcaviagens.com.br/eventos/goianiacal-preview-goianiacal-maio/
LOCATION:Centro de Convenções de Goiânia\, Goiânia\, GO
CATEGORIES:Calçados e Artefatos,Couro: Tecnologia
END:VEVENT
END:VCALENDAR