BEGIN:VCALENDAR
VERSION:2.0
PRODID:-//LCA  - ECPv6.15.20//NONSGML v1.0//EN
CALSCALE:GREGORIAN
METHOD:PUBLISH
X-ORIGINAL-URL:https://www.lcaviagens.com.br
X-WR-CALDESC:Eventos para LCA 
REFRESH-INTERVAL;VALUE=DURATION:PT1H
X-Robots-Tag:noindex
X-PUBLISHED-TTL:PT1H
BEGIN:VTIMEZONE
TZID:UTC
BEGIN:STANDARD
TZOFFSETFROM:+0000
TZOFFSETTO:+0000
TZNAME:UTC
DTSTART:20250101T000000
END:STANDARD
END:VTIMEZONE
BEGIN:VEVENT
DTSTART;TZID=UTC:20260111T000000
DTEND;TZID=UTC:20260113T000000
DTSTAMP:20260423T024952
CREATED:20260417T151751Z
LAST-MODIFIED:20260421T233534Z
UID:996132-1768089600-1768262400@www.lcaviagens.com.br
SUMMARY:BAHIACAL (Janeiro)
DESCRIPTION:Couro: Tecnologia\, Calçados e Artefatos
URL:https://www.lcaviagens.com.br/eventos/bahiacal-janeiro/
LOCATION:Centro de Convenções de Salvador\, Salvador\, PR
CATEGORIES:Calçados e Artefatos,Couro: Tecnologia
END:VEVENT
BEGIN:VEVENT
DTSTART;TZID=UTC:20260113T000000
DTEND;TZID=UTC:20260116T000000
DTSTAMP:20260423T024952
CREATED:20260417T151821Z
LAST-MODIFIED:20260421T233604Z
UID:996141-1768262400-1768521600@www.lcaviagens.com.br
SUMMARY:FCA - Feira de Calçados e Acessórios (Antigo: Showroom de Calçados e Acessórios) (Vassouras)
DESCRIPTION:Couro: Tecnologia\, Calçados e Artefatos
URL:https://www.lcaviagens.com.br/eventos/fca-feira-de-calcados-e-acessorios-antigo-showroom-de-calcados-e-acessorios-vassouras/
LOCATION:Centro de Convenções General Sombra\, Vassouras\, RJ
CATEGORIES:Calçados e Artefatos,Couro: Tecnologia
END:VEVENT
BEGIN:VEVENT
DTSTART;TZID=UTC:20260119T000000
DTEND;TZID=UTC:20260121T000000
DTSTAMP:20260423T024952
CREATED:20260417T151951Z
LAST-MODIFIED:20260421T233734Z
UID:996172-1768780800-1768953600@www.lcaviagens.com.br
SUMMARY:FCA - Feira de Calçados e Acessórios (Antigo: Showroom de Calçados e Acessórios) (Uberlândia)
DESCRIPTION:Couro: Tecnologia\, Calçados e Artefatos
URL:https://www.lcaviagens.com.br/eventos/fca-feira-de-calcados-e-acessorios-antigo-showroom-de-calcados-e-acessorios-uberlandia/
LOCATION:Uberlândia\, Uberlândia\, MG
CATEGORIES:Calçados e Artefatos,Couro: Tecnologia
END:VEVENT
BEGIN:VEVENT
DTSTART;TZID=UTC:20260120T000000
DTEND;TZID=UTC:20260122T000000
DTSTAMP:20260423T024952
CREATED:20260417T152007Z
LAST-MODIFIED:20260421T233748Z
UID:996176-1768867200-1769040000@www.lcaviagens.com.br
SUMMARY:CALCEMODA (Outono/Inverno)
DESCRIPTION:Couro: Tecnologia\, Calçados e Artefatos
URL:https://www.lcaviagens.com.br/eventos/calcemoda-outono-inverno/
LOCATION:Viasoft Experience\, Curitiba\, PR
CATEGORIES:Calçados e Artefatos,Couro: Tecnologia
END:VEVENT
BEGIN:VEVENT
DTSTART;TZID=UTC:20260121T000000
DTEND;TZID=UTC:20260123T000000
DTSTAMP:20260423T024952
CREATED:20260417T152007Z
LAST-MODIFIED:20260421T233749Z
UID:996178-1768953600-1769126400@www.lcaviagens.com.br
SUMMARY:FEMODA - Feira de Calçados\, Confecções e Acessórios (Janeiro)
DESCRIPTION:Couro: Tecnologia\, Calçados e Artefatos
URL:https://www.lcaviagens.com.br/eventos/femoda-feira-de-calcados-confeccoes-e-acessorios-janeiro/
LOCATION:Centro de Eventos do Pantanal\, Cuiabá\, MT
CATEGORIES:Calçados e Artefatos,Couro: Tecnologia
END:VEVENT
BEGIN:VEVENT
DTSTART;TZID=UTC:20260127T000000
DTEND;TZID=UTC:20260128T000000
DTSTAMP:20260423T024952
CREATED:20260417T152150Z
LAST-MODIFIED:20260421T233934Z
UID:996211-1769472000-1769558400@www.lcaviagens.com.br
SUMMARY:INSPIRAMAIS - Salão de Design e Inovação de Componentes (Janeiro)
DESCRIPTION:Couro: Tecnologia\, Calçados e Artefatos
URL:https://www.lcaviagens.com.br/eventos/inspiramais-salao-de-design-e-inovacao-de-componentes-janeiro/
LOCATION:Centro de Eventos FIERGS\, Porto Alegre\, RS
CATEGORIES:Calçados e Artefatos,Couro: Tecnologia
END:VEVENT
BEGIN:VEVENT
DTSTART;TZID=UTC:20260127T000000
DTEND;TZID=UTC:20260129T000000
DTSTAMP:20260423T024952
CREATED:20260417T152121Z
LAST-MODIFIED:20260421T233904Z
UID:996203-1769472000-1769644800@www.lcaviagens.com.br
SUMMARY:FCA - Feira de Calçados e Acessórios (Antigo: Showroom de Calçados e Acessórios) (Juiz de Fora)
DESCRIPTION:Couro: Tecnologia\, Calçados e Artefatos
URL:https://www.lcaviagens.com.br/eventos/fca-feira-de-calcados-e-acessorios-antigo-showroom-de-calcados-e-acessorios-juiz-de-fora/
LOCATION:Trade Hotel e Eventos\, Juiz de Fora\, MG
CATEGORIES:Calçados e Artefatos,Couro: Tecnologia
END:VEVENT
END:VCALENDAR