BEGIN:VCALENDAR
VERSION:2.0
PRODID:-//LCA  - ECPv6.15.20//NONSGML v1.0//EN
CALSCALE:GREGORIAN
METHOD:PUBLISH
X-WR-CALNAME:LCA 
X-ORIGINAL-URL:https://www.lcaviagens.com.br
X-WR-CALDESC:Eventos para LCA 
REFRESH-INTERVAL;VALUE=DURATION:PT1H
X-Robots-Tag:noindex
X-PUBLISHED-TTL:PT1H
BEGIN:VTIMEZONE
TZID:UTC
BEGIN:STANDARD
TZOFFSETFROM:+0000
TZOFFSETTO:+0000
TZNAME:UTC
DTSTART:20250101T000000
END:STANDARD
END:VTIMEZONE
BEGIN:VEVENT
DTSTART;TZID=UTC:20260409T000000
DTEND;TZID=UTC:20260411T000000
DTSTAMP:20260422T225107
CREATED:20260417T154954Z
LAST-MODIFIED:20260422T000734Z
UID:996768-1775692800-1775865600@www.lcaviagens.com.br
SUMMARY:Expo Louças (Salto do Lontra)
DESCRIPTION:Utilidades do Lar\, Presentes\, Brindes e Brinquedos
URL:https://www.lcaviagens.com.br/eventos/expo-loucas-salto-do-lontra/
LOCATION:Apae\, Salto do Lontra\, PR
CATEGORIES:Brindes e Brinquedos,Presentes,Utilidades do Lar
END:VEVENT
END:VCALENDAR