BEGIN:VCALENDAR
VERSION:2.0
PRODID:-//LCA  - ECPv6.15.20//NONSGML v1.0//EN
CALSCALE:GREGORIAN
METHOD:PUBLISH
X-WR-CALNAME:LCA 
X-ORIGINAL-URL:https://www.lcaviagens.com.br
X-WR-CALDESC:Eventos para LCA 
REFRESH-INTERVAL;VALUE=DURATION:PT1H
X-Robots-Tag:noindex
X-PUBLISHED-TTL:PT1H
BEGIN:VTIMEZONE
TZID:UTC
BEGIN:STANDARD
TZOFFSETFROM:+0000
TZOFFSETTO:+0000
TZNAME:UTC
DTSTART:20250101T000000
END:STANDARD
END:VTIMEZONE
BEGIN:VEVENT
DTSTART;TZID=UTC:20260305T000000
DTEND;TZID=UTC:20260307T000000
DTSTAMP:20260423T012545
CREATED:20260417T152921Z
LAST-MODIFIED:20260421T234704Z
UID:996365-1772668800-1772841600@www.lcaviagens.com.br
SUMMARY:Expo Louças (Toledo)
DESCRIPTION:Utilidades do Lar\, Presentes\, Brindes e Brinquedos
URL:https://www.lcaviagens.com.br/eventos/expo-loucas-toledo/
LOCATION:Quadra da Apada\, Toledo\, PR
CATEGORIES:Brindes e Brinquedos,Presentes,Utilidades do Lar
END:VEVENT
BEGIN:VEVENT
DTSTART;TZID=UTC:20260305T000000
DTEND;TZID=UTC:20260307T000000
DTSTAMP:20260423T012545
CREATED:20260417T152935Z
LAST-MODIFIED:20260421T234719Z
UID:996366-1772668800-1772841600@www.lcaviagens.com.br
SUMMARY:Expo Louças (Trindade)
DESCRIPTION:Utilidades do Lar\, Presentes\, Brindes e Brinquedos
URL:https://www.lcaviagens.com.br/eventos/expo-loucas-trindade/
LOCATION:Associação Alegria de Viver\, Trindade\, GO
CATEGORIES:Brindes e Brinquedos,Presentes,Utilidades do Lar
END:VEVENT
END:VCALENDAR