BEGIN:VCALENDAR
VERSION:2.0
PRODID:-//LCA  - ECPv6.15.20//NONSGML v1.0//EN
CALSCALE:GREGORIAN
METHOD:PUBLISH
X-WR-CALNAME:LCA 
X-ORIGINAL-URL:https://www.lcaviagens.com.br
X-WR-CALDESC:Eventos para LCA 
REFRESH-INTERVAL;VALUE=DURATION:PT1H
X-Robots-Tag:noindex
X-PUBLISHED-TTL:PT1H
BEGIN:VTIMEZONE
TZID:UTC
BEGIN:STANDARD
TZOFFSETFROM:+0000
TZOFFSETTO:+0000
TZNAME:UTC
DTSTART:20250101T000000
END:STANDARD
END:VTIMEZONE
BEGIN:VEVENT
DTSTART;TZID=UTC:20260202T000000
DTEND;TZID=UTC:20260205T000000
DTSTAMP:20260423T024220
CREATED:20260417T152306Z
LAST-MODIFIED:20260421T234049Z
UID:996236-1769990400-1770249600@www.lcaviagens.com.br
SUMMARY:ABUP SHOW (Fevereiro)
DESCRIPTION:Utilidades do Lar\, Presentes\, Brindes e Brinquedos
URL:https://www.lcaviagens.com.br/eventos/abup-show-fevereiro/
LOCATION:Distrito Anhembi\, São Paulo\, SP
CATEGORIES:Brindes e Brinquedos,Presentes,Utilidades do Lar
END:VEVENT
BEGIN:VEVENT
DTSTART;TZID=UTC:20260205T000000
DTEND;TZID=UTC:20260207T000000
DTSTAMP:20260423T024220
CREATED:20260417T152352Z
LAST-MODIFIED:20260421T234134Z
UID:996253-1770249600-1770422400@www.lcaviagens.com.br
SUMMARY:Expo Louças (Indaiatuba)
DESCRIPTION:Utilidades do Lar\, Presentes\, Brindes e Brinquedos
URL:https://www.lcaviagens.com.br/eventos/expo-loucas-indaiatuba/
LOCATION:Associação Somos do Bem\, Indaiatuba\, SP
CATEGORIES:Brindes e Brinquedos,Presentes,Utilidades do Lar
END:VEVENT
BEGIN:VEVENT
DTSTART;TZID=UTC:20260208T000000
DTEND;TZID=UTC:20260211T000000
DTSTAMP:20260423T024220
CREATED:20260417T152421Z
LAST-MODIFIED:20260421T234205Z
UID:996265-1770508800-1770768000@www.lcaviagens.com.br
SUMMARY:ABCasa Fair (Fevereiro)
DESCRIPTION:Utilidades do Lar\, Presentes\, Brindes e Brinquedos
URL:https://www.lcaviagens.com.br/eventos/abcasa-fair-fevereiro/
LOCATION:Expo Center Norte\, São Paulo\, SP
CATEGORIES:Brindes e Brinquedos,Presentes,Utilidades do Lar
END:VEVENT
BEGIN:VEVENT
DTSTART;TZID=UTC:20260210T000000
DTEND;TZID=UTC:20260212T000000
DTSTAMP:20260423T024220
CREATED:20260417T152451Z
LAST-MODIFIED:20260421T234234Z
UID:996272-1770681600-1770854400@www.lcaviagens.com.br
SUMMARY:Expo Louças (Jataí)
DESCRIPTION:Utilidades do Lar\, Presentes\, Brindes e Brinquedos
URL:https://www.lcaviagens.com.br/eventos/expo-loucas-jatai/
LOCATION:Feira Coberta\, Jataí\, GO
CATEGORIES:Brindes e Brinquedos,Presentes,Utilidades do Lar
END:VEVENT
BEGIN:VEVENT
DTSTART;TZID=UTC:20260212T000000
DTEND;TZID=UTC:20260214T000000
DTSTAMP:20260423T024220
CREATED:20260417T152507Z
LAST-MODIFIED:20260421T234248Z
UID:996277-1770854400-1771027200@www.lcaviagens.com.br
SUMMARY:Expo Louças (Antonina)
DESCRIPTION:Utilidades do Lar\, Presentes\, Brindes e Brinquedos
URL:https://www.lcaviagens.com.br/eventos/expo-loucas-antonina/
LOCATION:Apae\, Salto do Lontra\, PR
CATEGORIES:Brindes e Brinquedos,Presentes,Utilidades do Lar
END:VEVENT
BEGIN:VEVENT
DTSTART;TZID=UTC:20260219T000000
DTEND;TZID=UTC:20260221T000000
DTSTAMP:20260423T024220
CREATED:20260417T152536Z
LAST-MODIFIED:20260421T234319Z
UID:996289-1771459200-1771632000@www.lcaviagens.com.br
SUMMARY:Expo Louças (Barra Velha)
DESCRIPTION:Utilidades do Lar\, Presentes\, Brindes e Brinquedos
URL:https://www.lcaviagens.com.br/eventos/expo-loucas-barra-velha/
LOCATION:Apea\, Barra Velha\, SC
CATEGORIES:Brindes e Brinquedos,Presentes,Utilidades do Lar
END:VEVENT
BEGIN:VEVENT
DTSTART;TZID=UTC:20260220T000000
DTEND;TZID=UTC:20260222T000000
DTSTAMP:20260423T024220
CREATED:20260417T152551Z
LAST-MODIFIED:20260421T234334Z
UID:996293-1771545600-1771718400@www.lcaviagens.com.br
SUMMARY:Expo Louças (Rio Verde)
DESCRIPTION:Utilidades do Lar\, Presentes\, Brindes e Brinquedos
URL:https://www.lcaviagens.com.br/eventos/expo-loucas-rio-verde/
LOCATION:Rotary Club de Rio Verde\, Rio Verde\, GO
CATEGORIES:Brindes e Brinquedos,Presentes,Utilidades do Lar
END:VEVENT
BEGIN:VEVENT
DTSTART;TZID=UTC:20260224T000000
DTEND;TZID=UTC:20260226T000000
DTSTAMP:20260423T024220
CREATED:20260417T152622Z
LAST-MODIFIED:20260421T234404Z
UID:996305-1771891200-1772064000@www.lcaviagens.com.br
SUMMARY:Expo Louças (Caçu)
DESCRIPTION:Utilidades do Lar\, Presentes\, Brindes e Brinquedos
URL:https://www.lcaviagens.com.br/eventos/expo-loucas-cacu/
LOCATION:Salão da Paróquia Sagrado Coração de Jesus\, Caçu\, GO
CATEGORIES:Brindes e Brinquedos,Presentes,Utilidades do Lar
END:VEVENT
BEGIN:VEVENT
DTSTART;TZID=UTC:20260226T000000
DTEND;TZID=UTC:20260228T000000
DTSTAMP:20260423T024220
CREATED:20260417T152722Z
LAST-MODIFIED:20260421T234504Z
UID:996325-1772064000-1772236800@www.lcaviagens.com.br
SUMMARY:Expo Louças (Balneário Barra do Sul)
DESCRIPTION:Utilidades do Lar\, Presentes\, Brindes e Brinquedos
URL:https://www.lcaviagens.com.br/eventos/expo-loucas-balneario-barra-do-sul/
LOCATION:Apae\, Salto do Lontra\, PR
CATEGORIES:Brindes e Brinquedos,Presentes,Utilidades do Lar
END:VEVENT
END:VCALENDAR