BEGIN:VCALENDAR
VERSION:2.0
PRODID:-//LCA  - ECPv6.15.20//NONSGML v1.0//EN
CALSCALE:GREGORIAN
METHOD:PUBLISH
X-ORIGINAL-URL:https://www.lcaviagens.com.br
X-WR-CALDESC:Eventos para LCA 
REFRESH-INTERVAL;VALUE=DURATION:PT1H
X-Robots-Tag:noindex
X-PUBLISHED-TTL:PT1H
BEGIN:VTIMEZONE
TZID:UTC
BEGIN:STANDARD
TZOFFSETFROM:+0000
TZOFFSETTO:+0000
TZNAME:UTC
DTSTART:20250101T000000
END:STANDARD
END:VTIMEZONE
BEGIN:VEVENT
DTSTART;TZID=UTC:20260318T000000
DTEND;TZID=UTC:20260322T000000
DTSTAMP:20260423T104327
CREATED:20260417T153721Z
LAST-MODIFIED:20260421T235520Z
UID:996524-1773792000-1774137600@www.lcaviagens.com.br
SUMMARY:Feira da Gestante (Campinas)
DESCRIPTION:Moda Gestante\, Bebê e Criança
URL:https://www.lcaviagens.com.br/eventos/feira-da-gestante-campinas/
LOCATION:Expo Boulevard Iguatemi\, Campinas\, SP
CATEGORIES:Bebê e Criança,Moda Gestante
END:VEVENT
END:VCALENDAR