BEGIN:VCALENDAR
VERSION:2.0
PRODID:-//LCA  - ECPv6.15.20//NONSGML v1.0//EN
CALSCALE:GREGORIAN
METHOD:PUBLISH
X-ORIGINAL-URL:https://www.lcaviagens.com.br
X-WR-CALDESC:Eventos para LCA 
REFRESH-INTERVAL;VALUE=DURATION:PT1H
X-Robots-Tag:noindex
X-PUBLISHED-TTL:PT1H
BEGIN:VTIMEZONE
TZID:UTC
BEGIN:STANDARD
TZOFFSETFROM:+0000
TZOFFSETTO:+0000
TZNAME:UTC
DTSTART:20250101T000000
END:STANDARD
END:VTIMEZONE
BEGIN:VEVENT
DTSTART;TZID=UTC:20260311T000000
DTEND;TZID=UTC:20260315T000000
DTSTAMP:20260423T104326
CREATED:20260417T153251Z
LAST-MODIFIED:20260421T235033Z
UID:996433-1773187200-1773532800@www.lcaviagens.com.br
SUMMARY:Feira da Gestante (Brasília)
DESCRIPTION:Moda Gestante\, Bebê e Criança
URL:https://www.lcaviagens.com.br/eventos/feira-da-gestante-brasilia/
LOCATION:Pátio Brasil Shopping\, Brasília\, DF
CATEGORIES:Bebê e Criança,Moda Gestante
END:VEVENT
END:VCALENDAR