BEGIN:VCALENDAR
VERSION:2.0
PRODID:-//LCA  - ECPv6.15.20//NONSGML v1.0//EN
CALSCALE:GREGORIAN
METHOD:PUBLISH
X-ORIGINAL-URL:https://www.lcaviagens.com.br
X-WR-CALDESC:Eventos para LCA 
REFRESH-INTERVAL;VALUE=DURATION:PT1H
X-Robots-Tag:noindex
X-PUBLISHED-TTL:PT1H
BEGIN:VTIMEZONE
TZID:UTC
BEGIN:STANDARD
TZOFFSETFROM:+0000
TZOFFSETTO:+0000
TZNAME:UTC
DTSTART:20250101T000000
END:STANDARD
END:VTIMEZONE
BEGIN:VEVENT
DTSTART;TZID=UTC:20260702T000000
DTEND;TZID=UTC:20260703T000000
DTSTAMP:20260423T162625
CREATED:20260417T222643Z
LAST-MODIFIED:20260422T004949Z
UID:998886-1782950400-1783036800@www.lcaviagens.com.br
SUMMARY:ETG - Expo Turismo Goiás
DESCRIPTION:Turismo\, Hotéis\, Bares e Restaurantes
URL:https://www.lcaviagens.com.br/eventos/etg-expo-turismo-goias/
LOCATION:Centro de Convenções de Goiânia\, Goiânia\, GO
CATEGORIES:Bares e Restaurantes,Hotéis,Turismo
END:VEVENT
END:VCALENDAR