BEGIN:VCALENDAR
VERSION:2.0
PRODID:-//LCA  - ECPv6.15.20//NONSGML v1.0//EN
CALSCALE:GREGORIAN
METHOD:PUBLISH
X-WR-CALNAME:LCA 
X-ORIGINAL-URL:https://www.lcaviagens.com.br
X-WR-CALDESC:Eventos para LCA 
REFRESH-INTERVAL;VALUE=DURATION:PT1H
X-Robots-Tag:noindex
X-PUBLISHED-TTL:PT1H
BEGIN:VTIMEZONE
TZID:UTC
BEGIN:STANDARD
TZOFFSETFROM:+0000
TZOFFSETTO:+0000
TZNAME:UTC
DTSTART:20250101T000000
END:STANDARD
END:VTIMEZONE
BEGIN:VEVENT
DTSTART;TZID=UTC:20260414T000000
DTEND;TZID=UTC:20260416T000000
DTSTAMP:20260423T091802
CREATED:20260417T155221Z
LAST-MODIFIED:20260422T001005Z
UID:996817-1776124800-1776297600@www.lcaviagens.com.br
SUMMARY:WTM LATIN AMERICA - World Travel Market Latin America
DESCRIPTION:Turismo\, Hotéis\, Bares e Restaurantes
URL:https://www.lcaviagens.com.br/eventos/wtm-latin-america-world-travel-market-latin-america/
LOCATION:Expo Center Norte\, São Paulo\, SP
CATEGORIES:Bares e Restaurantes,Hotéis,Turismo
END:VEVENT
END:VCALENDAR