BEGIN:VCALENDAR
VERSION:2.0
PRODID:-//LCA  - ECPv6.15.20//NONSGML v1.0//EN
CALSCALE:GREGORIAN
METHOD:PUBLISH
X-WR-CALNAME:LCA 
X-ORIGINAL-URL:https://www.lcaviagens.com.br
X-WR-CALDESC:Eventos para LCA 
REFRESH-INTERVAL;VALUE=DURATION:PT1H
X-Robots-Tag:noindex
X-PUBLISHED-TTL:PT1H
BEGIN:VTIMEZONE
TZID:UTC
BEGIN:STANDARD
TZOFFSETFROM:+0000
TZOFFSETTO:+0000
TZNAME:UTC
DTSTART:20250101T000000
END:STANDARD
END:VTIMEZONE
BEGIN:VEVENT
DTSTART;TZID=UTC:20260602T000000
DTEND;TZID=UTC:20260602T000000
DTSTAMP:20260423T133143
CREATED:20260417T222125Z
LAST-MODIFIED:20260422T003704Z
UID:998573-1780358400-1780358400@www.lcaviagens.com.br
SUMMARY:Panrotas Next (Belo Horizonte)
DESCRIPTION:Turismo\, Hotéis\, Bares e Restaurantes
URL:https://www.lcaviagens.com.br/eventos/panrotas-next-belo-horizonte/
LOCATION:Belo Horizonte\, Belo Horizonte\, GO
CATEGORIES:Bares e Restaurantes,Hotéis,Turismo
END:VEVENT
BEGIN:VEVENT
DTSTART;TZID=UTC:20260610T000000
DTEND;TZID=UTC:20260612T000000
DTSTAMP:20260423T133143
CREATED:20260417T222231Z
LAST-MODIFIED:20260422T003934Z
UID:998630-1781049600-1781222400@www.lcaviagens.com.br
SUMMARY:Fórum Internacional de Turismo do Iguassu
DESCRIPTION:Turismo\, Hotéis\, Bares e Restaurantes
URL:https://www.lcaviagens.com.br/eventos/forum-internacional-de-turismo-do-iguassu/
LOCATION:Foz do Iguaçu\, Foz do Iguaçu\, PR
CATEGORIES:Bares e Restaurantes,Hotéis,Turismo
END:VEVENT
BEGIN:VEVENT
DTSTART;TZID=UTC:20260610T000000
DTEND;TZID=UTC:20260612T000000
DTSTAMP:20260423T133143
CREATED:20260417T222231Z
LAST-MODIFIED:20260422T003934Z
UID:998631-1781049600-1781222400@www.lcaviagens.com.br
SUMMARY:Festival das Cataratas (Festival de Turismo das Cataratas)
DESCRIPTION:Turismo\, Hotéis\, Bares e Restaurantes
URL:https://www.lcaviagens.com.br/eventos/festival-das-cataratas-festival-de-turismo-das-cataratas/
LOCATION:Foz do Iguaçu\, Foz do Iguaçu\, PR
CATEGORIES:Bares e Restaurantes,Hotéis,Turismo
END:VEVENT
BEGIN:VEVENT
DTSTART;TZID=UTC:20260623T000000
DTEND;TZID=UTC:20260625T000000
DTSTAMP:20260423T133143
CREATED:20260417T222412Z
LAST-MODIFIED:20260422T004349Z
UID:998724-1782172800-1782345600@www.lcaviagens.com.br
SUMMARY:SULSERVE - Feira de Padaria\, Gastronomia e Hotelaria
DESCRIPTION:Turismo\, Hotéis\, Bares e Restaurantes
URL:https://www.lcaviagens.com.br/eventos/sulserve-feira-de-padaria-gastronomia-e-hotelaria/
LOCATION:Fenac – Centro de Eventos e Negócios\, Novo Hamburgo\, RS
CATEGORIES:Bares e Restaurantes,Hotéis,Turismo
END:VEVENT
BEGIN:VEVENT
DTSTART;TZID=UTC:20260627T000000
DTEND;TZID=UTC:20260627T000000
DTSTAMP:20260423T133143
CREATED:20260417T222505Z
LAST-MODIFIED:20260422T004535Z
UID:998769-1782518400-1782518400@www.lcaviagens.com.br
SUMMARY:Meeting Corporativo & Lazer (Meetings Corporativos) (São Paulo)
DESCRIPTION:Turismo\, Hotéis\, Bares e Restaurantes
URL:https://www.lcaviagens.com.br/eventos/meeting-corporativo-lazer-meetings-corporativos-sao-paulo/
LOCATION:São Paulo\, São Paulo\, SP
CATEGORIES:Bares e Restaurantes,Hotéis,Turismo
END:VEVENT
END:VCALENDAR