BEGIN:VCALENDAR
VERSION:2.0
PRODID:-//LCA  - ECPv6.15.20//NONSGML v1.0//EN
CALSCALE:GREGORIAN
METHOD:PUBLISH
X-ORIGINAL-URL:https://www.lcaviagens.com.br
X-WR-CALDESC:Eventos para LCA 
REFRESH-INTERVAL;VALUE=DURATION:PT1H
X-Robots-Tag:noindex
X-PUBLISHED-TTL:PT1H
BEGIN:VTIMEZONE
TZID:UTC
BEGIN:STANDARD
TZOFFSETFROM:+0000
TZOFFSETTO:+0000
TZNAME:UTC
DTSTART:20250101T000000
END:STANDARD
END:VTIMEZONE
BEGIN:VEVENT
DTSTART;TZID=UTC:20260303T000000
DTEND;TZID=UTC:20260304T000000
DTSTAMP:20260423T091803
CREATED:20260417T152851Z
LAST-MODIFIED:20260421T234634Z
UID:996355-1772496000-1772582400@www.lcaviagens.com.br
SUMMARY:Fórum Panrotas 2026
DESCRIPTION:Turismo\, Hotéis\, Bares e Restaurantes
URL:https://www.lcaviagens.com.br/eventos/forum-panrotas-2026/
LOCATION:WTC – World Trade Center São Paulo\, São Paulo\, SP
CATEGORIES:Bares e Restaurantes,Hotéis,Turismo
END:VEVENT
BEGIN:VEVENT
DTSTART;TZID=UTC:20260304T000000
DTEND;TZID=UTC:20260308T000000
DTSTAMP:20260423T091803
CREATED:20260417T154751Z
LAST-MODIFIED:20260422T000548Z
UID:996732-1772582400-1772928000@www.lcaviagens.com.br
SUMMARY:Rodada de Negócios Foco - Feira da Foco Operadora
DESCRIPTION:Turismo\, Hotéis\, Bares e Restaurantes
URL:https://www.lcaviagens.com.br/eventos/rodada-de-negocios-foco-feira-da-foco-operadora/
LOCATION:Bento Gonçalves\, Bento Gonçalves\, RS
CATEGORIES:Bares e Restaurantes,Hotéis,Turismo
END:VEVENT
BEGIN:VEVENT
DTSTART;TZID=UTC:20260305T000000
DTEND;TZID=UTC:20260309T000000
DTSTAMP:20260423T091803
CREATED:20260417T152951Z
LAST-MODIFIED:20260421T234734Z
UID:996371-1772668800-1773014400@www.lcaviagens.com.br
SUMMARY:Convenção de Vendas CVC 2026
DESCRIPTION:Turismo\, Hotéis\, Bares e Restaurantes
URL:https://www.lcaviagens.com.br/eventos/convencao-de-vendas-cvc-2026/
LOCATION:Centro de Convenções de João Pessoa – Centro de Convenções Poeta Ronaldo Cunha Lima\, João Pessoa\, PB
CATEGORIES:Bares e Restaurantes,Hotéis,Turismo
END:VEVENT
BEGIN:VEVENT
DTSTART;TZID=UTC:20260309T000000
DTEND;TZID=UTC:20260309T000000
DTSTAMP:20260423T091803
CREATED:20260417T153137Z
LAST-MODIFIED:20260421T234919Z
UID:996409-1773014400-1773014400@www.lcaviagens.com.br
SUMMARY:Agenda Brasil 2026
DESCRIPTION:Turismo\, Hotéis\, Bares e Restaurantes
URL:https://www.lcaviagens.com.br/eventos/agenda-brasil-2026/
LOCATION:Club Homs\, São Paulo\, SP
CATEGORIES:Bares e Restaurantes,Hotéis,Turismo
END:VEVENT
BEGIN:VEVENT
DTSTART;TZID=UTC:20260311T000000
DTEND;TZID=UTC:20260312T000000
DTSTAMP:20260423T091803
CREATED:20260417T153321Z
LAST-MODIFIED:20260421T235104Z
UID:996445-1773187200-1773273600@www.lcaviagens.com.br
SUMMARY:Abav TravelSP (Antiga Aviesp Expo)
DESCRIPTION:Turismo\, Hotéis\, Bares e Restaurantes
URL:https://www.lcaviagens.com.br/eventos/abav-travelsp-antiga-aviesp-expo/
LOCATION:Royal Palm Plaza Resort\, Campinas\, SP
CATEGORIES:Bares e Restaurantes,Hotéis,Turismo
END:VEVENT
BEGIN:VEVENT
DTSTART;TZID=UTC:20260312T000000
DTEND;TZID=UTC:20260314T000000
DTSTAMP:20260423T091803
CREATED:20260417T153406Z
LAST-MODIFIED:20260421T235203Z
UID:996456-1773273600-1773446400@www.lcaviagens.com.br
SUMMARY:TurisMall
DESCRIPTION:Turismo\, Hotéis\, Bares e Restaurantes
URL:https://www.lcaviagens.com.br/eventos/turismall/
LOCATION:Museu do Amanhã\, Rio de Janeiro\, RJ
CATEGORIES:Bares e Restaurantes,Hotéis,Turismo
END:VEVENT
BEGIN:VEVENT
DTSTART;TZID=UTC:20260312T000000
DTEND;TZID=UTC:20260412T000000
DTSTAMP:20260423T091803
CREATED:20260418T021949Z
LAST-MODIFIED:20260421T235234Z
UID:1000212-1773273600-1775952000@www.lcaviagens.com.br
SUMMARY:ChocoPáscoa Gramado 2026 (Choco Páscoa Gramado)
DESCRIPTION:Turismo\, Hotéis\, Bares e Restaurantes
URL:https://www.lcaviagens.com.br/eventos/chocopascoa-gramado-2026-choco-pascoa-gramado/
LOCATION:Gramado\, Gramado\, RS
CATEGORIES:Bares e Restaurantes,Hotéis,Turismo
END:VEVENT
BEGIN:VEVENT
DTSTART;TZID=UTC:20260314T000000
DTEND;TZID=UTC:20260315T000000
DTSTAMP:20260423T091803
CREATED:20260417T153536Z
LAST-MODIFIED:20260421T235334Z
UID:996489-1773446400-1773532800@www.lcaviagens.com.br
SUMMARY:Cruise360 Brasil 2026
DESCRIPTION:Turismo\, Hotéis\, Bares e Restaurantes
URL:https://www.lcaviagens.com.br/eventos/cruise360-brasil-2026/
LOCATION:Santos\, Santos\, SP
CATEGORIES:Bares e Restaurantes,Hotéis,Turismo
END:VEVENT
BEGIN:VEVENT
DTSTART;TZID=UTC:20260319T000000
DTEND;TZID=UTC:20260319T000000
DTSTAMP:20260423T091803
CREATED:20260417T153905Z
LAST-MODIFIED:20260421T235704Z
UID:996557-1773878400-1773878400@www.lcaviagens.com.br
SUMMARY:Fórum Hospitalidade Acessível 2026
DESCRIPTION:Turismo\, Hotéis\, Bares e Restaurantes
URL:https://www.lcaviagens.com.br/eventos/forum-hospitalidade-acessivel-2026/
LOCATION:Secretaria de Estado dos Direitos da Pessoa com Deficiência\, São Paulo\, SP
CATEGORIES:Bares e Restaurantes,Hotéis,Turismo
END:VEVENT
BEGIN:VEVENT
DTSTART;TZID=UTC:20260320T000000
DTEND;TZID=UTC:20260321T000000
DTSTAMP:20260423T091803
CREATED:20260417T153951Z
LAST-MODIFIED:20260421T235749Z
UID:996572-1773964800-1774051200@www.lcaviagens.com.br
SUMMARY:FEMPTUR - Feira dos Municípios e Produtos Turísticos do RN
DESCRIPTION:Turismo\, Hotéis\, Bares e Restaurantes
URL:https://www.lcaviagens.com.br/eventos/femptur-feira-dos-municipios-e-produtos-turisticos-do-rn/
LOCATION:Centro de Convenções de Natal\, Natal\, RN
CATEGORIES:Bares e Restaurantes,Hotéis,Turismo
END:VEVENT
BEGIN:VEVENT
DTSTART;TZID=UTC:20260320T000000
DTEND;TZID=UTC:20260321T000000
DTSTAMP:20260423T091803
CREATED:20260417T153951Z
LAST-MODIFIED:20260421T235748Z
UID:996571-1773964800-1774051200@www.lcaviagens.com.br
SUMMARY:Fórum de Turismo do RN
DESCRIPTION:Turismo\, Hotéis\, Bares e Restaurantes
URL:https://www.lcaviagens.com.br/eventos/forum-de-turismo-do-rn/
LOCATION:Centro de Convenções de Natal\, Natal\, RN
CATEGORIES:Bares e Restaurantes,Hotéis,Turismo
END:VEVENT
BEGIN:VEVENT
DTSTART;TZID=UTC:20260322T000000
DTEND;TZID=UTC:20260327T000000
DTSTAMP:20260423T091803
CREATED:20260417T154221Z
LAST-MODIFIED:20260422T000019Z
UID:996621-1774137600-1774569600@www.lcaviagens.com.br
SUMMARY:WMT 2026 - Workshop Masterop Travel
DESCRIPTION:Turismo\, Hotéis\, Bares e Restaurantes
URL:https://www.lcaviagens.com.br/eventos/wmt-2026-workshop-masterop-travel/
LOCATION:Gramado\, Gramado\, RS
CATEGORIES:Bares e Restaurantes,Hotéis,Turismo
END:VEVENT
BEGIN:VEVENT
DTSTART;TZID=UTC:20260325T000000
DTEND;TZID=UTC:20260326T000000
DTSTAMP:20260423T091803
CREATED:20260417T154406Z
LAST-MODIFIED:20260422T000204Z
UID:996660-1774396800-1774483200@www.lcaviagens.com.br
SUMMARY:EXPOTEL 2026 - Feira Internacional para Hotelaria
DESCRIPTION:Turismo\, Hotéis\, Bares e Restaurantes
URL:https://www.lcaviagens.com.br/eventos/expotel-2026-feira-internacional-para-hotelaria/
LOCATION:Centro de Eventos São Luís\, São Paulo\, SP
CATEGORIES:Bares e Restaurantes,Hotéis,Turismo
END:VEVENT
BEGIN:VEVENT
DTSTART;TZID=UTC:20260325T000000
DTEND;TZID=UTC:20260326T000000
DTSTAMP:20260423T091803
CREATED:20260417T154420Z
LAST-MODIFIED:20260422T000219Z
UID:996661-1774396800-1774483200@www.lcaviagens.com.br
SUMMARY:SIMPOTEL - Simpósio Paulista de Gestão Hoteleira
DESCRIPTION:Turismo\, Hotéis\, Bares e Restaurantes
URL:https://www.lcaviagens.com.br/eventos/simpotel-simposio-paulista-de-gestao-hoteleira/
LOCATION:Centro de Eventos São Luís\, São Paulo\, SP
CATEGORIES:Bares e Restaurantes,Hotéis,Turismo
END:VEVENT
BEGIN:VEVENT
DTSTART;TZID=UTC:20260328T000000
DTEND;TZID=UTC:20260328T000000
DTSTAMP:20260423T091803
CREATED:20260417T154606Z
LAST-MODIFIED:20260422T000404Z
UID:996696-1774656000-1774656000@www.lcaviagens.com.br
SUMMARY:Meeting Corporativo & Lazer (Meetings Corporativos) (Belo Horizonte)
DESCRIPTION:Turismo\, Hotéis\, Bares e Restaurantes
URL:https://www.lcaviagens.com.br/eventos/meeting-corporativo-lazer-meetings-corporativos-belo-horizonte/
LOCATION:Intercity BH Expo\, Belo Horizonte\, MG
CATEGORIES:Bares e Restaurantes,Hotéis,Turismo
END:VEVENT
END:VCALENDAR