BEGIN:VCALENDAR
VERSION:2.0
PRODID:-//LCA  - ECPv6.15.20//NONSGML v1.0//EN
CALSCALE:GREGORIAN
METHOD:PUBLISH
X-WR-CALNAME:LCA 
X-ORIGINAL-URL:https://www.lcaviagens.com.br
X-WR-CALDESC:Eventos para LCA 
REFRESH-INTERVAL;VALUE=DURATION:PT1H
X-Robots-Tag:noindex
X-PUBLISHED-TTL:PT1H
BEGIN:VTIMEZONE
TZID:UTC
BEGIN:STANDARD
TZOFFSETFROM:+0000
TZOFFSETTO:+0000
TZNAME:UTC
DTSTART:20250101T000000
END:STANDARD
END:VTIMEZONE
BEGIN:VEVENT
DTSTART;TZID=UTC:20260204T000000
DTEND;TZID=UTC:20260208T000000
DTSTAMP:20260423T115411
CREATED:20260417T152335Z
LAST-MODIFIED:20260421T234119Z
UID:996246-1770163200-1770508800@www.lcaviagens.com.br
SUMMARY:Convenção de Vendas da BRT
DESCRIPTION:Turismo\, Hotéis\, Bares e Restaurantes
URL:https://www.lcaviagens.com.br/eventos/convencao-de-vendas-da-brt/
LOCATION:Costa do Sauípe Resorts\, Mata de São João\, AL
CATEGORIES:Bares e Restaurantes,Hotéis,Turismo
END:VEVENT
BEGIN:VEVENT
DTSTART;TZID=UTC:20260223T000000
DTEND;TZID=UTC:20260224T000000
DTSTAMP:20260423T115411
CREATED:20260417T152621Z
LAST-MODIFIED:20260421T234404Z
UID:996303-1771804800-1771891200@www.lcaviagens.com.br
SUMMARY:LACTE 21 - Latin America Community for Travel and Events Experience
DESCRIPTION:Turismo\, Hotéis\, Bares e Restaurantes
URL:https://www.lcaviagens.com.br/eventos/lacte-21-latin-america-community-for-travel-and-events-experience/
LOCATION:WTC Events Center\, São Paulo\, SP
CATEGORIES:Bares e Restaurantes,Hotéis,Turismo
END:VEVENT
END:VCALENDAR