BEGIN:VCALENDAR
VERSION:2.0
PRODID:-//LCA  - ECPv6.15.20//NONSGML v1.0//EN
CALSCALE:GREGORIAN
METHOD:PUBLISH
X-ORIGINAL-URL:https://www.lcaviagens.com.br
X-WR-CALDESC:Eventos para LCA 
REFRESH-INTERVAL;VALUE=DURATION:PT1H
X-Robots-Tag:noindex
X-PUBLISHED-TTL:PT1H
BEGIN:VTIMEZONE
TZID:UTC
BEGIN:STANDARD
TZOFFSETFROM:+0000
TZOFFSETTO:+0000
TZNAME:UTC
DTSTART:20250101T000000
END:STANDARD
END:VTIMEZONE
BEGIN:VEVENT
DTSTART;TZID=UTC:20260611T000000
DTEND;TZID=UTC:20260614T000000
DTSTAMP:20260423T055714
CREATED:20260417T222245Z
LAST-MODIFIED:20260422T004004Z
UID:998642-1781136000-1781395200@www.lcaviagens.com.br
SUMMARY:Feira Liquida VR - Feira de Liquidação do Sul Fluminense
DESCRIPTION:Atacadista e Varejista
URL:https://www.lcaviagens.com.br/eventos/feira-liquida-vr-feira-de-liquidacao-do-sul-fluminense/
LOCATION:Parque de Exposições Ilha São João\, Volta Redonda\, RJ
CATEGORIES:Atacadista e Varejista
END:VEVENT
END:VCALENDAR