BEGIN:VCALENDAR
VERSION:2.0
PRODID:-//LCA  - ECPv6.15.20//NONSGML v1.0//EN
CALSCALE:GREGORIAN
METHOD:PUBLISH
X-ORIGINAL-URL:https://www.lcaviagens.com.br
X-WR-CALDESC:Eventos para LCA 
REFRESH-INTERVAL;VALUE=DURATION:PT1H
X-Robots-Tag:noindex
X-PUBLISHED-TTL:PT1H
BEGIN:VTIMEZONE
TZID:UTC
BEGIN:STANDARD
TZOFFSETFROM:+0000
TZOFFSETTO:+0000
TZNAME:UTC
DTSTART:20250101T000000
END:STANDARD
END:VTIMEZONE
BEGIN:VEVENT
DTSTART;TZID=UTC:20260527T000000
DTEND;TZID=UTC:20260531T000000
DTSTAMP:20260423T104435
CREATED:20260417T161353Z
LAST-MODIFIED:20260422T003149Z
UID:997248-1779840000-1780185600@www.lcaviagens.com.br
SUMMARY:ArPa Feira de Arte
DESCRIPTION:Artesanato\, Artes e Coleções
URL:https://www.lcaviagens.com.br/eventos/arpa-feira-de-arte/
LOCATION:Mercado Livre Arena Pacaembu\, São Paulo\, SP
CATEGORIES:Artes e Coleções,Artesanato
END:VEVENT
END:VCALENDAR