BEGIN:VCALENDAR
VERSION:2.0
PRODID:-//LCA  - ECPv6.15.20//NONSGML v1.0//EN
CALSCALE:GREGORIAN
METHOD:PUBLISH
X-WR-CALNAME:LCA 
X-ORIGINAL-URL:https://www.lcaviagens.com.br
X-WR-CALDESC:Eventos para LCA 
REFRESH-INTERVAL;VALUE=DURATION:PT1H
X-Robots-Tag:noindex
X-PUBLISHED-TTL:PT1H
BEGIN:VTIMEZONE
TZID:UTC
BEGIN:STANDARD
TZOFFSETFROM:+0000
TZOFFSETTO:+0000
TZNAME:UTC
DTSTART:20250101T000000
END:STANDARD
END:VTIMEZONE
BEGIN:VEVENT
DTSTART;TZID=UTC:20260424T000000
DTEND;TZID=UTC:20260627T000000
DTSTAMP:20260425T230850
CREATED:20260417T155736Z
LAST-MODIFIED:20260422T001520Z
UID:996923-1776988800-1782518400@www.lcaviagens.com.br
SUMMARY:São João de Caruaru 2026
DESCRIPTION:Feiras Multisetoriais
URL:https://www.lcaviagens.com.br/eventos/sao-joao-de-caruaru-2026/
LOCATION:Pátio de Eventos Luiz Gonzaga\, Caruaru\, PE
CATEGORIES:Feiras Multisetoriais
END:VEVENT
BEGIN:VEVENT
DTSTART;TZID=UTC:20260429T000000
DTEND;TZID=UTC:20260621T000000
DTSTAMP:20260425T230851
CREATED:20260417T155936Z
LAST-MODIFIED:20260422T001719Z
UID:996962-1777420800-1782000000@www.lcaviagens.com.br
SUMMARY:CASACOR 2026 (Goiás)
DESCRIPTION:Madeira\, Móveis e Decorações
URL:https://www.lcaviagens.com.br/eventos/casacor-2026-goias/
LOCATION:Rua 1131 – qd .235 – lt. 23 – Setor Marista\, Goiânia\, GO
CATEGORIES:Madeira,Móveis e Decorações
END:VEVENT
BEGIN:VEVENT
DTSTART;TZID=UTC:20260507T000000
DTEND;TZID=UTC:20260621T000000
DTSTAMP:20260425T230851
CREATED:20260417T160436Z
LAST-MODIFIED:20260422T002219Z
UID:997062-1778112000-1782000000@www.lcaviagens.com.br
SUMMARY:CASACOR 2026 (Piauí)
DESCRIPTION:Madeira\, Móveis e Decorações
URL:https://www.lcaviagens.com.br/eventos/casacor-2026-piaui/
LOCATION:Piçarreira\, Teresina\, PI
CATEGORIES:Madeira,Móveis e Decorações
END:VEVENT
BEGIN:VEVENT
DTSTART;TZID=UTC:20260508T000000
DTEND;TZID=UTC:20260621T000000
DTSTAMP:20260425T230851
CREATED:20260417T160451Z
LAST-MODIFIED:20260422T002235Z
UID:997068-1778198400-1782000000@www.lcaviagens.com.br
SUMMARY:Tricofest 2026 (Nova Petrópolis)
DESCRIPTION:Setores Têxtil e Têxtil Confeccionista
URL:https://www.lcaviagens.com.br/eventos/tricofest-2026-nova-petropolis/
LOCATION:Centro de Eventos de Nova Petrópolis\, Nova Petrópolis\, RS
CATEGORIES:Setores Têxtil e Têxtil Confeccionista
END:VEVENT
BEGIN:VEVENT
DTSTART;TZID=UTC:20260508T000000
DTEND;TZID=UTC:20260712T000000
DTSTAMP:20260425T230851
CREATED:20260417T160451Z
LAST-MODIFIED:20260422T002235Z
UID:997067-1778198400-1783814400@www.lcaviagens.com.br
SUMMARY:CASACOR 2026 (Mato Grosso)
DESCRIPTION:Habitação\, Condomínios e Imóveis em Geral
URL:https://www.lcaviagens.com.br/eventos/casacor-2026-mato-grosso/
LOCATION:Cuiabá\, Cuiabá\, MT
CATEGORIES:Condomínios e Imóveis em Geral,Habitação
END:VEVENT
BEGIN:VEVENT
DTSTART;TZID=UTC:20260510T000000
DTEND;TZID=UTC:20260705T000000
DTSTAMP:20260425T230851
CREATED:20260417T160507Z
LAST-MODIFIED:20260422T002249Z
UID:997075-1778371200-1783209600@www.lcaviagens.com.br
SUMMARY:CASACOR 2026 (Paraná)
DESCRIPTION:Habitação\, Condomínios e Imóveis em Geral
URL:https://www.lcaviagens.com.br/eventos/casacor-2026-parana/
LOCATION:Bigorrilho\, Curitiba\, PR
CATEGORIES:Condomínios e Imóveis em Geral,Habitação
END:VEVENT
BEGIN:VEVENT
DTSTART;TZID=UTC:20260514T000000
DTEND;TZID=UTC:20260531T000000
DTSTAMP:20260425T230851
CREATED:20260417T160722Z
LAST-MODIFIED:20260422T002505Z
UID:997119-1778716800-1780185600@www.lcaviagens.com.br
SUMMARY:Festival Brasil Sabor 2026
DESCRIPTION:Alimentos e Bebidas
URL:https://www.lcaviagens.com.br/eventos/festival-brasil-sabor-2026/
LOCATION:Brasília\, Brasília\, DF
CATEGORIES:Alimentos e Bebidas
END:VEVENT
BEGIN:VEVENT
DTSTART;TZID=UTC:20260517T000000
DTEND;TZID=UTC:20260628T000000
DTSTAMP:20260425T230851
CREATED:20260418T025854Z
LAST-MODIFIED:20260422T002619Z
UID:1000885-1778976000-1782604800@www.lcaviagens.com.br
SUMMARY:CASACOR 2026 (Santa Catarina - Balneário Camboriú)
DESCRIPTION:Habitação\, Condomínios e Imóveis em Geral
URL:https://www.lcaviagens.com.br/eventos/casacor-2026-santa-catarina-balneario-camboriu/
LOCATION:Balneário Camboriú\, Balneário Camboriú\, SC
CATEGORIES:Condomínios e Imóveis em Geral,Habitação
END:VEVENT
BEGIN:VEVENT
DTSTART;TZID=UTC:20260518T000000
DTEND;TZID=UTC:20260521T000000
DTSTAMP:20260425T230851
CREATED:20260417T160837Z
LAST-MODIFIED:20260422T002620Z
UID:997145-1779062400-1779321600@www.lcaviagens.com.br
SUMMARY:Marcha dos Prefeitos (Marcha a Brasília em Defesa dos Municípios)
DESCRIPTION:Outros Segmentos
URL:https://www.lcaviagens.com.br/eventos/marcha-dos-prefeitos-marcha-a-brasilia-em-defesa-dos-municipios/
LOCATION:Centro Internacional de Convenções do Brasil (CICB)\, Brasília\, DF
CATEGORIES:Outros Segmentos
END:VEVENT
BEGIN:VEVENT
DTSTART;TZID=UTC:20260518T000000
DTEND;TZID=UTC:20260521T000000
DTSTAMP:20260425T230851
CREATED:20260417T160905Z
LAST-MODIFIED:20260422T002634Z
UID:997147-1779062400-1779321600@www.lcaviagens.com.br
SUMMARY:Energy Show 2026
DESCRIPTION:Empreendedorismo\, Negócios e Franquias
URL:https://www.lcaviagens.com.br/eventos/energy-show-2026/
LOCATION:Lounge CIA Primavera\, Florianópolis\, SC
CATEGORIES:Empreendedorismo,Negócios e Franquias
END:VEVENT
BEGIN:VEVENT
DTSTART;TZID=UTC:20260518T000000
DTEND;TZID=UTC:20260521T000000
DTSTAMP:20260425T230851
CREATED:20260417T160905Z
LAST-MODIFIED:20260422T002634Z
UID:997146-1779062400-1779321600@www.lcaviagens.com.br
SUMMARY:APAS SHOW - Congresso de Gestão e Feira Internacional de Negócios em Supermercados
DESCRIPTION:Atacadista e Varejista
URL:https://www.lcaviagens.com.br/eventos/apas-show-congresso-de-gestao-e-feira-internacional-de-negocios-em-supermercados/
LOCATION:Expo Center Norte\, São Paulo\, SP
CATEGORIES:Atacadista e Varejista
END:VEVENT
BEGIN:VEVENT
DTSTART;TZID=UTC:20260519T000000
DTEND;TZID=UTC:20260521T000000
DTSTAMP:20260425T230851
CREATED:20260417T160905Z
LAST-MODIFIED:20260422T002634Z
UID:997150-1779148800-1779321600@www.lcaviagens.com.br
SUMMARY:ExpoGestão 2026 (Expo Gestão)
DESCRIPTION:Empreendedorismo\, Negócios e Franquias
URL:https://www.lcaviagens.com.br/eventos/expogestao-2026-expo-gestao/
LOCATION:Expoville – Centro de Convenções e Exposições\, Joinville\, SC
CATEGORIES:Empreendedorismo,Negócios e Franquias
END:VEVENT
BEGIN:VEVENT
DTSTART;TZID=UTC:20260519T000000
DTEND;TZID=UTC:20260521T000000
DTSTAMP:20260425T230851
CREATED:20260417T160912Z
LAST-MODIFIED:20260422T002649Z
UID:997151-1779148800-1779321600@www.lcaviagens.com.br
SUMMARY:SHOWTEC 2026
DESCRIPTION:Agropecuário\, Comercial e Industrial
URL:https://www.lcaviagens.com.br/eventos/showtec-2026/
LOCATION:Fundação MS\, Maracaju\, MS
CATEGORIES:Agropecuário,Comercial e Industrial
END:VEVENT
BEGIN:VEVENT
DTSTART;TZID=UTC:20260519T000000
DTEND;TZID=UTC:20260521T000000
DTSTAMP:20260425T230851
CREATED:20260417T160913Z
LAST-MODIFIED:20260422T002649Z
UID:997152-1779148800-1779321600@www.lcaviagens.com.br
SUMMARY:ENIC 2026 - Encontro Nacional da Construção
DESCRIPTION:Construção Civil
URL:https://www.lcaviagens.com.br/eventos/enic-2026-encontro-nacional-da-construcao/
LOCATION:São Paulo\, São Paulo\, SP
CATEGORIES:Construção Civil
END:VEVENT
BEGIN:VEVENT
DTSTART;TZID=UTC:20260519T000000
DTEND;TZID=UTC:20260521T000000
DTSTAMP:20260425T230851
CREATED:20260417T160913Z
LAST-MODIFIED:20260422T002649Z
UID:997153-1779148800-1779321600@www.lcaviagens.com.br
SUMMARY:SINSUI - Simpósio Internacional de Suinocultura
DESCRIPTION:Agropecuário\, Comercial e Industrial
URL:https://www.lcaviagens.com.br/eventos/sinsui-simposio-internacional-de-suinocultura/
LOCATION:Centro de Eventos PUCRS\, Porto Alegre\, RS
CATEGORIES:Agropecuário,Comercial e Industrial
END:VEVENT
BEGIN:VEVENT
DTSTART;TZID=UTC:20260519T000000
DTEND;TZID=UTC:20260522T000000
DTSTAMP:20260425T230851
CREATED:20260417T160913Z
LAST-MODIFIED:20260422T002649Z
UID:997155-1779148800-1779408000@www.lcaviagens.com.br
SUMMARY:CompoHealth - Feira Internacional de Tecnologia\, Insumos e Componentes para Fabricação de Produtos Médico-Hospitalares
DESCRIPTION:Saúde: Tecnologia\, Equipamentos e Pesquisa
URL:https://www.lcaviagens.com.br/eventos/compohealth-feira-internacional-de-tecnologia-insumos-e-componentes-para-fabricacao-de-produtos-medico-hospitalares/
LOCATION:São Paulo Expo Exhibition & Convention Center\, São Paulo\, SP
CATEGORIES:Equipamentos e Pesquisa,Saúde: Tecnologia
END:VEVENT
BEGIN:VEVENT
DTSTART;TZID=UTC:20260519T000000
DTEND;TZID=UTC:20260522T000000
DTSTAMP:20260425T230851
CREATED:20260417T160913Z
LAST-MODIFIED:20260422T002649Z
UID:997154-1779148800-1779408000@www.lcaviagens.com.br
SUMMARY:CONGRESSO HIMSS@HOSPITALAR FÓRUM 2026 - Congresso Internacional de Serviços de Saúde
DESCRIPTION:Saúde: Tecnologia\, Equipamentos e Pesquisa
URL:https://www.lcaviagens.com.br/eventos/congresso-himsshospitalar-forum-2026-congresso-internacional-de-servicos-de-saude/
LOCATION:São Paulo Expo Exhibition & Convention Center\, São Paulo\, SP
CATEGORIES:Equipamentos e Pesquisa,Saúde: Tecnologia
END:VEVENT
BEGIN:VEVENT
DTSTART;TZID=UTC:20260519T000000
DTEND;TZID=UTC:20260522T000000
DTSTAMP:20260425T230851
CREATED:20260417T160928Z
LAST-MODIFIED:20260422T002705Z
UID:997156-1779148800-1779408000@www.lcaviagens.com.br
SUMMARY:DIAGNÓSTICA - Feira Internacional de Produtos\, Equipamentos e Serviços para Análises Clínicas e Patologia
DESCRIPTION:Saúde: Tecnologia\, Equipamentos e Pesquisa
URL:https://www.lcaviagens.com.br/eventos/diagnostica-feira-internacional-de-produtos-equipamentos-e-servicos-para-analises-clinicas-e-patologia/
LOCATION:São Paulo Expo Exhibition & Convention Center\, São Paulo\, SP
CATEGORIES:Equipamentos e Pesquisa,Saúde: Tecnologia
END:VEVENT
BEGIN:VEVENT
DTSTART;TZID=UTC:20260519T000000
DTEND;TZID=UTC:20260522T000000
DTSTAMP:20260425T230851
CREATED:20260417T160928Z
LAST-MODIFIED:20260422T002705Z
UID:997157-1779148800-1779408000@www.lcaviagens.com.br
SUMMARY:Expo Enfermagem - Feira Internacional de Produtos\, Serviços e Capacitação Profissional para Enfermagem
DESCRIPTION:Saúde: Tecnologia\, Equipamentos e Pesquisa
URL:https://www.lcaviagens.com.br/eventos/expo-enfermagem-feira-internacional-de-produtos-servicos-e-capacitacao-profissional-para-enfermagem/
LOCATION:São Paulo Expo Exhibition & Convention Center\, São Paulo\, SP
CATEGORIES:Equipamentos e Pesquisa,Saúde: Tecnologia
END:VEVENT
BEGIN:VEVENT
DTSTART;TZID=UTC:20260519T000000
DTEND;TZID=UTC:20260522T000000
DTSTAMP:20260425T230851
CREATED:20260417T160928Z
LAST-MODIFIED:20260422T002705Z
UID:997158-1779148800-1779408000@www.lcaviagens.com.br
SUMMARY:HOSPFARMA - Feira Internacional de Produtos para Farmácias Hospitalares e Drogarias
DESCRIPTION:Saúde: Tecnologia\, Equipamentos e Pesquisa
URL:https://www.lcaviagens.com.br/eventos/hospfarma-feira-internacional-de-produtos-para-farmacias-hospitalares-e-drogarias/
LOCATION:São Paulo Expo Exhibition & Convention Center\, São Paulo\, SP
CATEGORIES:Equipamentos e Pesquisa,Saúde: Tecnologia
END:VEVENT
BEGIN:VEVENT
DTSTART;TZID=UTC:20260519T000000
DTEND;TZID=UTC:20260522T000000
DTSTAMP:20260425T230851
CREATED:20260417T160929Z
LAST-MODIFIED:20260422T002705Z
UID:997160-1779148800-1779408000@www.lcaviagens.com.br
SUMMARY:HOSPITALAR 2026 - Feira Internacional de Produtos\, Equipamentos\, Serviços e Tecnologia para Hospitais\, Laboratórios\, Farmácias\, Clínicas e Consultórios
DESCRIPTION:Saúde: Tecnologia\, Equipamentos e Pesquisa
URL:https://www.lcaviagens.com.br/eventos/hospitalar-2026-feira-internacional-de-produtos-equipamentos-servicos-e-tecnologia-para-hospitais-laboratorios-farmacias-clinicas-e-consultorios/
LOCATION:São Paulo Expo Exhibition & Convention Center\, São Paulo\, SP
CATEGORIES:Equipamentos e Pesquisa,Saúde: Tecnologia
END:VEVENT
BEGIN:VEVENT
DTSTART;TZID=UTC:20260519T000000
DTEND;TZID=UTC:20260522T000000
DTSTAMP:20260425T230851
CREATED:20260417T160929Z
LAST-MODIFIED:20260422T002705Z
UID:997159-1779148800-1779408000@www.lcaviagens.com.br
SUMMARY:HOSPITAIS LOUNGE
DESCRIPTION:Saúde: Tecnologia\, Equipamentos e Pesquisa
URL:https://www.lcaviagens.com.br/eventos/hospitais-lounge/
LOCATION:São Paulo Expo Exhibition & Convention Center\, São Paulo\, SP
CATEGORIES:Equipamentos e Pesquisa,Saúde: Tecnologia
END:VEVENT
BEGIN:VEVENT
DTSTART;TZID=UTC:20260519T000000
DTEND;TZID=UTC:20260522T000000
DTSTAMP:20260425T230851
CREATED:20260417T160943Z
LAST-MODIFIED:20260422T002720Z
UID:997161-1779148800-1779408000@www.lcaviagens.com.br
SUMMARY:Reabilitação - Feira Internacional de Produtos\, Equipamentos\, Serviços e Tecnologia para Reabilitação\, Prevenção e Inclusão
DESCRIPTION:Saúde: Tecnologia\, Equipamentos e Pesquisa
URL:https://www.lcaviagens.com.br/eventos/reabilitacao-feira-internacional-de-produtos-equipamentos-servicos-e-tecnologia-para-reabilitacao-prevencao-e-inclusao/
LOCATION:São Paulo Expo Exhibition & Convention Center\, São Paulo\, SP
CATEGORIES:Equipamentos e Pesquisa,Saúde: Tecnologia
END:VEVENT
BEGIN:VEVENT
DTSTART;TZID=UTC:20260519T000000
DTEND;TZID=UTC:20260522T000000
DTSTAMP:20260425T230851
CREATED:20260417T160943Z
LAST-MODIFIED:20260422T002720Z
UID:997162-1779148800-1779408000@www.lcaviagens.com.br
SUMMARY:FPSO Brazil Congress 2026
DESCRIPTION:Petróleo e Petroquímica
URL:https://www.lcaviagens.com.br/eventos/fpso-brazil-congress-2026/
LOCATION:Rio de Janeiro\, Rio de Janeiro\, RJ
CATEGORIES:Petróleo e Petroquímica
END:VEVENT
BEGIN:VEVENT
DTSTART;TZID=UTC:20260519T000000
DTEND;TZID=UTC:20260523T000000
DTSTAMP:20260425T230851
CREATED:20260417T160944Z
LAST-MODIFIED:20260422T002720Z
UID:997163-1779148800-1779494400@www.lcaviagens.com.br
SUMMARY:AGROBRASÍLIA - Feira Internacional dos Cerrados
DESCRIPTION:Agropecuário\, Comercial e Industrial
URL:https://www.lcaviagens.com.br/eventos/agrobrasilia-feira-internacional-dos-cerrados/
LOCATION:Parque Tecnológico Ivaldo Cenci\, Brasília\, DF
CATEGORIES:Agropecuário,Comercial e Industrial
END:VEVENT
BEGIN:VEVENT
DTSTART;TZID=UTC:20260519T000000
DTEND;TZID=UTC:20260529T000000
DTSTAMP:20260425T230851
CREATED:20260417T160944Z
LAST-MODIFIED:20260422T002720Z
UID:997164-1779148800-1780012800@www.lcaviagens.com.br
SUMMARY:Hackathon SAE BRASIL da Mobilidade 2026 (Curitiba)
DESCRIPTION:Tecnologia Industrial
URL:https://www.lcaviagens.com.br/eventos/hackathon-sae-brasil-da-mobilidade-2026-curitiba/
LOCATION:Curitiba\, Curitiba\, PR
CATEGORIES:Tecnologia Industrial
END:VEVENT
BEGIN:VEVENT
DTSTART;TZID=UTC:20260520T000000
DTEND;TZID=UTC:20260521T000000
DTSTAMP:20260425T230851
CREATED:20260417T161024Z
LAST-MODIFIED:20260422T002805Z
UID:997178-1779235200-1779321600@www.lcaviagens.com.br
SUMMARY:AI Summit Brasil 2026 (Belo Horizonte)
DESCRIPTION:Novas Tecnologias\, Invenções e Inovações
URL:https://www.lcaviagens.com.br/eventos/ai-summit-brasil-2026-belo-horizonte/
LOCATION:Mater Dei\, Belo Horizonte\, MG
CATEGORIES:Invenções e Inovações,Novas Tecnologias
END:VEVENT
BEGIN:VEVENT
DTSTART;TZID=UTC:20260520T000000
DTEND;TZID=UTC:20260521T000000
DTSTAMP:20260425T230851
CREATED:20260417T161024Z
LAST-MODIFIED:20260422T002805Z
UID:997179-1779235200-1779321600@www.lcaviagens.com.br
SUMMARY:Simpósio sobre Atualização em Poedeiras
DESCRIPTION:Agropecuário\, Comercial e Industrial
URL:https://www.lcaviagens.com.br/eventos/simposio-sobre-atualizacao-em-poedeiras/
LOCATION:Recife\, Recife\, PE
CATEGORIES:Agropecuário,Comercial e Industrial
END:VEVENT
BEGIN:VEVENT
DTSTART;TZID=UTC:20260520T000000
DTEND;TZID=UTC:20260521T000000
DTSTAMP:20260425T230851
CREATED:20260417T161024Z
LAST-MODIFIED:20260422T002804Z
UID:997176-1779235200-1779321600@www.lcaviagens.com.br
SUMMARY:Impacta Mais 2026 - Fórum de Economia de Impacto
DESCRIPTION:Empreendedorismo\, Negócios e Franquias
URL:https://www.lcaviagens.com.br/eventos/impacta-mais-2026-forum-de-economia-de-impacto/
LOCATION:Centro de Eventos Pro Magno\, São Paulo\, SP
CATEGORIES:Empreendedorismo,Negócios e Franquias
END:VEVENT
BEGIN:VEVENT
DTSTART;TZID=UTC:20260520T000000
DTEND;TZID=UTC:20260521T000000
DTSTAMP:20260425T230851
CREATED:20260417T161024Z
LAST-MODIFIED:20260422T002804Z
UID:997177-1779235200-1779321600@www.lcaviagens.com.br
SUMMARY:Change Management Summit 2026
DESCRIPTION:Empreendedorismo\, Negócios e Franquias
URL:https://www.lcaviagens.com.br/eventos/change-management-summit-2026/
LOCATION:Casa Giardini\, São Paulo\, SP
CATEGORIES:Empreendedorismo,Negócios e Franquias
END:VEVENT
END:VCALENDAR