BEGIN:VCALENDAR
VERSION:2.0
PRODID:-//LCA  - ECPv6.15.20//NONSGML v1.0//EN
CALSCALE:GREGORIAN
METHOD:PUBLISH
X-WR-CALNAME:LCA 
X-ORIGINAL-URL:https://www.lcaviagens.com.br
X-WR-CALDESC:Eventos para LCA 
REFRESH-INTERVAL;VALUE=DURATION:PT1H
X-Robots-Tag:noindex
X-PUBLISHED-TTL:PT1H
BEGIN:VTIMEZONE
TZID:UTC
BEGIN:STANDARD
TZOFFSETFROM:+0000
TZOFFSETTO:+0000
TZNAME:UTC
DTSTART:20250101T000000
END:STANDARD
END:VTIMEZONE
BEGIN:VEVENT
DTSTART;TZID=UTC:20260424T000000
DTEND;TZID=UTC:20260627T000000
DTSTAMP:20260425T162012
CREATED:20260417T155736Z
LAST-MODIFIED:20260422T001520Z
UID:996923-1776988800-1782518400@www.lcaviagens.com.br
SUMMARY:São João de Caruaru 2026
DESCRIPTION:Feiras Multisetoriais
URL:https://www.lcaviagens.com.br/eventos/sao-joao-de-caruaru-2026/
LOCATION:Pátio de Eventos Luiz Gonzaga\, Caruaru\, PE
CATEGORIES:Feiras Multisetoriais
END:VEVENT
BEGIN:VEVENT
DTSTART;TZID=UTC:20260429T000000
DTEND;TZID=UTC:20260621T000000
DTSTAMP:20260425T162012
CREATED:20260417T155936Z
LAST-MODIFIED:20260422T001719Z
UID:996962-1777420800-1782000000@www.lcaviagens.com.br
SUMMARY:CASACOR 2026 (Goiás)
DESCRIPTION:Madeira\, Móveis e Decorações
URL:https://www.lcaviagens.com.br/eventos/casacor-2026-goias/
LOCATION:Rua 1131 – qd .235 – lt. 23 – Setor Marista\, Goiânia\, GO
CATEGORIES:Madeira,Móveis e Decorações
END:VEVENT
BEGIN:VEVENT
DTSTART;TZID=UTC:20260507T000000
DTEND;TZID=UTC:20260621T000000
DTSTAMP:20260425T162012
CREATED:20260417T160436Z
LAST-MODIFIED:20260422T002219Z
UID:997062-1778112000-1782000000@www.lcaviagens.com.br
SUMMARY:CASACOR 2026 (Piauí)
DESCRIPTION:Madeira\, Móveis e Decorações
URL:https://www.lcaviagens.com.br/eventos/casacor-2026-piaui/
LOCATION:Piçarreira\, Teresina\, PI
CATEGORIES:Madeira,Móveis e Decorações
END:VEVENT
BEGIN:VEVENT
DTSTART;TZID=UTC:20260508T000000
DTEND;TZID=UTC:20260621T000000
DTSTAMP:20260425T162012
CREATED:20260417T160451Z
LAST-MODIFIED:20260422T002235Z
UID:997068-1778198400-1782000000@www.lcaviagens.com.br
SUMMARY:Tricofest 2026 (Nova Petrópolis)
DESCRIPTION:Setores Têxtil e Têxtil Confeccionista
URL:https://www.lcaviagens.com.br/eventos/tricofest-2026-nova-petropolis/
LOCATION:Centro de Eventos de Nova Petrópolis\, Nova Petrópolis\, RS
CATEGORIES:Setores Têxtil e Têxtil Confeccionista
END:VEVENT
BEGIN:VEVENT
DTSTART;TZID=UTC:20260508T000000
DTEND;TZID=UTC:20260712T000000
DTSTAMP:20260425T162012
CREATED:20260417T160451Z
LAST-MODIFIED:20260422T002235Z
UID:997067-1778198400-1783814400@www.lcaviagens.com.br
SUMMARY:CASACOR 2026 (Mato Grosso)
DESCRIPTION:Habitação\, Condomínios e Imóveis em Geral
URL:https://www.lcaviagens.com.br/eventos/casacor-2026-mato-grosso/
LOCATION:Cuiabá\, Cuiabá\, MT
CATEGORIES:Condomínios e Imóveis em Geral,Habitação
END:VEVENT
BEGIN:VEVENT
DTSTART;TZID=UTC:20260510T000000
DTEND;TZID=UTC:20260705T000000
DTSTAMP:20260425T162012
CREATED:20260417T160507Z
LAST-MODIFIED:20260422T002249Z
UID:997075-1778371200-1783209600@www.lcaviagens.com.br
SUMMARY:CASACOR 2026 (Paraná)
DESCRIPTION:Habitação\, Condomínios e Imóveis em Geral
URL:https://www.lcaviagens.com.br/eventos/casacor-2026-parana/
LOCATION:Bigorrilho\, Curitiba\, PR
CATEGORIES:Condomínios e Imóveis em Geral,Habitação
END:VEVENT
BEGIN:VEVENT
DTSTART;TZID=UTC:20260513T000000
DTEND;TZID=UTC:20260516T000000
DTSTAMP:20260425T162012
CREATED:20260417T160607Z
LAST-MODIFIED:20260422T002349Z
UID:997094-1778630400-1778889600@www.lcaviagens.com.br
SUMMARY:BBCS - Brazilian Breast Cancer Symposium
DESCRIPTION:Saúde: Tecnologia\, Equipamentos e Pesquisa
URL:https://www.lcaviagens.com.br/eventos/bbcs-brazilian-breast-cancer-symposium/
LOCATION:Centro de Convenções de Goiânia\, Goiânia\, GO
CATEGORIES:Equipamentos e Pesquisa,Saúde: Tecnologia
END:VEVENT
BEGIN:VEVENT
DTSTART;TZID=UTC:20260513T000000
DTEND;TZID=UTC:20260516T000000
DTSTAMP:20260425T162013
CREATED:20260417T160607Z
LAST-MODIFIED:20260422T002349Z
UID:997095-1778630400-1778889600@www.lcaviagens.com.br
SUMMARY:EXPO NOVA (Expo Nova Mutum)
DESCRIPTION:Agropecuário\, Comercial e Industrial
URL:https://www.lcaviagens.com.br/eventos/expo-nova-expo-nova-mutum/
LOCATION:Parque de Exposições\, Ponte Alta do Bom Jesus\, TO
CATEGORIES:Agropecuário,Comercial e Industrial
END:VEVENT
BEGIN:VEVENT
DTSTART;TZID=UTC:20260513T000000
DTEND;TZID=UTC:20260516T000000
DTSTAMP:20260425T162013
CREATED:20260417T160621Z
LAST-MODIFIED:20260422T002405Z
UID:997098-1778630400-1778889600@www.lcaviagens.com.br
SUMMARY:Congresso Brasileiro de Enfermagem em Oftalmologia
DESCRIPTION:Saúde: Tecnologia\, Equipamentos e Pesquisa
URL:https://www.lcaviagens.com.br/eventos/congresso-brasileiro-de-enfermagem-em-oftalmologia/
LOCATION:Transamérica Expo Center\, São Paulo\, SP
CATEGORIES:Equipamentos e Pesquisa,Saúde: Tecnologia
END:VEVENT
BEGIN:VEVENT
DTSTART;TZID=UTC:20260513T000000
DTEND;TZID=UTC:20260516T000000
DTSTAMP:20260425T162013
CREATED:20260417T160621Z
LAST-MODIFIED:20260422T002404Z
UID:997096-1778630400-1778889600@www.lcaviagens.com.br
SUMMARY:BRASCRS 2026 - Congresso Internacional de Catarata e Cirurgia Refrativa
DESCRIPTION:Saúde: Tecnologia\, Equipamentos e Pesquisa
URL:https://www.lcaviagens.com.br/eventos/brascrs-2026-congresso-internacional-de-catarata-e-cirurgia-refrativa/
LOCATION:Transamérica Expo Center\, São Paulo\, SP
CATEGORIES:Equipamentos e Pesquisa,Saúde: Tecnologia
END:VEVENT
BEGIN:VEVENT
DTSTART;TZID=UTC:20260513T000000
DTEND;TZID=UTC:20260516T000000
DTSTAMP:20260425T162013
CREATED:20260417T160621Z
LAST-MODIFIED:20260422T002404Z
UID:997097-1778630400-1778889600@www.lcaviagens.com.br
SUMMARY:Congresso Brasileiro de Administração em Oftalmologia
DESCRIPTION:Saúde: Tecnologia\, Equipamentos e Pesquisa
URL:https://www.lcaviagens.com.br/eventos/congresso-brasileiro-de-administracao-em-oftalmologia/
LOCATION:Transamérica Expo Center\, São Paulo\, SP
CATEGORIES:Equipamentos e Pesquisa,Saúde: Tecnologia
END:VEVENT
BEGIN:VEVENT
DTSTART;TZID=UTC:20260513T000000
DTEND;TZID=UTC:20260516T000000
DTSTAMP:20260425T162013
CREATED:20260417T160622Z
LAST-MODIFIED:20260422T002405Z
UID:997099-1778630400-1778889600@www.lcaviagens.com.br
SUMMARY:CBM - Congresso Brasileiro de Mastologia
DESCRIPTION:Saúde: Tecnologia\, Equipamentos e Pesquisa
URL:https://www.lcaviagens.com.br/eventos/cbm-congresso-brasileiro-de-mastologia/
LOCATION:Centro de Convenções de Goiânia\, Goiânia\, GO
CATEGORIES:Equipamentos e Pesquisa,Saúde: Tecnologia
END:VEVENT
BEGIN:VEVENT
DTSTART;TZID=UTC:20260513T000000
DTEND;TZID=UTC:20260517T000000
DTSTAMP:20260425T162013
CREATED:20260417T160622Z
LAST-MODIFIED:20260422T002405Z
UID:997100-1778630400-1778976000@www.lcaviagens.com.br
SUMMARY:FARGO GOIÁS - Feira de Arte de Goiás
DESCRIPTION:Cultura e Educação
URL:https://www.lcaviagens.com.br/eventos/fargo-goias-feira-de-arte-de-goias/
LOCATION:Centro Cultural Oscar Niemeyer\, Goiânia\, GO
CATEGORIES:Cultura e Educação
END:VEVENT
BEGIN:VEVENT
DTSTART;TZID=UTC:20260513T000000
DTEND;TZID=UTC:20260517T000000
DTSTAMP:20260425T162013
CREATED:20260417T160636Z
LAST-MODIFIED:20260422T002419Z
UID:997101-1778630400-1778976000@www.lcaviagens.com.br
SUMMARY:Festa das Nações de Piracicaba 2026
DESCRIPTION:Feiras Multisetoriais
URL:https://www.lcaviagens.com.br/eventos/festa-das-nacoes-de-piracicaba-2026/
LOCATION:Engenho Central\, Piracicaba\, SP
CATEGORIES:Feiras Multisetoriais
END:VEVENT
BEGIN:VEVENT
DTSTART;TZID=UTC:20260514T000000
DTEND;TZID=UTC:20260516T000000
DTSTAMP:20260425T162013
CREATED:20260417T160651Z
LAST-MODIFIED:20260422T002434Z
UID:997108-1778716800-1778889600@www.lcaviagens.com.br
SUMMARY:SECCAPE USP - Semana da Cirurgia de Cabeça e Pescoço da USP
DESCRIPTION:Saúde: Tecnologia\, Equipamentos e Pesquisa
URL:https://www.lcaviagens.com.br/eventos/seccape-usp-semana-da-cirurgia-de-cabeca-e-pescoco-da-usp/
LOCATION:Centro de Convenções Rebouças\, São Paulo\, SP
CATEGORIES:Equipamentos e Pesquisa,Saúde: Tecnologia
END:VEVENT
BEGIN:VEVENT
DTSTART;TZID=UTC:20260514T000000
DTEND;TZID=UTC:20260516T000000
DTSTAMP:20260425T162013
CREATED:20260417T160652Z
LAST-MODIFIED:20260422T002434Z
UID:997110-1778716800-1778889600@www.lcaviagens.com.br
SUMMARY:Expo Agro Anhumas
DESCRIPTION:Agropecuário\, Comercial e Industrial
URL:https://www.lcaviagens.com.br/eventos/expo-agro-anhumas/
LOCATION:Anhumas\, Anhumas\, SP
CATEGORIES:Agropecuário,Comercial e Industrial
END:VEVENT
BEGIN:VEVENT
DTSTART;TZID=UTC:20260514T000000
DTEND;TZID=UTC:20260516T000000
DTSTAMP:20260425T162013
CREATED:20260417T160652Z
LAST-MODIFIED:20260422T002434Z
UID:997109-1778716800-1778889600@www.lcaviagens.com.br
SUMMARY:SINTOMA 2026 - Simpósio Internacional de Onco-Hematologia
DESCRIPTION:Saúde: Tecnologia\, Equipamentos e Pesquisa
URL:https://www.lcaviagens.com.br/eventos/sintoma-2026-simposio-internacional-de-onco-hematologia/
LOCATION:Hotel Intercontinental\, São Paulo\, SP
CATEGORIES:Equipamentos e Pesquisa,Saúde: Tecnologia
END:VEVENT
BEGIN:VEVENT
DTSTART;TZID=UTC:20260514T000000
DTEND;TZID=UTC:20260516T000000
DTSTAMP:20260425T162013
CREATED:20260417T160706Z
LAST-MODIFIED:20260422T002449Z
UID:997111-1778716800-1778889600@www.lcaviagens.com.br
SUMMARY:CONAEC - Congresso Nacional de Executivos de Consórcios
DESCRIPTION:Gestão Empresarial e Recursos Humanos
URL:https://www.lcaviagens.com.br/eventos/conaec-congresso-nacional-de-executivos-de-consorcios/
LOCATION:Centro de Convenções Rebouças\, São Paulo\, SP
CATEGORIES:Gestão Empresarial e Recursos Humanos
END:VEVENT
BEGIN:VEVENT
DTSTART;TZID=UTC:20260514T000000
DTEND;TZID=UTC:20260516T000000
DTSTAMP:20260425T162013
CREATED:20260417T222304Z
LAST-MODIFIED:20260422T004049Z
UID:998657-1778716800-1778889600@www.lcaviagens.com.br
SUMMARY:Simpósio Aorta 2026
DESCRIPTION:Saúde: Tecnologia\, Equipamentos e Pesquisa
URL:https://www.lcaviagens.com.br/eventos/simposio-aorta-2026/
LOCATION:São Paulo\, São Paulo\, SP
CATEGORIES:Equipamentos e Pesquisa,Saúde: Tecnologia
END:VEVENT
BEGIN:VEVENT
DTSTART;TZID=UTC:20260514T000000
DTEND;TZID=UTC:20260517T000000
DTSTAMP:20260425T162013
CREATED:20260417T160706Z
LAST-MODIFIED:20260422T002449Z
UID:997115-1778716800-1778976000@www.lcaviagens.com.br
SUMMARY:Bike Fest São Lourenço 2026
DESCRIPTION:Lazer\, Hobby e Esportes
URL:https://www.lcaviagens.com.br/eventos/bike-fest-sao-lourenco-2026/
LOCATION:São Lourenço\, São Lourenço\, MG
CATEGORIES:Hobby e Esportes,Lazer
END:VEVENT
BEGIN:VEVENT
DTSTART;TZID=UTC:20260514T000000
DTEND;TZID=UTC:20260517T000000
DTSTAMP:20260425T162013
CREATED:20260417T160706Z
LAST-MODIFIED:20260422T002449Z
UID:997112-1778716800-1778976000@www.lcaviagens.com.br
SUMMARY:EXPOITAM 2026 (Itambaracá)
DESCRIPTION:Agropecuário\, Comercial e Industrial
URL:https://www.lcaviagens.com.br/eventos/expoitam-2026-itambaraca/
LOCATION:Estádio Municipal Carlos Ribeiro Filho\, Itambaracá\, PR
CATEGORIES:Agropecuário,Comercial e Industrial
END:VEVENT
BEGIN:VEVENT
DTSTART;TZID=UTC:20260514T000000
DTEND;TZID=UTC:20260517T000000
DTSTAMP:20260425T162013
CREATED:20260417T160706Z
LAST-MODIFIED:20260422T002449Z
UID:997113-1778716800-1778976000@www.lcaviagens.com.br
SUMMARY:Expo Palotina 2026 (ExpoPalotina)
DESCRIPTION:Agropecuário\, Comercial e Industrial
URL:https://www.lcaviagens.com.br/eventos/expo-palotina-2026-expopalotina/
LOCATION:Parque de Exposições João Leopoldo Jacomel\, Palotina\, PR
CATEGORIES:Agropecuário,Comercial e Industrial
END:VEVENT
BEGIN:VEVENT
DTSTART;TZID=UTC:20260514T000000
DTEND;TZID=UTC:20260517T000000
DTSTAMP:20260425T162013
CREATED:20260417T160706Z
LAST-MODIFIED:20260422T002449Z
UID:997114-1778716800-1778976000@www.lcaviagens.com.br
SUMMARY:MNB - Marketing Network Brasil
DESCRIPTION:Comunicação Empresarial\, Feiras e Eventos
URL:https://www.lcaviagens.com.br/eventos/mnb-marketing-network-brasil/
LOCATION:Tivoli Ecoresort Praia do Forte\, Mata de São João\, BA
CATEGORIES:Comunicação Empresarial,Feiras e Eventos
END:VEVENT
BEGIN:VEVENT
DTSTART;TZID=UTC:20260514T000000
DTEND;TZID=UTC:20260517T000000
DTSTAMP:20260425T162013
CREATED:20260417T160721Z
LAST-MODIFIED:20260422T002504Z
UID:997116-1778716800-1778976000@www.lcaviagens.com.br
SUMMARY:Competição Eletroquad SAE Brasil - Eletrobras 2026
DESCRIPTION:Tecnologia Industrial
URL:https://www.lcaviagens.com.br/eventos/competicao-eletroquad-sae-brasil-eletrobras-2026/
LOCATION:Universidade do Vale do Paraíba (Univap)\, São José dos Campos\, SP
CATEGORIES:Tecnologia Industrial
END:VEVENT
BEGIN:VEVENT
DTSTART;TZID=UTC:20260514T000000
DTEND;TZID=UTC:20260517T000000
DTSTAMP:20260425T162013
CREATED:20260417T160722Z
LAST-MODIFIED:20260422T002504Z
UID:997117-1778716800-1778976000@www.lcaviagens.com.br
SUMMARY:Construarte - Feira de Construção\, Decoração e Negócios Imobiliários do Centro do Estado
DESCRIPTION:Construção Civil
URL:https://www.lcaviagens.com.br/eventos/construarte-feira-de-construcao-decoracao-e-negocios-imobiliarios-do-centro-do-estado/
LOCATION:Parque da Oktoberfest\, Santa Cruz do Sul\, RS
CATEGORIES:Construção Civil
END:VEVENT
BEGIN:VEVENT
DTSTART;TZID=UTC:20260514T000000
DTEND;TZID=UTC:20260517T000000
DTSTAMP:20260425T162013
CREATED:20260417T160722Z
LAST-MODIFIED:20260422T002504Z
UID:997118-1778716800-1778976000@www.lcaviagens.com.br
SUMMARY:Multifeira (Santa Cruz do Sul)
DESCRIPTION:Feiras Multisetoriais
URL:https://www.lcaviagens.com.br/eventos/multifeira-santa-cruz-do-sul/
LOCATION:Parque da Oktoberfest\, Santa Cruz do Sul\, RS
CATEGORIES:Feiras Multisetoriais
END:VEVENT
BEGIN:VEVENT
DTSTART;TZID=UTC:20260514T000000
DTEND;TZID=UTC:20260531T000000
DTSTAMP:20260425T162013
CREATED:20260417T160722Z
LAST-MODIFIED:20260422T002505Z
UID:997119-1778716800-1780185600@www.lcaviagens.com.br
SUMMARY:Festival Brasil Sabor 2026
DESCRIPTION:Alimentos e Bebidas
URL:https://www.lcaviagens.com.br/eventos/festival-brasil-sabor-2026/
LOCATION:Brasília\, Brasília\, DF
CATEGORIES:Alimentos e Bebidas
END:VEVENT
BEGIN:VEVENT
DTSTART;TZID=UTC:20260515T000000
DTEND;TZID=UTC:20260517T000000
DTSTAMP:20260425T162013
CREATED:20260417T160751Z
LAST-MODIFIED:20260422T002534Z
UID:997126-1778803200-1778976000@www.lcaviagens.com.br
SUMMARY:AVISTAR 2026 - Encontro Brasileira de Observação de Aves
DESCRIPTION:Turismo\, Hotéis\, Bares e Restaurantes
URL:https://www.lcaviagens.com.br/eventos/avistar-2026-encontro-brasileira-de-observacao-de-aves/
LOCATION:Jardim Botânico\, São Paulo\, SP
CATEGORIES:Bares e Restaurantes,Hotéis,Turismo
END:VEVENT
BEGIN:VEVENT
DTSTART;TZID=UTC:20260515T000000
DTEND;TZID=UTC:20260517T000000
DTSTAMP:20260425T162013
CREATED:20260417T160751Z
LAST-MODIFIED:20260422T002535Z
UID:997127-1778803200-1778976000@www.lcaviagens.com.br
SUMMARY:BGF 2026 - Brasília Game Festival
DESCRIPTION:Lazer\, Hobby e Esportes
URL:https://www.lcaviagens.com.br/eventos/bgf-2026-brasilia-game-festival/
LOCATION:Centro de Convenções Ulysses Guimarães\, Brasília\, DF
CATEGORIES:Hobby e Esportes,Lazer
END:VEVENT
END:VCALENDAR