BEGIN:VCALENDAR
VERSION:2.0
PRODID:-//LCA  - ECPv6.15.20//NONSGML v1.0//EN
CALSCALE:GREGORIAN
METHOD:PUBLISH
X-WR-CALNAME:LCA 
X-ORIGINAL-URL:https://www.lcaviagens.com.br
X-WR-CALDESC:Eventos para LCA 
REFRESH-INTERVAL;VALUE=DURATION:PT1H
X-Robots-Tag:noindex
X-PUBLISHED-TTL:PT1H
BEGIN:VTIMEZONE
TZID:UTC
BEGIN:STANDARD
TZOFFSETFROM:+0000
TZOFFSETTO:+0000
TZNAME:UTC
DTSTART:20250101T000000
END:STANDARD
END:VTIMEZONE
BEGIN:VEVENT
DTSTART;TZID=UTC:20260301T000000
DTEND;TZID=UTC:20260503T000000
DTSTAMP:20260423T023926
CREATED:20260417T152820Z
LAST-MODIFIED:20260421T234604Z
UID:996341-1772323200-1777766400@www.lcaviagens.com.br
SUMMARY:Vindima de Altitude (Vindima de Altitude de Santa Catarina)
DESCRIPTION:Alimentos e Bebidas
URL:https://www.lcaviagens.com.br/eventos/vindima-de-altitude-vindima-de-altitude-de-santa-catarina/
LOCATION:São Joaquim\, São Joaquim\, SC
CATEGORIES:Alimentos e Bebidas
END:VEVENT
BEGIN:VEVENT
DTSTART;TZID=UTC:20260325T000000
DTEND;TZID=UTC:20260430T000000
DTSTAMP:20260423T023926
CREATED:20260417T154406Z
LAST-MODIFIED:20260422T000204Z
UID:996658-1774396800-1777507200@www.lcaviagens.com.br
SUMMARY:BAB 2026 - Bienal de Arquitetura Brasileira
DESCRIPTION:Habitação\, Condomínios e Imóveis em Geral
URL:https://www.lcaviagens.com.br/eventos/bab-2026-bienal-de-arquitetura-brasileira/
LOCATION:Parque do Ibirapuera – Pavilhão das Culturas Brasileiras\, São Paulo\, SP
CATEGORIES:Condomínios e Imóveis em Geral,Habitação
END:VEVENT
BEGIN:VEVENT
DTSTART;TZID=UTC:20260326T000000
DTEND;TZID=UTC:20260426T000000
DTSTAMP:20260423T023926
CREATED:20260417T154506Z
LAST-MODIFIED:20260422T000304Z
UID:996677-1774483200-1777161600@www.lcaviagens.com.br
SUMMARY:Espírito Santo RW - Espírito Santo Restaurant Week
DESCRIPTION:Alimentos e Bebidas
URL:https://www.lcaviagens.com.br/eventos/espirito-santo-rw-espirito-santo-restaurant-week/
LOCATION:Vitória / Serra / Vila Velha / Cariacica\, Vitória\, ES
CATEGORIES:Alimentos e Bebidas
END:VEVENT
BEGIN:VEVENT
DTSTART;TZID=UTC:20260326T000000
DTEND;TZID=UTC:20260426T000000
DTSTAMP:20260423T023926
CREATED:20260417T154506Z
LAST-MODIFIED:20260422T000304Z
UID:996678-1774483200-1777161600@www.lcaviagens.com.br
SUMMARY:Campinas RW - Campinas Restaurant Week (Março)
DESCRIPTION:Alimentos e Bebidas
URL:https://www.lcaviagens.com.br/eventos/campinas-rw-campinas-restaurant-week-marco/
LOCATION:Campinas\, Campinas\, SP
CATEGORIES:Alimentos e Bebidas
END:VEVENT
BEGIN:VEVENT
DTSTART;TZID=UTC:20260328T000000
DTEND;TZID=UTC:20260430T000000
DTSTAMP:20260423T023926
CREATED:20260417T154621Z
LAST-MODIFIED:20260422T000419Z
UID:996701-1774656000-1777507200@www.lcaviagens.com.br
SUMMARY:Salão Anual de Arte de Paraty
DESCRIPTION:Artesanato\, Artes e Coleções
URL:https://www.lcaviagens.com.br/eventos/salao-anual-de-arte-de-paraty/
LOCATION:Galeria Platô 18\, Paraty\, RJ
CATEGORIES:Artes e Coleções,Artesanato
END:VEVENT
BEGIN:VEVENT
DTSTART;TZID=UTC:20260416T000000
DTEND;TZID=UTC:20260426T000000
DTSTAMP:20260423T023926
CREATED:20260417T155406Z
LAST-MODIFIED:20260422T001148Z
UID:996854-1776297600-1777161600@www.lcaviagens.com.br
SUMMARY:Festival de Kerb de Estância Velha
DESCRIPTION:Feiras Multisetoriais
URL:https://www.lcaviagens.com.br/eventos/festival-de-kerb-de-estancia-velha/
LOCATION:Praça 1º de Maio\, Timóteo\, MG
CATEGORIES:Feiras Multisetoriais
END:VEVENT
BEGIN:VEVENT
DTSTART;TZID=UTC:20260419T000000
DTEND;TZID=UTC:20260425T000000
DTSTAMP:20260423T023926
CREATED:20260417T155552Z
LAST-MODIFIED:20260422T001334Z
UID:996890-1776556800-1777075200@www.lcaviagens.com.br
SUMMARY:EXPOMIRACEMA - Exposição Agropecuária de Miracema do Tocantins (Expo Miracema)
DESCRIPTION:Agropecuário\, Comercial e Industrial
URL:https://www.lcaviagens.com.br/eventos/expomiracema-exposicao-agropecuaria-de-miracema-do-tocantins-expo-miracema/
LOCATION:Parque de Exposições\, Ponte Alta do Bom Jesus\, TO
CATEGORIES:Agropecuário,Comercial e Industrial
END:VEVENT
BEGIN:VEVENT
DTSTART;TZID=UTC:20260421T000000
DTEND;TZID=UTC:20260424T000000
DTSTAMP:20260423T023926
CREATED:20260417T155607Z
LAST-MODIFIED:20260422T001350Z
UID:996895-1776729600-1776988800@www.lcaviagens.com.br
SUMMARY:Norte Show 2026
DESCRIPTION:Agropecuário\, Comercial e Industrial
URL:https://www.lcaviagens.com.br/eventos/norte-show-2026/
LOCATION:Parque de Exposições de Sinop\, Sinop\, MT
CATEGORIES:Agropecuário,Comercial e Industrial
END:VEVENT
BEGIN:VEVENT
DTSTART;TZID=UTC:20260422T000000
DTEND;TZID=UTC:20260424T000000
DTSTAMP:20260423T023926
CREATED:20260417T155621Z
LAST-MODIFIED:20260422T001404Z
UID:996898-1776816000-1776988800@www.lcaviagens.com.br
SUMMARY:FEINAGRO - Feira de Negócios Agropecuários da Comiva
DESCRIPTION:Agropecuário\, Comercial e Industrial
URL:https://www.lcaviagens.com.br/eventos/feinagro-feira-de-negocios-agropecuarios-da-comiva/
LOCATION:Parque de Exposições\, Ponte Alta do Bom Jesus\, TO
CATEGORIES:Agropecuário,Comercial e Industrial
END:VEVENT
BEGIN:VEVENT
DTSTART;TZID=UTC:20260422T000000
DTEND;TZID=UTC:20260424T000000
DTSTAMP:20260423T023926
CREATED:20260417T155621Z
LAST-MODIFIED:20260422T001404Z
UID:996899-1776816000-1776988800@www.lcaviagens.com.br
SUMMARY:SC Trade Show (Abril)
DESCRIPTION:Setores Têxtil e Têxtil Confeccionista
URL:https://www.lcaviagens.com.br/eventos/sc-trade-show-abril/
LOCATION:Expocentro Balneário Camboriú\, Balneário Camboriú\, SC
CATEGORIES:Setores Têxtil e Têxtil Confeccionista
END:VEVENT
BEGIN:VEVENT
DTSTART;TZID=UTC:20260422T000000
DTEND;TZID=UTC:20260424T000000
DTSTAMP:20260423T023926
CREATED:20260417T155622Z
LAST-MODIFIED:20260422T001404Z
UID:996900-1776816000-1776988800@www.lcaviagens.com.br
SUMMARY:NN LOGÍSTICA - Feira Internacional e Congresso de Logística Intermodal Fluvial (Antiga: Navegistic Manaus)
DESCRIPTION:Setores Automotivo e Nautico
URL:https://www.lcaviagens.com.br/eventos/nn-logistica-feira-internacional-e-congresso-de-logistica-intermodal-fluvial-antiga-navegistic-manaus/
LOCATION:Centro de Convenções do Amazonas Vasco Vasques\, Manaus\, SP
CATEGORIES:Setores Automotivo e Nautico
END:VEVENT
BEGIN:VEVENT
DTSTART;TZID=UTC:20260422T000000
DTEND;TZID=UTC:20260425T000000
DTSTAMP:20260423T023926
CREATED:20260417T155637Z
LAST-MODIFIED:20260422T001419Z
UID:996901-1776816000-1777075200@www.lcaviagens.com.br
SUMMARY:FLORIPA QUILT - Festival de Patchwork e Afins
DESCRIPTION:Artesanato\, Artes e Coleções
URL:https://www.lcaviagens.com.br/eventos/floripa-quilt-festival-de-patchwork-e-afins/
LOCATION:Associação Catarinense de Medicina (ACM)\, Florianópolis\, SC
CATEGORIES:Artes e Coleções,Artesanato
END:VEVENT
BEGIN:VEVENT
DTSTART;TZID=UTC:20260422T000000
DTEND;TZID=UTC:20260425T000000
DTSTAMP:20260423T023926
CREATED:20260417T155637Z
LAST-MODIFIED:20260422T001419Z
UID:996902-1776816000-1777075200@www.lcaviagens.com.br
SUMMARY:FJT 2026 - Festival do Jeans de Toritama (Festival do Jeans 2026)
DESCRIPTION:Setores Têxtil e Têxtil Confeccionista
URL:https://www.lcaviagens.com.br/eventos/fjt-2026-festival-do-jeans-de-toritama-festival-do-jeans-2026/
LOCATION:Parque das Feiras\, Toritama\, PE
CATEGORIES:Setores Têxtil e Têxtil Confeccionista
END:VEVENT
BEGIN:VEVENT
DTSTART;TZID=UTC:20260422T000000
DTEND;TZID=UTC:20260426T000000
DTSTAMP:20260423T023926
CREATED:20260417T155637Z
LAST-MODIFIED:20260422T001419Z
UID:996903-1776816000-1777161600@www.lcaviagens.com.br
SUMMARY:Connection Experience (Connection Terroirs do Brasil e Conexões Internacionais)
DESCRIPTION:Turismo\, Hotéis\, Bares e Restaurantes
URL:https://www.lcaviagens.com.br/eventos/connection-experience-connection-terroirs-do-brasil-e-conexoes-internacionais/
LOCATION:Gramado\, Gramado\, RS
CATEGORIES:Bares e Restaurantes,Hotéis,Turismo
END:VEVENT
BEGIN:VEVENT
DTSTART;TZID=UTC:20260423T000000
DTEND;TZID=UTC:20260424T000000
DTSTAMP:20260423T023926
CREATED:20260417T155706Z
LAST-MODIFIED:20260422T001449Z
UID:996914-1776902400-1776988800@www.lcaviagens.com.br
SUMMARY:MTM - Minas Travel Market (antigo:Salão de Turismo da Abav-MG)
DESCRIPTION:Turismo\, Hotéis\, Bares e Restaurantes
URL:https://www.lcaviagens.com.br/eventos/mtm-minas-travel-market-antigosalao-de-turismo-da-abav-mg/
LOCATION:Minascentro\, Belo Horizonte\, MG
CATEGORIES:Bares e Restaurantes,Hotéis,Turismo
END:VEVENT
BEGIN:VEVENT
DTSTART;TZID=UTC:20260423T000000
DTEND;TZID=UTC:20260424T000000
DTSTAMP:20260423T023926
CREATED:20260417T155706Z
LAST-MODIFIED:20260422T001449Z
UID:996915-1776902400-1776988800@www.lcaviagens.com.br
SUMMARY:TDC SUMMIT SÃO PAULO - The Developers Conference
DESCRIPTION:Novas Tecnologias\, Invenções e Inovações
URL:https://www.lcaviagens.com.br/eventos/tdc-summit-sao-paulo-the-developers-conference/
LOCATION:Distrito Anhembi\, São Paulo\, SP
CATEGORIES:Invenções e Inovações,Novas Tecnologias
END:VEVENT
BEGIN:VEVENT
DTSTART;TZID=UTC:20260423T000000
DTEND;TZID=UTC:20260424T000000
DTSTAMP:20260423T023926
CREATED:20260417T155706Z
LAST-MODIFIED:20260422T001449Z
UID:996913-1776902400-1776988800@www.lcaviagens.com.br
SUMMARY:Imersão Indústria 2026
DESCRIPTION:Tecnologia Industrial
URL:https://www.lcaviagens.com.br/eventos/imersao-industria-2026/
LOCATION:BH Shopping\, Belo Horizonte\, MG
CATEGORIES:Tecnologia Industrial
END:VEVENT
BEGIN:VEVENT
DTSTART;TZID=UTC:20260423T000000
DTEND;TZID=UTC:20260425T000000
DTSTAMP:20260423T023926
CREATED:20260417T155651Z
LAST-MODIFIED:20260422T001434Z
UID:996906-1776902400-1777075200@www.lcaviagens.com.br
SUMMARY:CISP - Congresso Internacional São Paulo de Cirurgia Vascular e Endovascular
DESCRIPTION:Saúde: Tecnologia\, Equipamentos e Pesquisa
URL:https://www.lcaviagens.com.br/eventos/cisp-congresso-internacional-sao-paulo-de-cirurgia-vascular-e-endovascular/
LOCATION:Centro de Convenções Rebouças\, São Paulo\, SP
CATEGORIES:Equipamentos e Pesquisa,Saúde: Tecnologia
END:VEVENT
BEGIN:VEVENT
DTSTART;TZID=UTC:20260423T000000
DTEND;TZID=UTC:20260425T000000
DTSTAMP:20260423T023926
CREATED:20260417T161209Z
LAST-MODIFIED:20260422T003004Z
UID:997211-1776902400-1777075200@www.lcaviagens.com.br
SUMMARY:Jornada Sul Brasileira de Cirurgia Plástica
DESCRIPTION:Saúde: Tecnologia\, Equipamentos e Pesquisa
URL:https://www.lcaviagens.com.br/eventos/jornada-sul-brasileira-de-cirurgia-plastica/
LOCATION:Hilton Porto Alegre\, Porto Alegre\, RS
CATEGORIES:Equipamentos e Pesquisa,Saúde: Tecnologia
END:VEVENT
BEGIN:VEVENT
DTSTART;TZID=UTC:20260423T000000
DTEND;TZID=UTC:20260426T000000
DTSTAMP:20260423T023926
CREATED:20260417T155651Z
LAST-MODIFIED:20260422T001434Z
UID:996908-1776902400-1777161600@www.lcaviagens.com.br
SUMMARY:COPA 2026 - Congresso Paulista de Anestesiologia
DESCRIPTION:Saúde: Tecnologia\, Equipamentos e Pesquisa
URL:https://www.lcaviagens.com.br/eventos/copa-2026-congresso-paulista-de-anestesiologia/
LOCATION:Transamérica Expo Center\, São Paulo\, SP
CATEGORIES:Equipamentos e Pesquisa,Saúde: Tecnologia
END:VEVENT
BEGIN:VEVENT
DTSTART;TZID=UTC:20260423T000000
DTEND;TZID=UTC:20260426T000000
DTSTAMP:20260423T023926
CREATED:20260417T155651Z
LAST-MODIFIED:20260422T001434Z
UID:996907-1776902400-1777161600@www.lcaviagens.com.br
SUMMARY:Rodeio da Jagua - Feira Agropecuária da Agricultura Familiar e Artesanato
DESCRIPTION:Agropecuário\, Comercial e Industrial
URL:https://www.lcaviagens.com.br/eventos/rodeio-da-jagua-feira-agropecuaria-da-agricultura-familiar-e-artesanato/
LOCATION:CTG Estância do Retiro\, Jaguaruna\, SC
CATEGORIES:Agropecuário,Comercial e Industrial
END:VEVENT
BEGIN:VEVENT
DTSTART;TZID=UTC:20260423T000000
DTEND;TZID=UTC:20260426T000000
DTSTAMP:20260423T023926
CREATED:20260417T155652Z
LAST-MODIFIED:20260422T001434Z
UID:996909-1776902400-1777161600@www.lcaviagens.com.br
SUMMARY:JASB - Jornada de Anestesiologia do Sudeste Brasileiro
DESCRIPTION:Saúde: Tecnologia\, Equipamentos e Pesquisa
URL:https://www.lcaviagens.com.br/eventos/jasb-jornada-de-anestesiologia-do-sudeste-brasileiro/
LOCATION:Transamérica Expo Center\, São Paulo\, SP
CATEGORIES:Equipamentos e Pesquisa,Saúde: Tecnologia
END:VEVENT
BEGIN:VEVENT
DTSTART;TZID=UTC:20260423T000000
DTEND;TZID=UTC:20260426T000000
DTSTAMP:20260423T023926
CREATED:20260417T155652Z
LAST-MODIFIED:20260422T001434Z
UID:996910-1776902400-1777161600@www.lcaviagens.com.br
SUMMARY:EXPO ITAJUBÁ - Exposição Agropecuária de Itajubá
DESCRIPTION:Agropecuário\, Comercial e Industrial
URL:https://www.lcaviagens.com.br/eventos/expo-itajuba-exposicao-agropecuaria-de-itajuba/
LOCATION:Parque de Exposições Aureliano Chaves\, Itajubá\, MG
CATEGORIES:Agropecuário,Comercial e Industrial
END:VEVENT
BEGIN:VEVENT
DTSTART;TZID=UTC:20260423T000000
DTEND;TZID=UTC:20260426T000000
DTSTAMP:20260423T023926
CREATED:20260417T155706Z
LAST-MODIFIED:20260422T001449Z
UID:996911-1776902400-1777161600@www.lcaviagens.com.br
SUMMARY:Congresso de Fisioterapia Neonatal e Pediátrica
DESCRIPTION:Saúde: Tecnologia\, Equipamentos e Pesquisa
URL:https://www.lcaviagens.com.br/eventos/congresso-de-fisioterapia-neonatal-e-pediatrica/
LOCATION:Mar Hotel Conventions\, Recife\, PE
CATEGORIES:Equipamentos e Pesquisa,Saúde: Tecnologia
END:VEVENT
BEGIN:VEVENT
DTSTART;TZID=UTC:20260423T000000
DTEND;TZID=UTC:20260426T000000
DTSTAMP:20260423T023926
CREATED:20260417T161209Z
LAST-MODIFIED:20260422T003004Z
UID:997212-1776902400-1777161600@www.lcaviagens.com.br
SUMMARY:MARA CAKES FAIR 2026 - Feira Internacional de Confeitaria (São Paulo)
DESCRIPTION:Alimentos e Bebidas
URL:https://www.lcaviagens.com.br/eventos/mara-cakes-fair-2026-feira-internacional-de-confeitaria-sao-paulo/
LOCATION:São Paulo Expo Exhibition & Convention Center\, São Paulo\, SP
CATEGORIES:Alimentos e Bebidas
END:VEVENT
END:VCALENDAR