BEGIN:VCALENDAR
VERSION:2.0
PRODID:-//LCA  - ECPv6.15.20//NONSGML v1.0//EN
CALSCALE:GREGORIAN
METHOD:PUBLISH
X-WR-CALNAME:LCA 
X-ORIGINAL-URL:https://www.lcaviagens.com.br
X-WR-CALDESC:Eventos para LCA 
REFRESH-INTERVAL;VALUE=DURATION:PT1H
X-Robots-Tag:noindex
X-PUBLISHED-TTL:PT1H
BEGIN:VTIMEZONE
TZID:UTC
BEGIN:STANDARD
TZOFFSETFROM:+0000
TZOFFSETTO:+0000
TZNAME:UTC
DTSTART:20250101T000000
END:STANDARD
END:VTIMEZONE
BEGIN:VEVENT
DTSTART;TZID=UTC:20260301T000000
DTEND;TZID=UTC:20260503T000000
DTSTAMP:20260422T190651
CREATED:20260417T152820Z
LAST-MODIFIED:20260421T234604Z
UID:996341-1772323200-1777766400@www.lcaviagens.com.br
SUMMARY:Vindima de Altitude (Vindima de Altitude de Santa Catarina)
DESCRIPTION:Alimentos e Bebidas
URL:https://www.lcaviagens.com.br/eventos/vindima-de-altitude-vindima-de-altitude-de-santa-catarina/
LOCATION:São Joaquim\, São Joaquim\, SC
CATEGORIES:Alimentos e Bebidas
END:VEVENT
BEGIN:VEVENT
DTSTART;TZID=UTC:20260325T000000
DTEND;TZID=UTC:20260430T000000
DTSTAMP:20260422T190651
CREATED:20260417T154406Z
LAST-MODIFIED:20260422T000204Z
UID:996658-1774396800-1777507200@www.lcaviagens.com.br
SUMMARY:BAB 2026 - Bienal de Arquitetura Brasileira
DESCRIPTION:Habitação\, Condomínios e Imóveis em Geral
URL:https://www.lcaviagens.com.br/eventos/bab-2026-bienal-de-arquitetura-brasileira/
LOCATION:Parque do Ibirapuera – Pavilhão das Culturas Brasileiras\, São Paulo\, SP
CATEGORIES:Condomínios e Imóveis em Geral,Habitação
END:VEVENT
BEGIN:VEVENT
DTSTART;TZID=UTC:20260326T000000
DTEND;TZID=UTC:20260426T000000
DTSTAMP:20260422T190651
CREATED:20260417T154506Z
LAST-MODIFIED:20260422T000304Z
UID:996677-1774483200-1777161600@www.lcaviagens.com.br
SUMMARY:Espírito Santo RW - Espírito Santo Restaurant Week
DESCRIPTION:Alimentos e Bebidas
URL:https://www.lcaviagens.com.br/eventos/espirito-santo-rw-espirito-santo-restaurant-week/
LOCATION:Vitória / Serra / Vila Velha / Cariacica\, Vitória\, ES
CATEGORIES:Alimentos e Bebidas
END:VEVENT
BEGIN:VEVENT
DTSTART;TZID=UTC:20260326T000000
DTEND;TZID=UTC:20260426T000000
DTSTAMP:20260422T190651
CREATED:20260417T154506Z
LAST-MODIFIED:20260422T000304Z
UID:996678-1774483200-1777161600@www.lcaviagens.com.br
SUMMARY:Campinas RW - Campinas Restaurant Week (Março)
DESCRIPTION:Alimentos e Bebidas
URL:https://www.lcaviagens.com.br/eventos/campinas-rw-campinas-restaurant-week-marco/
LOCATION:Campinas\, Campinas\, SP
CATEGORIES:Alimentos e Bebidas
END:VEVENT
BEGIN:VEVENT
DTSTART;TZID=UTC:20260328T000000
DTEND;TZID=UTC:20260430T000000
DTSTAMP:20260422T190651
CREATED:20260417T154621Z
LAST-MODIFIED:20260422T000419Z
UID:996701-1774656000-1777507200@www.lcaviagens.com.br
SUMMARY:Salão Anual de Arte de Paraty
DESCRIPTION:Artesanato\, Artes e Coleções
URL:https://www.lcaviagens.com.br/eventos/salao-anual-de-arte-de-paraty/
LOCATION:Galeria Platô 18\, Paraty\, RJ
CATEGORIES:Artes e Coleções,Artesanato
END:VEVENT
BEGIN:VEVENT
DTSTART;TZID=UTC:20260416T000000
DTEND;TZID=UTC:20260426T000000
DTSTAMP:20260422T190651
CREATED:20260417T155406Z
LAST-MODIFIED:20260422T001148Z
UID:996854-1776297600-1777161600@www.lcaviagens.com.br
SUMMARY:Festival de Kerb de Estância Velha
DESCRIPTION:Feiras Multisetoriais
URL:https://www.lcaviagens.com.br/eventos/festival-de-kerb-de-estancia-velha/
LOCATION:Praça 1º de Maio\, Timóteo\, MG
CATEGORIES:Feiras Multisetoriais
END:VEVENT
BEGIN:VEVENT
DTSTART;TZID=UTC:20260419T000000
DTEND;TZID=UTC:20260423T000000
DTSTAMP:20260422T190651
CREATED:20260417T155507Z
LAST-MODIFIED:20260422T001249Z
UID:996875-1776556800-1776902400@www.lcaviagens.com.br
SUMMARY:WDB 2026 - World Creativity Day Brazil (Recife)
DESCRIPTION:Novas Tecnologias\, Invenções e Inovações
URL:https://www.lcaviagens.com.br/eventos/wdb-2026-world-creativity-day-brazil-recife/
LOCATION:Recife\, Recife\, PE
CATEGORIES:Invenções e Inovações,Novas Tecnologias
END:VEVENT
BEGIN:VEVENT
DTSTART;TZID=UTC:20260419T000000
DTEND;TZID=UTC:20260423T000000
DTSTAMP:20260422T190651
CREATED:20260417T155507Z
LAST-MODIFIED:20260422T001249Z
UID:996871-1776556800-1776902400@www.lcaviagens.com.br
SUMMARY:WDB 2026 - World Creativity Day Brazil (Porto Alegre)
DESCRIPTION:Novas Tecnologias\, Invenções e Inovações
URL:https://www.lcaviagens.com.br/eventos/wdb-2026-world-creativity-day-brazil-porto-alegre/
LOCATION:Porto Alegre\, Porto Alegre\, RS
CATEGORIES:Invenções e Inovações,Novas Tecnologias
END:VEVENT
BEGIN:VEVENT
DTSTART;TZID=UTC:20260419T000000
DTEND;TZID=UTC:20260423T000000
DTSTAMP:20260422T190651
CREATED:20260417T155507Z
LAST-MODIFIED:20260422T001249Z
UID:996872-1776556800-1776902400@www.lcaviagens.com.br
SUMMARY:WDB 2026 - World Creativity Day Brazil (São Paulo)
DESCRIPTION:Novas Tecnologias\, Invenções e Inovações
URL:https://www.lcaviagens.com.br/eventos/wdb-2026-world-creativity-day-brazil-sao-paulo/
LOCATION:São Paulo\, São Paulo\, SP
CATEGORIES:Invenções e Inovações,Novas Tecnologias
END:VEVENT
BEGIN:VEVENT
DTSTART;TZID=UTC:20260419T000000
DTEND;TZID=UTC:20260423T000000
DTSTAMP:20260422T190651
CREATED:20260417T155507Z
LAST-MODIFIED:20260422T001249Z
UID:996873-1776556800-1776902400@www.lcaviagens.com.br
SUMMARY:WDB 2026 - World Creativity Day Brazil (Brasília)
DESCRIPTION:Novas Tecnologias\, Invenções e Inovações
URL:https://www.lcaviagens.com.br/eventos/wdb-2026-world-creativity-day-brazil-brasilia/
LOCATION:Brasília\, Brasília\, DF
CATEGORIES:Invenções e Inovações,Novas Tecnologias
END:VEVENT
BEGIN:VEVENT
DTSTART;TZID=UTC:20260419T000000
DTEND;TZID=UTC:20260423T000000
DTSTAMP:20260422T190651
CREATED:20260417T155507Z
LAST-MODIFIED:20260422T001249Z
UID:996874-1776556800-1776902400@www.lcaviagens.com.br
SUMMARY:WDB 2026 - World Creativity Day Brazil (Salvador)
DESCRIPTION:Novas Tecnologias\, Invenções e Inovações
URL:https://www.lcaviagens.com.br/eventos/wdb-2026-world-creativity-day-brazil-salvador/
LOCATION:Salvador\, Salvador\, BA
CATEGORIES:Invenções e Inovações,Novas Tecnologias
END:VEVENT
BEGIN:VEVENT
DTSTART;TZID=UTC:20260419T000000
DTEND;TZID=UTC:20260423T000000
DTSTAMP:20260422T190651
CREATED:20260417T155521Z
LAST-MODIFIED:20260422T001304Z
UID:996876-1776556800-1776902400@www.lcaviagens.com.br
SUMMARY:WDB 2026 - World Creativity Day Brazil (Porto Velho)
DESCRIPTION:Novas Tecnologias\, Invenções e Inovações
URL:https://www.lcaviagens.com.br/eventos/wdb-2026-world-creativity-day-brazil-porto-velho/
LOCATION:Porto Velho\, Porto Velho\, RO
CATEGORIES:Invenções e Inovações,Novas Tecnologias
END:VEVENT
BEGIN:VEVENT
DTSTART;TZID=UTC:20260419T000000
DTEND;TZID=UTC:20260423T000000
DTSTAMP:20260422T190651
CREATED:20260417T155521Z
LAST-MODIFIED:20260422T001304Z
UID:996877-1776556800-1776902400@www.lcaviagens.com.br
SUMMARY:WDB 2026 - World Creativity Day Brazil (Palmas)
DESCRIPTION:Novas Tecnologias\, Invenções e Inovações
URL:https://www.lcaviagens.com.br/eventos/wdb-2026-world-creativity-day-brazil-palmas/
LOCATION:Palmas\, Palmas\, TO
CATEGORIES:Invenções e Inovações,Novas Tecnologias
END:VEVENT
BEGIN:VEVENT
DTSTART;TZID=UTC:20260419T000000
DTEND;TZID=UTC:20260423T000000
DTSTAMP:20260422T190651
CREATED:20260417T155521Z
LAST-MODIFIED:20260422T001304Z
UID:996878-1776556800-1776902400@www.lcaviagens.com.br
SUMMARY:WDB 2026 - World Creativity Day Brazil (Manaus)
DESCRIPTION:Novas Tecnologias\, Invenções e Inovações
URL:https://www.lcaviagens.com.br/eventos/wdb-2026-world-creativity-day-brazil-manaus/
LOCATION:Manaus\, Manaus\, AM
CATEGORIES:Invenções e Inovações,Novas Tecnologias
END:VEVENT
BEGIN:VEVENT
DTSTART;TZID=UTC:20260419T000000
DTEND;TZID=UTC:20260423T000000
DTSTAMP:20260422T190651
CREATED:20260417T155521Z
LAST-MODIFIED:20260422T001304Z
UID:996879-1776556800-1776902400@www.lcaviagens.com.br
SUMMARY:WDB 2026 - World Creativity Day Brazil (Joinville)
DESCRIPTION:Novas Tecnologias\, Invenções e Inovações
URL:https://www.lcaviagens.com.br/eventos/wdb-2026-world-creativity-day-brazil-joinville/
LOCATION:Joinville\, Joinville\, SC
CATEGORIES:Invenções e Inovações,Novas Tecnologias
END:VEVENT
BEGIN:VEVENT
DTSTART;TZID=UTC:20260419T000000
DTEND;TZID=UTC:20260423T000000
DTSTAMP:20260422T190651
CREATED:20260417T155521Z
LAST-MODIFIED:20260422T001304Z
UID:996880-1776556800-1776902400@www.lcaviagens.com.br
SUMMARY:WDB 2026 - World Creativity Day Brazil (Florianópolis)
DESCRIPTION:Novas Tecnologias\, Invenções e Inovações
URL:https://www.lcaviagens.com.br/eventos/wdb-2026-world-creativity-day-brazil-florianopolis/
LOCATION:Florianópolis\, Florianópolis\, SC
CATEGORIES:Invenções e Inovações,Novas Tecnologias
END:VEVENT
BEGIN:VEVENT
DTSTART;TZID=UTC:20260419T000000
DTEND;TZID=UTC:20260423T000000
DTSTAMP:20260422T190651
CREATED:20260417T155536Z
LAST-MODIFIED:20260422T001319Z
UID:996881-1776556800-1776902400@www.lcaviagens.com.br
SUMMARY:WDB 2026 - World Creativity Day Brazil (Curitiba)
DESCRIPTION:Novas Tecnologias\, Invenções e Inovações
URL:https://www.lcaviagens.com.br/eventos/wdb-2026-world-creativity-day-brazil-curitiba/
LOCATION:Curitiba\, Curitiba\, PR
CATEGORIES:Invenções e Inovações,Novas Tecnologias
END:VEVENT
BEGIN:VEVENT
DTSTART;TZID=UTC:20260419T000000
DTEND;TZID=UTC:20260423T000000
DTSTAMP:20260422T190651
CREATED:20260417T155536Z
LAST-MODIFIED:20260422T001319Z
UID:996882-1776556800-1776902400@www.lcaviagens.com.br
SUMMARY:WDB 2026 - World Creativity Day Brazil (Cuiabá)
DESCRIPTION:Novas Tecnologias\, Invenções e Inovações
URL:https://www.lcaviagens.com.br/eventos/wdb-2026-world-creativity-day-brazil-cuiaba/
LOCATION:Cuiabá\, Cuiabá\, MT
CATEGORIES:Invenções e Inovações,Novas Tecnologias
END:VEVENT
BEGIN:VEVENT
DTSTART;TZID=UTC:20260419T000000
DTEND;TZID=UTC:20260423T000000
DTSTAMP:20260422T190651
CREATED:20260417T155536Z
LAST-MODIFIED:20260422T001319Z
UID:996883-1776556800-1776902400@www.lcaviagens.com.br
SUMMARY:WDB 2026 - World Creativity Day Brazil (Campinas)
DESCRIPTION:Novas Tecnologias\, Invenções e Inovações
URL:https://www.lcaviagens.com.br/eventos/wdb-2026-world-creativity-day-brazil-campinas/
LOCATION:Campinas\, Campinas\, SP
CATEGORIES:Invenções e Inovações,Novas Tecnologias
END:VEVENT
BEGIN:VEVENT
DTSTART;TZID=UTC:20260419T000000
DTEND;TZID=UTC:20260423T000000
DTSTAMP:20260422T190651
CREATED:20260417T155536Z
LAST-MODIFIED:20260422T001319Z
UID:996884-1776556800-1776902400@www.lcaviagens.com.br
SUMMARY:WDB 2026 - World Creativity Day Brazil (Belo Horizonte)
DESCRIPTION:Novas Tecnologias\, Invenções e Inovações
URL:https://www.lcaviagens.com.br/eventos/wdb-2026-world-creativity-day-brazil-belo-horizonte/
LOCATION:Belo Horizonte\, Belo Horizonte\, GO
CATEGORIES:Invenções e Inovações,Novas Tecnologias
END:VEVENT
BEGIN:VEVENT
DTSTART;TZID=UTC:20260419T000000
DTEND;TZID=UTC:20260423T000000
DTSTAMP:20260422T190651
CREATED:20260417T155536Z
LAST-MODIFIED:20260422T001319Z
UID:996885-1776556800-1776902400@www.lcaviagens.com.br
SUMMARY:WDB 2026 - World Creativity Day Brazil (Belém)
DESCRIPTION:Novas Tecnologias\, Invenções e Inovações
URL:https://www.lcaviagens.com.br/eventos/wdb-2026-world-creativity-day-brazil-belem/
LOCATION:Belém\, Belém\, PA
CATEGORIES:Invenções e Inovações,Novas Tecnologias
END:VEVENT
BEGIN:VEVENT
DTSTART;TZID=UTC:20260419T000000
DTEND;TZID=UTC:20260423T000000
DTSTAMP:20260422T190651
CREATED:20260417T155551Z
LAST-MODIFIED:20260422T001334Z
UID:996886-1776556800-1776902400@www.lcaviagens.com.br
SUMMARY:WDB 2026 - World Creativity Day Brazil (Aracaju)
DESCRIPTION:Novas Tecnologias\, Invenções e Inovações
URL:https://www.lcaviagens.com.br/eventos/wdb-2026-world-creativity-day-brazil-aracaju/
LOCATION:Aracaju\, Aracaju\, SE
CATEGORIES:Invenções e Inovações,Novas Tecnologias
END:VEVENT
BEGIN:VEVENT
DTSTART;TZID=UTC:20260419T000000
DTEND;TZID=UTC:20260423T000000
DTSTAMP:20260422T190651
CREATED:20260417T155551Z
LAST-MODIFIED:20260422T001334Z
UID:996887-1776556800-1776902400@www.lcaviagens.com.br
SUMMARY:WDB 2026 - World Creativity Day Brazil (Maceió)
DESCRIPTION:Novas Tecnologias\, Invenções e Inovações
URL:https://www.lcaviagens.com.br/eventos/wdb-2026-world-creativity-day-brazil-maceio/
LOCATION:Maceió\, Maceió\, AL
CATEGORIES:Invenções e Inovações,Novas Tecnologias
END:VEVENT
BEGIN:VEVENT
DTSTART;TZID=UTC:20260419T000000
DTEND;TZID=UTC:20260423T000000
DTSTAMP:20260422T190651
CREATED:20260417T155552Z
LAST-MODIFIED:20260422T001334Z
UID:996888-1776556800-1776902400@www.lcaviagens.com.br
SUMMARY:WDB 2026 - World Creativity Day Brazil (Maringá)
DESCRIPTION:Novas Tecnologias\, Invenções e Inovações
URL:https://www.lcaviagens.com.br/eventos/wdb-2026-world-creativity-day-brazil-maringa/
LOCATION:Maringá\, Maringá\, PR
CATEGORIES:Invenções e Inovações,Novas Tecnologias
END:VEVENT
BEGIN:VEVENT
DTSTART;TZID=UTC:20260419T000000
DTEND;TZID=UTC:20260423T000000
DTSTAMP:20260422T190651
CREATED:20260417T155552Z
LAST-MODIFIED:20260422T001334Z
UID:996889-1776556800-1776902400@www.lcaviagens.com.br
SUMMARY:WDB 2026 - World Creativity Day Brazil (Rio Branco)
DESCRIPTION:Novas Tecnologias\, Invenções e Inovações
URL:https://www.lcaviagens.com.br/eventos/wdb-2026-world-creativity-day-brazil-rio-branco/
LOCATION:Rio Branco\, Rio Branco\, AC
CATEGORIES:Invenções e Inovações,Novas Tecnologias
END:VEVENT
BEGIN:VEVENT
DTSTART;TZID=UTC:20260419T000000
DTEND;TZID=UTC:20260425T000000
DTSTAMP:20260422T190651
CREATED:20260417T155552Z
LAST-MODIFIED:20260422T001334Z
UID:996890-1776556800-1777075200@www.lcaviagens.com.br
SUMMARY:EXPOMIRACEMA - Exposição Agropecuária de Miracema do Tocantins (Expo Miracema)
DESCRIPTION:Agropecuário\, Comercial e Industrial
URL:https://www.lcaviagens.com.br/eventos/expomiracema-exposicao-agropecuaria-de-miracema-do-tocantins-expo-miracema/
LOCATION:Parque de Exposições\, Ponte Alta do Bom Jesus\, TO
CATEGORIES:Agropecuário,Comercial e Industrial
END:VEVENT
BEGIN:VEVENT
DTSTART;TZID=UTC:20260421T000000
DTEND;TZID=UTC:20260423T000000
DTSTAMP:20260422T190651
CREATED:20260417T155606Z
LAST-MODIFIED:20260422T001350Z
UID:996894-1776729600-1776902400@www.lcaviagens.com.br
SUMMARY:Master Meeting Soja 2026
DESCRIPTION:Agropecuário\, Comercial e Industrial
URL:https://www.lcaviagens.com.br/eventos/master-meeting-soja-2026/
LOCATION:Centro de Eventos do Pantanal\, Cuiabá\, MT
CATEGORIES:Agropecuário,Comercial e Industrial
END:VEVENT
BEGIN:VEVENT
DTSTART;TZID=UTC:20260421T000000
DTEND;TZID=UTC:20260424T000000
DTSTAMP:20260422T190651
CREATED:20260417T155607Z
LAST-MODIFIED:20260422T001350Z
UID:996895-1776729600-1776988800@www.lcaviagens.com.br
SUMMARY:Norte Show 2026
DESCRIPTION:Agropecuário\, Comercial e Industrial
URL:https://www.lcaviagens.com.br/eventos/norte-show-2026/
LOCATION:Parque de Exposições de Sinop\, Sinop\, MT
CATEGORIES:Agropecuário,Comercial e Industrial
END:VEVENT
BEGIN:VEVENT
DTSTART;TZID=UTC:20260422T000000
DTEND;TZID=UTC:20260423T000000
DTSTAMP:20260422T190651
CREATED:20260417T155637Z
LAST-MODIFIED:20260422T001419Z
UID:996904-1776816000-1776902400@www.lcaviagens.com.br
SUMMARY:AI Summit Brasil 2026 (Salvador)
DESCRIPTION:Novas Tecnologias\, Invenções e Inovações
URL:https://www.lcaviagens.com.br/eventos/ai-summit-brasil-2026-salvador/
LOCATION:Senai Cimatec\, Salvador\, BA
CATEGORIES:Invenções e Inovações,Novas Tecnologias
END:VEVENT
BEGIN:VEVENT
DTSTART;TZID=UTC:20260422T000000
DTEND;TZID=UTC:20260423T000000
DTSTAMP:20260422T190651
CREATED:20260417T155637Z
LAST-MODIFIED:20260422T001419Z
UID:996905-1776816000-1776902400@www.lcaviagens.com.br
SUMMARY:Maratona Supply Chain 2026 (Maratona de Supply Chain - Inbrasc)
DESCRIPTION:Logística\, Transporte e Armazenagem
URL:https://www.lcaviagens.com.br/eventos/maratona-supply-chain-2026-maratona-de-supply-chain-inbrasc/
LOCATION:Centro de Convenções Frei Caneca\, São Paulo\, SP
CATEGORIES:Logística,Transporte e Armazenagem
END:VEVENT
END:VCALENDAR