BEGIN:VCALENDAR
VERSION:2.0
PRODID:-//LCA  - ECPv6.15.20//NONSGML v1.0//EN
CALSCALE:GREGORIAN
METHOD:PUBLISH
X-WR-CALNAME:LCA 
X-ORIGINAL-URL:https://www.lcaviagens.com.br
X-WR-CALDESC:Eventos para LCA 
REFRESH-INTERVAL;VALUE=DURATION:PT1H
X-Robots-Tag:noindex
X-PUBLISHED-TTL:PT1H
BEGIN:VTIMEZONE
TZID:UTC
BEGIN:STANDARD
TZOFFSETFROM:+0000
TZOFFSETTO:+0000
TZNAME:UTC
DTSTART:20250101T000000
END:STANDARD
END:VTIMEZONE
BEGIN:VEVENT
DTSTART;TZID=UTC:20260301T000000
DTEND;TZID=UTC:20260503T000000
DTSTAMP:20260425T133242
CREATED:20260417T152820Z
LAST-MODIFIED:20260421T234604Z
UID:996341-1772323200-1777766400@www.lcaviagens.com.br
SUMMARY:Vindima de Altitude (Vindima de Altitude de Santa Catarina)
DESCRIPTION:Alimentos e Bebidas
URL:https://www.lcaviagens.com.br/eventos/vindima-de-altitude-vindima-de-altitude-de-santa-catarina/
LOCATION:São Joaquim\, São Joaquim\, SC
CATEGORIES:Alimentos e Bebidas
END:VEVENT
BEGIN:VEVENT
DTSTART;TZID=UTC:20260302T000000
DTEND;TZID=UTC:20260416T000000
DTSTAMP:20260425T133242
CREATED:20260417T152835Z
LAST-MODIFIED:20260421T234619Z
UID:996346-1772409600-1776297600@www.lcaviagens.com.br
SUMMARY:SAP House 2026
DESCRIPTION:Informática\, Telecomunicações e TI
URL:https://www.lcaviagens.com.br/eventos/sap-house-2026/
LOCATION:SAP House\, São Paulo\, SP
CATEGORIES:Informática,Telecomunicações e TI
END:VEVENT
BEGIN:VEVENT
DTSTART;TZID=UTC:20260312T000000
DTEND;TZID=UTC:20260412T000000
DTSTAMP:20260425T133242
CREATED:20260417T153436Z
LAST-MODIFIED:20260421T235234Z
UID:996469-1773273600-1775952000@www.lcaviagens.com.br
SUMMARY:Goiânia RW - Goiânia Restaurant Week 2026 (Março)
DESCRIPTION:Alimentos e Bebidas
URL:https://www.lcaviagens.com.br/eventos/goiania-rw-goiania-restaurant-week-2026-marco/
LOCATION:Goiânia\, Goiânia\, GO
CATEGORIES:Alimentos e Bebidas
END:VEVENT
BEGIN:VEVENT
DTSTART;TZID=UTC:20260312T000000
DTEND;TZID=UTC:20260412T000000
DTSTAMP:20260425T133242
CREATED:20260418T021949Z
LAST-MODIFIED:20260421T235234Z
UID:1000212-1773273600-1775952000@www.lcaviagens.com.br
SUMMARY:ChocoPáscoa Gramado 2026 (Choco Páscoa Gramado)
DESCRIPTION:Turismo\, Hotéis\, Bares e Restaurantes
URL:https://www.lcaviagens.com.br/eventos/chocopascoa-gramado-2026-choco-pascoa-gramado/
LOCATION:Gramado\, Gramado\, RS
CATEGORIES:Bares e Restaurantes,Hotéis,Turismo
END:VEVENT
BEGIN:VEVENT
DTSTART;TZID=UTC:20260325T000000
DTEND;TZID=UTC:20260430T000000
DTSTAMP:20260425T133242
CREATED:20260417T154406Z
LAST-MODIFIED:20260422T000204Z
UID:996658-1774396800-1777507200@www.lcaviagens.com.br
SUMMARY:BAB 2026 - Bienal de Arquitetura Brasileira
DESCRIPTION:Habitação\, Condomínios e Imóveis em Geral
URL:https://www.lcaviagens.com.br/eventos/bab-2026-bienal-de-arquitetura-brasileira/
LOCATION:Parque do Ibirapuera – Pavilhão das Culturas Brasileiras\, São Paulo\, SP
CATEGORIES:Condomínios e Imóveis em Geral,Habitação
END:VEVENT
BEGIN:VEVENT
DTSTART;TZID=UTC:20260326T000000
DTEND;TZID=UTC:20260426T000000
DTSTAMP:20260425T133242
CREATED:20260417T154506Z
LAST-MODIFIED:20260422T000304Z
UID:996678-1774483200-1777161600@www.lcaviagens.com.br
SUMMARY:Campinas RW - Campinas Restaurant Week (Março)
DESCRIPTION:Alimentos e Bebidas
URL:https://www.lcaviagens.com.br/eventos/campinas-rw-campinas-restaurant-week-marco/
LOCATION:Campinas\, Campinas\, SP
CATEGORIES:Alimentos e Bebidas
END:VEVENT
BEGIN:VEVENT
DTSTART;TZID=UTC:20260326T000000
DTEND;TZID=UTC:20260426T000000
DTSTAMP:20260425T133242
CREATED:20260417T154506Z
LAST-MODIFIED:20260422T000304Z
UID:996677-1774483200-1777161600@www.lcaviagens.com.br
SUMMARY:Espírito Santo RW - Espírito Santo Restaurant Week
DESCRIPTION:Alimentos e Bebidas
URL:https://www.lcaviagens.com.br/eventos/espirito-santo-rw-espirito-santo-restaurant-week/
LOCATION:Vitória / Serra / Vila Velha / Cariacica\, Vitória\, ES
CATEGORIES:Alimentos e Bebidas
END:VEVENT
BEGIN:VEVENT
DTSTART;TZID=UTC:20260328T000000
DTEND;TZID=UTC:20260430T000000
DTSTAMP:20260425T133242
CREATED:20260417T154621Z
LAST-MODIFIED:20260422T000419Z
UID:996701-1774656000-1777507200@www.lcaviagens.com.br
SUMMARY:Salão Anual de Arte de Paraty
DESCRIPTION:Artesanato\, Artes e Coleções
URL:https://www.lcaviagens.com.br/eventos/salao-anual-de-arte-de-paraty/
LOCATION:Galeria Platô 18\, Paraty\, RJ
CATEGORIES:Artes e Coleções,Artesanato
END:VEVENT
BEGIN:VEVENT
DTSTART;TZID=UTC:20260330T000000
DTEND;TZID=UTC:20260412T000000
DTSTAMP:20260425T133242
CREATED:20260417T154706Z
LAST-MODIFIED:20260422T000503Z
UID:996716-1774828800-1775952000@www.lcaviagens.com.br
SUMMARY:Festival de Curitiba 2026
DESCRIPTION:Cultura e Educação
URL:https://www.lcaviagens.com.br/eventos/festival-de-curitiba-2026/
LOCATION:Curitiba\, Curitiba\, PR
CATEGORIES:Cultura e Educação
END:VEVENT
BEGIN:VEVENT
DTSTART;TZID=UTC:20260402T000000
DTEND;TZID=UTC:20260412T000000
DTSTAMP:20260425T133242
CREATED:20260417T154736Z
LAST-MODIFIED:20260422T000534Z
UID:996729-1775088000-1775952000@www.lcaviagens.com.br
SUMMARY:Feira da Loucura por Sapatos (Feira Loucura por Sapatos) (Abril)
DESCRIPTION:Couro: Tecnologia\, Calçados e Artefatos
URL:https://www.lcaviagens.com.br/eventos/feira-da-loucura-por-sapatos-feira-loucura-por-sapatos-abril/
LOCATION:Fenac – Centro de Eventos e Negócios\, Novo Hamburgo\, RS
CATEGORIES:Calçados e Artefatos,Couro: Tecnologia
END:VEVENT
BEGIN:VEVENT
DTSTART;TZID=UTC:20260402T000000
DTEND;TZID=UTC:20260412T000000
DTSTAMP:20260425T133242
CREATED:20260417T154736Z
LAST-MODIFIED:20260422T000534Z
UID:996730-1775088000-1775952000@www.lcaviagens.com.br
SUMMARY:Festival de Cervejas Artesanais (Abril)
DESCRIPTION:Alimentos e Bebidas
URL:https://www.lcaviagens.com.br/eventos/festival-de-cervejas-artesanais-abril/
LOCATION:Fenac – Centro de Eventos e Negócios\, Novo Hamburgo\, RS
CATEGORIES:Alimentos e Bebidas
END:VEVENT
BEGIN:VEVENT
DTSTART;TZID=UTC:20260404T000000
DTEND;TZID=UTC:20260406T000000
DTSTAMP:20260425T133242
CREATED:20260417T154751Z
LAST-MODIFIED:20260422T000548Z
UID:996731-1775260800-1775433600@www.lcaviagens.com.br
SUMMARY:EXPOCAMPOS - Exposição Agropecuária\, Indústria e Comércio (Expo Campos)
DESCRIPTION:Agropecuário\, Comercial e Industrial
URL:https://www.lcaviagens.com.br/eventos/expocampos-exposicao-agropecuaria-industria-e-comercio-expo-campos/
LOCATION:Parque de Exposições Leônidas Rupp\, Campos Novos\, SC
CATEGORIES:Agropecuário,Comercial e Industrial
END:VEVENT
BEGIN:VEVENT
DTSTART;TZID=UTC:20260404T000000
DTEND;TZID=UTC:20260412T000000
DTSTAMP:20260425T133242
CREATED:20260417T154751Z
LAST-MODIFIED:20260422T000549Z
UID:996733-1775260800-1775952000@www.lcaviagens.com.br
SUMMARY:COFAPI 20205- Festa do Peão de Inocência (Festa do Peão de Boiadeiro de Inocência)
DESCRIPTION:Agropecuário\, Comercial e Industrial
URL:https://www.lcaviagens.com.br/eventos/cofapi-20205-festa-do-peao-de-inocencia-festa-do-peao-de-boiadeiro-de-inocencia/
LOCATION:Parque de Exposições\, Ponte Alta do Bom Jesus\, TO
CATEGORIES:Agropecuário,Comercial e Industrial
END:VEVENT
BEGIN:VEVENT
DTSTART;TZID=UTC:20260404T000000
DTEND;TZID=UTC:20260413T000000
DTSTAMP:20260425T133242
CREATED:20260417T154751Z
LAST-MODIFIED:20260422T000549Z
UID:996734-1775260800-1776038400@www.lcaviagens.com.br
SUMMARY:EXPOLONDRINA - Exposição Agropecuária e Industrial de Londrina
DESCRIPTION:Agropecuário\, Comercial e Industrial
URL:https://www.lcaviagens.com.br/eventos/expolondrina-exposicao-agropecuaria-e-industrial-de-londrina/
LOCATION:Parque Governador Ney Braga\, Londrina\, PR
CATEGORIES:Agropecuário,Comercial e Industrial
END:VEVENT
END:VCALENDAR